Workbook
Name Classification_level: #REF!
Name Classification_level: #REF!
Name Classification_level: #REF!
Name Classification_level: #REF!
Name Classification_level: #REF!
Name Classification_level: #REF!
Name Classification_level: #REF!
Name Control1.1: #REF!
Name Control1.2: #REF!
Name Control1.3: #REF!
Name Control10.1: #REF!
Name Control11.1: #REF!
Name Control11.2: #REF!
Name Control11.3: #REF!
Name Control11.4: #REF!
Name Control12.1: #REF!
Name Control12.2: #REF!
Name Control12.3: #REF!
Name Control12.4: #REF!
Name Control12.5: #REF!
Name Control12.6: #REF!
Name Control12.7: #REF!
Name Control12.8: #REF!
Name Control12.9: #REF!
Name Control13.1: #REF!
Name Control13.2: #REF!
Name Control13.3: #REF!
Name Control13.4: #REF!
Name Control13.5: #REF!
Name Control14.1: #REF!
Name Control14.2: #REF!
Name Control14.3: #REF!
Name Control14.4: #REF!
Name Control15.1: #REF!
Name Control15.2: #REF!
Name Control16.1: #REF!
Name Control16.2: #REF!
Name Control17.1: #REF!
Name Control18.1: #REF!
Name Control18.2: #REF!
Name Control18.3: #REF!
Name Control18.4: #REF!
Name Control23.11.1: #REF!
Name Control23.11.1: #REF!
Name Control23.11.1: #REF!
Name Control23.11.1: #REF!
Name Control23.11.1: #REF!
Name Control23.11.1: #REF!
Name Control23.11.1: #REF!
Name Control23.11.1: #REF!
Name Control23.13.3: #REF!
Name Control23.13.3: #REF!
Name Control23.13.3: #REF!
Name Control23.13.3: #REF!
Name Control23.13.3: #REF!
Name Control23.13.3: #REF!
Name Control23.13.3: #REF!
Name Control23.13.3: #REF!
Name Control23.7.2: #REF!
Name Control23.7.2: #REF!

Sheet Willkommen
B1: Information Security Assessment
B3: Das ISA dient als Basis für - eine Selbstbewertung zur Bestimmung des Zustandes der Informationssicherheit in einer Organisation (z. B. Unternehmen) - Audits durch interne Fachabteilungen (z. B. interne Revision, Informationssicherheit) - Prüfungen nach TISAXⓇ (Trusted Information Security Assessment Exchange, https://enx.com/tisax/)
B5: Das ISA besteht aus mehreren Tabellenblättern, deren Inhalt und Funktion im Tabellenblatt „Definitionen“ erklärt wird. Die entsprechenden eigentlichen Anforderungen können den Tabellenblättern „Informationssicherheit“, „Prototypenschutz“ und „Datenschutz“ entnommen werden.
B7: Wir empfehlen, sich durch Nutzung des Tabellenblatts „Definitionen“ zunächst einen Überblick über die einzelnen ISA-Tabellenblätter zu verschaffen. Anschließend mit dem Tabellenblatt „Informationssicherheit“ beginnen. Die Verfasser dieses Dokuments wünschen Ihnen dabei viel Erfolg.
B8: Herausgeber: Verband der Automobilindustrie e. V. (VDA); Behrenstr. 35; 10117 Berlin; www.vda.de
B9: Möchten Sie Feedback zu bestimmten Themen im ISA-Katalog geben? Bitte nutzen Sie dazu unser Feedback-Formular hier:
B10: ENX ISA-Feedback
B11: Ihre Anmerkungen werden der ENX-Arbeitsgruppe ISA zur weiteren Diskussion vorgelegt.
B13: Hinweis: Zur besseren Orientierung sind die Arbeitsblätter wie folgt farblich gekennzeichnet.

Sheet Deckblatt
B1: Information Security Assessment
B3: Firma / Organisation:*
B5: Anschrift:*
B7: Geltungsbereich/TISAX Scope-ID*
B9: D&B D-U-N-S® Nr.
B11: Datum des Assessments:*
B13: Ansprechpartner:*
B15: Telefon-Nr.:
B17: E-Mail-Adresse:*
B19: Ersteller:*
B21: Unterschrift:
B23: Version: 2027.1 | 2026-09-30

Sheet Reifegrade
B1: Information Security Assessment Reifegrade Die Antwort auf die Kontrollfragen ist ein Reifegrad in einem generischen Reifegrad-Modell, mit dem die Reife der dahinterstehenden Prozesse quantifiziert wird. Um den Reifegrad zu bestimmen, muss während des Assessments objektiv nachweisbar sein, dass die Anforderungen der entsprechenden Stufe erfüllt werden. Dies erfolgt zum Beispiel anhand von Arbeitsprodukten, welche als Ergebnisse aus den Prozessen der Kontrollfragen hervorgehen, oder durch Aussagen der fachlichen Prozessausführenden in Interviews.
C2: Reifegrad 0 | D2: Reifegrad 1 | E2: Reifegrad 2 | F2: Reifegrad 3 | G2: Reifegrad 4 | H2: Reifegrad 5
B3: Name | C3: Unvollständig | D3: Durchgeführt | E3: Gesteuert | F3: Etabliert | G3: Vorhersagbar | H3: Optimierend
B4: Kurzbeschreibung | C4: Es gibt keinen Prozess, es wird keinem Prozess gefolgt oder der Prozess ist nicht geeignet, um das Ziel zu erreichen. | D4: Es wird einem nicht oder unvollständig dokumentierten Prozess gefolgt ("informeller Prozess") und es gibt Anzeichen, dass er sein Ziel erreicht. | E4: Es wird einem Prozess gefolgt, der seine Ziele erreicht. Prozessdokumentation und Prozessdurchführungsnachweise sind vorhanden. | F4: Es wird einem Standardprozess gefolgt, der in das Gesamtsystem integriert ist. Abhängigkeiten von anderen Prozessen sind dokumentiert und geeignete Schnittstellen geschaffen. Es existieren Nachweise, dass der Prozess über einen längeren Zeitraum nachhaltig und aktiv genutzt wurde. | G4: Es wird einem etablierten Prozess gefolgt. Die Wirksamkeit des Prozesses wird durch Erheben von Kennzahlen kontinuierlich überwacht. Es sind Grenzwerte definiert, bei denen der Prozess als nicht hinreichend wirksam angesehen wird und angepasst werden muss. (Key Performance Indicators) | H4: Es wird einem vorhersagbaren Prozess gefolgt, bei dem die kontinuierliche Verbesserung ein wesentliches Ziel ist. Die Verbesserung wird von dedizierten Ressourcen aktiv vorangetrieben.
B5: Definition | C5: Ein Prozess ist nicht implementiert oder der Prozesszweck wird nicht erreicht. Es gibt nur geringe oder keine Anzeichen dafür, dass der Prozesszweck systematisch erreicht wird. | D5: - Der realisierte Prozess erfüllt seinen (Prozess-) Zweck. - Die beabsichtigten Basispraktiken werden nachweisbar durchgeführt. | E5: Steuerung der Prozessdurchführung (PA 2.1): - Die Leistungsziele des Prozesses sind identifiziert. - Die Durchführung des Prozesses wird geplant und überwacht. - Die Durchführung des Prozesses wird zur Erfüllung der Planungen angepasst. - Verantwortlichkeiten und Befugnisse zur Durchführung des Prozesses sind definiert, zugewiesen und kommuniziert. - Für die Durchführung des Prozesses notwendige Ressourcen und Informationen sind ermittelt, bereitgestellt, zugewiesen und werden genutzt. - Schnittstellen zwischen den betroffenen Einheiten werden gemanagt, um eine effektive Kommunikation und eine klare Zuweisung von Verantwortlichkeiten sicherzustellen. Management der Arbeitsergebnisse (PA 2.2): - Anforderungen an die Arbeitsergebnisse des Prozesses sind definiert - Anforderungen an die Dokumentation und die Steuerung der Arbeitsergebnisse sind definiert. - Arbeitsergebnisse werden angemessen identifiziert, dokumentiert und gesteuert. - Arbeitsergebnisse werden in Übereinstimmung mit geplanten Maßnahmen überprüft und nötigenfalls angepasst, um die Anforderungen zu erfüllen. | F5: Prozessdefinition (PA 3.1): - Ein Standardprozess einschließlich in geeigneter Weise angepasste Vorgaben ist definiert, der die grundlegenden Elemente beschreibt, die ein definierter Prozess enthalten muss. - Die Reihenfolge und das Zusammenspiel des Standardprozesses mit anderen Prozessen sind bestimmt. - Kompetenzen und Rollen, die zur Durchführung des Prozesses erforderlich sind, sind als Teil des Standardprozesses identifiziert. - Infrastruktur und Arbeitsumgebung, die zur Durchführung eines Prozesses erforderlich sind, sind als Teil des Standardprozesses identifiziert. - Geeignete Methoden sind bestimmt, um die Wirksamkeit und Angemessenheit des Prozesses zu überwachen. Ausbringung/Verbreitung/Verteilung des Prozesses (PA 3.2): - Ein definierter Prozess, der auf einem geeignet ausgewählten und/oder zugeschnittenen Standardprozess basiert, ist ausgebracht/verbreitet. - Benötigte Rollen, Verantwortlichkeiten und Befugnisse zur Durchführung des definierten Prozesses sind zugewiesen und kommuniziert. - Das Personal, welches den definierten Prozess durchführt, ist kompetent bzw. fachkundig, was auf einer geeigneten Ausbildung, Training und Erfahrung beruht. - Erforderliche Ressourcen und Informationen, die zur Durchführung des definierten Prozesses erforderlich sind, sind verfügbar, zugewiesen und werden genutzt. - Erforderliche Infrastruktur und eine Arbeitsumgebung, die zur Durchführung des definierten Prozesses erforderlich sind, sind verfügbar, werden gemanagt und gewartet. - Geeignete Daten werden gesammelt und analysiert, um ein grundlegendes Verständnis für das Verhalten des Prozesses zu gewinnen, seine Angemessenheit und Wirksamkeit zu zeigen und zu bewerten, wo eine kontinuierliche Prozessverbesserung (KVP) gemacht werden kann. | G5: Prozessmessung (PA 4.1): - Anforderungen an Prozessinformationen zur Unterstützung von relevanten, definierten Geschäftszielen sind etabliert. - Ziele zur Prozessmessung sind aus den Anforderungen an Prozessinformationen abgeleitet. - Quantitative Ziele bezüglich der Prozessdurchführung zur Unterstützung von relevanten, definierten Geschäftszielen sind etabliert. - Kennzahlen und die Häufigkeit von Messungen sind identifiziert und sind in Übereinstimmung mit den Zielen zur Prozessmessung und den quantitativen Zielen bezüglich der Prozessdurchführung definiert. - Messergebnisse sind gesammelt, analysiert und werden berichtet, um den Grad der quantitativen Zielerreichung bezüglich der Prozessdurchführung zu überwachen. - Messergebnisse werden genutzt, um die Durchführung des Prozesses zu charakterisieren. Prozesssteuerung (PA 4.2): - Analyse- und Steuerungstechniken sind bestimmt und werden, wie jeweils zutreffend, angewendet. - Variable Steuerungsgrenzen sind zur gewöhnlichen Durchführung des Prozesses etabliert. - Messdaten für spezielle Varianten werden analysiert. - Korrekturmaßnahmen werden durchgeführt, um spezielle Varianten zu berücksichtigen. - Steuerungsgrenzen werden (falls erforderlich) im Anschluss an Korrekturmaßnahmen erneut etabliert. | H5: Prozessinnovation (PA 5.1) - Ziele zur Prozessverbesserung sind für den jeweiligen Prozess definiert, welcher die relevanten Geschäftsziele unterstützt. - Geeignete Daten werden analysiert, um die allgemeinen Ursachen für Variationen bei der Durchführung von Prozessen zu identifizieren. - Geeignete Daten werden analysiert, um Möglichkeiten für die Anwendung von Best Practices und Innovation zu identifizieren. - Möglichkeiten zur Verbesserung, die aus neuen Technologien und neuen Prozesskonzepten abgeleitet werden, sind identifiziert. - Eine Umsetzungsstrategie ist etabliert, um die Ziele einer Prozessverbesserung zu erreichen. - Kontinuierliche Optimierung (PA 5.2): - Die Auswirkung aller vorgeschlagenen Änderungen wird in Bezug auf die Ziele des definierten und des Standardprozesses bewertet. - Die Umsetzung aller beschlossenen Änderungen wird gemanagt, um sicherzustellen, dass jegliche Unterbrechung der Durchführung eines Prozesses begriffen und darauf eingewirkt wird. - Die Wirksamkeit einer Prozessänderung wird auf Grundlage der tatsächlichen Leistung gegenüber definierten Prozessanforderungen und Prozesszielen beurteilt, um zu bestimmen, ob Ergebnisse mit allgemeinen oder speziellen Fällen übereinstimmen.
B6: Mögliche Nachweise (GWP) | D6: + Arbeitsergebnisse, die einen Nachweis für Prozessergebnisse liefern. | E6: + Prozessdokumentation + Prozessplan + Qualitätsplan, -aufzeichnungen + Prozessdurchführungsaufzeichnungen | F6: + Prozessdokumentation + Prozessplan + Qualitätsaufzeichnungen + Richtlinien und Standards + Prozessdurchführungsaufzeichnungen | G6: + Prozessdokumentation + Prozesssteuerungsplan + Prozessverbesserungsplan + Prozessmessplan + Prozessdurchführungsaufzeichnungen | H6: + Prozessverbesserungsplan + Prozessmessplan + Prozessdurchführungsaufzeichnungen
B7: Beispiel

Sheet Definitionen
B1: Information Security Assessment Definitionen
B2: Tabellenblätter
B3: Tabellenblatt | D3: Beschreibung | E3: Verwendungszweck des Tabellenblattes
B4: Wilkommen | D4: Willkommensseite. | E4: Information
B5: Deckblatt | D5: Das Deckblatt enthält Felder für Angaben zur durchführenden Organisation, dem Geltungsbereich von Prüfungen, dem Prüfer und dem Ansprechpartner der geprüften Organisation. | E5: Zur eigenen Verwendung
B6: Reifegrade | D6: Die VDA-ISA sieht vor, dass die Umsetzung mittels eines 5-stufigen Reifegrad-Modells bewertet wird, das in diesem Tabellenblatt definiert wird. Die Reifegrade umfassen unvollständig, durchgeführt, gesteuert, etabliert und vorhersagbar. Der Zielreifegrad für alle Kontrollfragen liegt bei dieser Version der VDA-ISA durchgängig bei 3 (etabliert). | E6: Information
B7: Definitionen | D7: In den Definitionen werden die Schlüsselbegriffe für die zu erfüllenden Anforderungen beschrieben. Anforderungen können dabei in die Kategorien „muss“, „sollte“, zusätzlich bei „hohem Schutzbedarf“ und zusätzlich bei „sehr hohem Schutzbedarf“ eingestuft werden. Diese Unterteilung ist nötig, da Informationen mit hohem und sehr hohem Schutzbedarf besondere Schutzmaßnahmen erfordern. Zusätzlich werden in diesem Tabellenblatt Schlüsselbegriffe und Abkürzungen aufgeführt und erläutert. | E7: Information
B8: Informationssicherheit | D8: Das Tabellenblatt „Informationssicherheit“ enthält alle Basis-Maßnahmen basierend auf der Norm ISO/IEC 27001. Die Maßnahmen selbst sind als Fragen formuliert. Das Ziel der jeweiligen Maßnahme und die Anforderungen zur Erreichung des Ziels sind in den entsprechend benannten Spalten aufgeführt. Jede Maßnahme muss hierbei immer anhand des Grades der Erreichung des Ziels bewertet werden. Die Bewertung der Reifegrade (wie im Tabellenblatt „Reifegrade“ beschrieben) jeder Maßnahme wird in dem Feld (Spalte D) festgehalten und automatisch in das Tabellenblatt „Ergebnisse“ übertragen. Weitere Spalten geben mit Beispielen Hilfestellung zu einer möglichen Umsetzung. Anforderungen beziehen sich dabei immer auf das eigene Unternehmen mit seiner Organisation, seinen Prozessen und seiner Infrastruktur. Anforderungen beziehen sich niemals auf Produkte, welche Ihr Unternehmen in Verkehr bringt. Anforderungen an eine sichere Produktentwicklung sind nicht Teil dieses Moduls. | E8: Umsetzungsanforderungen
B9: Prototypenschutz | D9: Das Tabellenblatt „Prototypenschutz“ enthält Maßnahmen, um sicherzustellen, dass geeignete Maßnahmen für den Umgang mit Prototypen vorhanden sind, welche einen besonderen Schutz erfordern. Jede Maßnahme muss hierbei immer anhand des Grades der Erreichung des Ziels bewertet werden. Die Bewertung der Reifegrade (wie im Tabellenblatt „Reifegrade“ beschrieben) jeder Maßnahme wird in dem Feld (Spalte D) festgehalten und automatisch in das Tabellenblatt „Ergebnisse“ übertragen. Weitere Spalten geben mit Beispielen Hilfestellung zu einer möglichen Umsetzung. Anforderungen beziehen sich dabei immer auf das eigene Unternehmen mit seiner Organisation, seinen Prozessen und seiner Infrastruktur. Anforderungen beziehen sich niemals auf Produkte, welche Ihr Unternehmen in Verkehr bringt. Anforderungen an eine sichere Produktentwicklung sind nicht Teil dieses Moduls. | E9: Umsetzungsanforderungen
B10: Datenschutz | D10: Dieses Tabellenblatt ist zusätzlich bei einer Auftragsverarbeitung im Sinne von Art. 28 der Allgemeinen Datenschutzgrundverordnung der EU zu bearbeiten und enthält Maßnahmen, die nur mit Ja/Nein zu beantworten sind. | E10: Umsetzungsanforderungen
B11: Ergebnisse | D11: Hier werden die Ergebnisse der einzelnen Tabellenblätter (Prüfkatalogseiten) zusammengefasst und im Druckformat dargestellt. Für Darstellungszwecke wird die vereinfachte Form nach ISA genutzt. Das Spinnennetz-Diagramm bietet eine Übersicht über alle Maßnahmen. Die Liste aller Maßnahmen zeigt die anzustrebenden Zielreifegrade. Bei der Berechnung des Gesamtergebnisses werden die Ergebnisse von Maßnahmen, die den Zielreifegrad übererfüllen, gekürzt und der Durchschnitt ermittelt. Dies stellt sicher, dass die Anforderungen themenübergreifend erfüllt werden und kein Ausgleich von über- und untererfüllten Maßnahmen stattfindet. | E11: Ergebnispräsentation
B12: Beispiele für KPI | D12: Dieses Tabellenblatt zeigt Beispiele für Key Performance Indicators (KPI) zum Messen von Prozessergebnissen. Der Inhalt des Tabellenblattes dient als Hilfestellung zur Identifizierung eigener geeigneter KPIs. Er stellt keine verbindlichen Vorgaben zum Erreichen des Reifegrads der Stufe 4 vor. Die Definition von KPIs ist nicht verbindlich vorgeschrieben, kann aber für ein zentrales Management der Informationssicherheit an vielen Standorten hilfreich sein. | E12: Beispiele und Hilfestellungen
B13: Lizenz | D13: Lizenzbedingungen, unter denen die VDA-ISA veröffentlicht wird. | E13: Information
B14: Änderungshistorie | D14: Liste der Änderungen über den Lebenszyklus der VDA-ISA. | E14: Information
B15: Schlüsselbegriffe
B16: Begriff | D16: Erläuterung | E16: Beispiele
B17: Schutzklasse "normal", normaler Schutzbedarf | D17: Der potenzielle Schaden für die Organisation ist begrenzt und überschaubar. | E17: Vertraulichkeitsklassifizierung "intern"
B18: Schutzklasse "hoch", hoher Schutzbedarf | D18: Der potenzielle Schaden für die Organisation kann beträchtlich sein. | E18: Vertraulichkeitsklassifizierung "vertraulich"
B19: Schutzklasse "sehr hoch", sehr hoher Schutzbedarf | D19: Der potenzielle Schaden kann ein für die Organisation existenziell bedrohliches oder katastrophales Ausmaß erreichen. | E19: Vertraulichkeitsklassifizierung "streng vertraulich"
B20: Anforderungen (muss) | D20: Die Anforderungen in dieser Spalte sind strenge Anforderungen, für die es keine Ausnahmen gibt.
B21: Anforderungen (sollte) | D21: Die Anforderungen in dieser Spalte müssen grundsätzlich von der Organisation umgesetzt werden. Es kann jedoch unter bestimmten Umständen eine valide Begründung geben, diese Anforderungen nicht zu erfüllen. Die Auswirkungen von Abweichungen müssen durch die Organisation verstanden werden, und die Abweichung muss nachvollziehbar begründet werden.
B22: Zusatzanforderungen bei hohem Schutzbedarf | D22: Die Anforderungen in dieser Spalte müssen zusätzlich erfüllt werden, wenn das geprüfte Subjekt einen hohen Schutzbedarf hat.
B23: Zusatzanforderungen bei sehr hohem Schutzbedarf | D23: Die Anforderungen in dieser Spalte müssen zusätzlich erfüllt sein, wenn das geprüfte Subjekt einen sehr hohen Schutzbedarf hat.
B24: Ergebnis (Reifegrad) | D24: Im Ergebnis-Tabellenblatt ISA (Spinnennetz-Diagramm) werden alle Ergebnisse wie bewertet dargestellt. Die Linie für den Zielreifegrad berücksichtigt Maßnahmen, die als „n. a.“ gekennzeichnet wurden, nicht. Bei der Berechnung des Durchschnitts wird hingegen der höchste erreichbare Zielereifegrad berücksichtigt.
B25: Phrase “Die folgenden Aspekte werden berücksichtigt:” | D25: Der Ausdruck „Die folgenden Aspekte werden berücksichtigt“ bedeutet, dass für jeden aufgeführten Aspekt eine bewusste und fundierte Entscheidung darüber getroffen worden sein sollte, ob, in welchem Umfang und auf welche Weise eine Maßnahme umgesetzt wird. Im Rahmen eines Assessments sollte der Auditierte in der Lage sein, die zugrunde liegende Argumentation und die daraus resultierende Entscheidung zu erläutern.
B26: Schutzziele | D26: Bestimmte zusätzliche Anforderungen für hohen und sehr hohen Schutzbedarf hängen von den Sicherheitszielen ab und sind entsprechend gekennzeichnet: - Vertraulichkeit (C) - Integrität (I) - Verfügbarkeit (A) | E26: Registerkarte „Informationssicherheit“, Spalte L/M (C, I, A)
B28: Glossar
B29: Begriff | D29: Erläuterung | E29: Beispiele
B30: Prüfscope / Geltungsbereich | D30: Legt fest, was während der Prüfung bewertet wird und was nicht („außerhalb des Anwendungsbereiches“) Der Prüfscope ist mit dem Geltungsbereich des bewerteten Managementsystems verbunden. Bei ISO-Zertifizierungen ist der Prüfscope stets identisch mit dem Geltungsbereich des Managementsystems. Bei TISAX-Prüfungen kann der Prüfscope als Teilmenge des Geltungsbereiches des Managementsystems definiert werden, solange alle erforderlichen Komponenten des Managementsystems vom Prüfscopes abgedeckt werden. Um ein Prüfergebnis zu verstehen, ist es erforderlich, den Prüfscope zu verstehen.
B31: Business Continuity Management (BCM) | D31: BCM dient dazu sicherzustellen, dass die geschäftskritischen Prozesse in der Organisation in und nach einer Krisensituation funktionieren.
B32: Klassifizierung von Informationen | D32: Der Wert der Information für die Organisation wird auf der Grundlage der relevanten Schutzziele der Informationssicherheit (Vertraulichkeit, Integrität und Verfügbarkeit) ermittelt. Auf dieser Grundlage werden die Informationen in das Klassifizierungsschema eingeordnet. Dies ermöglicht der Organisation die Umsetzung angemessener Schutzmaßnahmen.
B33: Cloud / externe IT-Dienste | D33: Ein externer Dienst ist die Verarbeitung von Firmen-Informationen außerhalb des Anwendungsbereiches des Audits. (Z. B. externes Hosting, Cloud-Dienst, Webdienste wie z. B. Anti-Virus-Dashboards im Internet, von externen Unternehmen bereitgestellte SIEM-Dienste usw.) Wichtig für das Ablehnen nicht relevanter Webdienste: • Cloud-Dienst: ein Schaden kann sich direkt auf das Unternehmen auswirken [CIA, en: Confidentiality (Vertraulichkeit), Integrity (Integrität), Availability (Verfügbarkeit)] • Daten werden extern vertraulich/streng vertraulich verarbeitet (z. B. nicht durch Übersetzung einzelner Wörter)
B34: Coworking Space | D34: Ein Coworking Space ist eine gemeinsam genutzte Büroumgebung, in der Personen aus verschiedenen Unternehmen, Teams oder Berufsgruppen arbeiten. Diese Räume bieten eine Vielzahl von Annehmlichkeiten, die denen herkömmlicher Büros ähneln, wie beispielsweise Schreibtische, Besprechungsräume und Internetzugang. Der Coworking Space wird von einem Dritten bereitgestellt, der nicht Teil des ISMS ist. Coworking Spaces sind darauf ausgelegt, Zusammenarbeit und Gemeinschaft zu fördern. Sie bieten eine flexible und kostengünstige Alternative zur Anmietung eines eigenen Büros und sind daher bei Freiberuflern, Start-ups und sogar größeren Unternehmen beliebt, die ihre Gemeinkosten senken möchten. Das Konzept entstand Anfang der 2000er Jahre und hat sich seitdem zu einem globalen Phänomen entwickelt.
B35: Kritischer IT-Dienst | D35: Kritische IT-Dienste sind für das Geschäft oder die Organisation unverzichtbar. Wenn ein derartiger Dienst versagt oder unterbrochen wird, werden Geschäftsabläufe schwer beeinträchtigt. | E35: Aktives Verzeichnis, Firmennetzwerk, ERP, Firmen-Telefonanlage
B36: Kritische IT-Systeme | D36: Kritische IT-Systeme sind unverzichtbar, um kritische IT-Dienste zu betreiben.
B37: Ereignis | D37: Erkanntes Auftreten eines IT-System-, -Dienst- oder Netzwerk-Zustands, der auf eine mögliche Verletzung der Informationssicherheit, -Richtlinie oder auf ein Versagen von Maßnahmen hindeutet, oder eine zuvor unbekannte Situation, die sicherheitsrelevant sein kann.
B38: Generisches Arbeitsprodukt (GWP, en: Generic work product) | D38: Beliebiges Arbeitsergebnis, welches sich aus der Ausführung eines Prozesses ergibt.
B39: IAM-Technologie | D39: Identitäts- und Zugriffsverwaltungs- (IAM- oder IdAM)-Technologie ist ein Rahmen von Technologien zur Sicherstellung, dass die richtigen Anwender (die Teil des mit einem Unternehmen verbundenen Ökosystems oder des Ökosystems innerhalb eines Unternehmens sind) angemessenen Zugang zu Technologie-Ressourcen haben. Identitäts- und Zugriffsverwaltungssysteme identifizieren, authentifizieren und steuern nicht nur den Zugang für Einzelne, die IT-Ressourcen nutzen, sondern auch die Hardware und Anwendungen, auf die Mitarbeiter zugreifen müssen.
B40: Office-less | D40: Der Begriff office-less bezieht sich im Allgemeinen auf ein Arbeitsumfeld, in dem herkömmliche Büroräume auf ein Minimum reduziert oder ganz abgeschafft werden. Dieses Konzept umfasst häufig Remote-Arbeit, flexible Arbeitsorte und den Einsatz von Technologie, um in Verbindung zu bleiben und produktiv zu arbeiten, ohne an einen bestimmten physischen Bürostandort gebunden zu sein.
B41: Vorfall | D41: Einzelnes unerwünschtes oder unerwartetes Informationssicherheits-Ereignis oder eine Reihe unerwünschter oder unerwarteter Informationssicherheits-Ereignisse, bei dem/denen eine beträchtliche Wahrscheinlichkeit besteht, dass es/sie Geschäftsabläufe beeinträchtigt/beeinträchtigen und die Informationssicherheit bedroht/bedrohen
B42: Informationswert (Information Asset) | D42: Informationen, die einen erheblichen Wert für die Organisation darstellen. | E42: Geschäftsgeheimisse, kritische Geschäftsprozesse, Know-How, Patente
B43: Informationseigentümer / Informationsverantwortlicher / Datenverantwortlicher | D43: Person oder Organisationsstelle, welche Daten erstellt oder zur Nutzung bereitstellt und Auskunft über deren Schutzbedarf geben kann.
B44: Informationssicherheitsmanagementsystem (ISMS) | D44: Das Informationssicherheitsmanagementsystem ist ein Steuerungsinstrument für die Organisationsleitung, mit der diese sicherstellt, dass Informationssicherheit nicht nur das Ergebnis von Zufällen und individuellem Engagement, sondern von nachhaltigem Management ist.
B45: Informationssicherheits-Risikomanagement (ISRM) | D45: Das Informationssicherheits-Risikomanagement ist für das frühzeitige Erkennen, Bewerten und Behandeln von Risiken zur Erreichung der Schutzziele der Informationssicherheit erforderlich. Es befähigt damit die Organisation, angemessene Maßnahmen zum Schutz ihrer Informationswerte unter Abwägung der damit verbundenen Chancen und Risiken zu etablieren.
B46: Informationssicherheitsrisiken | D46: Risiken, die bei der Erstellung und der Verarbeitung von Informationen vorhanden sind. Diese beruhen auf möglichen Ereignissen, die sich negativ auf die Erreichung der Schutzziele der Informationssicherheit auswirken.
B47: IT-Dienst | D47: Ein IT-Dienst bezeichnet eine Software, die auf einem oder dem Zusammenspiel von mehreren IT-Systemen läuft und einen bestimmten Geschäftsbedarf abdeckt.
B48: IT-System | D48: Jede Art von Systemen, die zur elektronischen Informationsverarbeitung genutzt werden. | E48: Computer, Server, Cloud, Kommunikationssysteme, Videokonferenzsysteme, Smartphones, Tablets, industrielles Automatisierungs- und Steuerungssystem, OT-Geräte, IoT
B49: Reifegrad | D49: Maßstab für die „Reife“ des gesamten ISMS oder von Teilen hiervon. Dies ist der Grad der Strukturierung und der systematischen Steuerung des Gesamtprozesses oder der Teilprozesse. Für die in diesem Dokument genutzten Reifegrade gelten die im Reiter "Reifegrade" aufgeführten Anforderungen. | E49: Maßstab für den Entwicklungsgrad des gesamten ISMS oder von Teilen hiervon. Es handelt sich um den Grad der Strukturierung und der systematischen Steuerung der beteiligten Prozesse. Die im Zusammenhang mit diesem Dokument gültige Definition der verschiedenen Reifegrade findet sich im Reiter "Reifegrade".
B50: Netzwerkdienst | D50: Ein Netzwerkdienst ist ein von einem IT-System bereitgestellter Dienst, der von anderen IT-Systemen genutzt wird, um über ein Datennetzwerk mit dem System zu kommunizieren. | E50: DHCP, DNS, https, STARTTLS
B51: Geheimhaltungsvereinbarungen (GHV) | D51: Geheimhaltungsvereinbarungen dienen dem rechtlichen Schutz von Informationen einer Organisation, insbesondere wenn diese über die Organisationsgrenzen hinaus ausgetauscht werden.
B52: Personenbezogene Daten | D52: Der Begriff personenbezogene Daten wird für alle Informationen verwendet, die sich auf eine identifizierte oder identifizierbare natürliche Person beziehen; als identifizierbar wird eine natürliche Person angesehen, die direkt oder indirekt, insbesondere mittels Zuordnung zu einer Kennung wie z. B. zu einem Namen, zu einer Kennnummer, zu Standortdaten, zu einer Online-Kennung oder zu einem oder mehreren besonderen Merkmalen identifiziert werden kann, die Ausdruck der physischen, physiologischen, genetischen, psychologischen, wirtschaftlichen, kulturellen oder sozialen Identität dieser natürlichen Person sind.
B53: Strategie/Leitlinie | D53: Sammelbegriff für unternehmensinterne Vorgaben
B54: Prozessattribute (PA) | D54: Messbare Kenngröße für eine Prozessfähigkeit, die auf jeden Prozess anwendbar ist.
B55: Projekt | D55: Eine organisatorisch eigenständige Initiative, die für einen festgelegten Zeitraum ins Leben gerufen wird und über ein klar definiertes Ziel sowie festgelegte Rollen und Zuständigkeiten verfügt. Ein Projekt kann intern initiiert oder von Kunden oder Partnern vorangetrieben werden. Projekte können in jedem Bereich des Unternehmens stattfinden - beispielsweise in der Produktentwicklung, im Engineering, im operativen Geschäft, in der Logistik, im Compliance-Bereich, im Management, in der IT oder in anderen Geschäftsbereichen - und sind nicht auf technische Aktivitäten beschränkt.
B56: Schutzbedürftiger Prototyp | D56: Prototypenschutz schützt physische Prototypen, die als schutzbedürftig eingestuft werden. Prototypen schließen Fahrzeuge, Komponenten und Bauteile ein. Der Eigentümer des geistigen Eigentums für den Prototyp wird als Eigentümer des Prototyps angesehen. Die Inbetriebnahme-Abteilung des Eigentümers ist für die Klassifizierung des Schutzbedarfs eines Prototyps verantwortlich. Bei Prototypen, die als Prototypen mit hohem oder sehr hohem Schutzbedarf eingestuft sind, müssen die Mindestanforderungen an den Prototypschutz angewendet werden.
B57: Speziell entwickelte Software | D57: Software, die speziell für die Organisation entwickelt wurde.
B58: Sicherheitszonen | D58: Sicherheitszonen beziehen sich meist auf eine geschachtelte Anordnung von durch Barrieren und Zutrittsmechanismen gekapselten Bereichen. Sie dienen dem physischen Schutz von Informationswerten. Je sensibler die zu verarbeitenden Informationswerte sind, desto mehr Schutzmaßnahmen sind erforderlich. | E58: Lagerräume, Garagen, Werkstätten, Teststrecken, Datenverarbeitungszentren, Entwicklungsbereiche
B59: Vereinfachte Gruppenprüfung (SGA, en: Simplified Group Assessment) | D59: Vereinfachte Methode, um sehr große Organisationen mit einem hohen Reifegrad zu prüfen. Ein Beispiel ist ein vereinfachter Gruppenprüfung nach TISAX, der eine Möglichkeit für TISAX-Prüfungen eines Prüfscopes mit einer großen Anzahl von Standorten darstellt.
B60: Software | D60: Software ist ein Oberbegriff, der verwendet wird, um auf Anwendungen, Skripte und Programme Bezug zu nehmen, die auf einem IT-System laufen. | E60: Betriebssysteme, Anwendungen, Bibliotheken, Gerätetreiber, Apps
B61: Informationsträger (Supporting Asset) | D61: (Elektronische und physische) Informationsträger werden zur Speicherung, Verarbeitung und zum Transport von Informationswerten eingesetzt. | E61: Mobile Datenträger, IT-Systeme, IT-Dienste/IT-Dienstleister, Papierunterlagen

Sheet Informationssicherheit
C1: Information Security Assessment Fragebogen
A2: Row_Format | B2: Is_Title? | C2: Kontrollnummer | D2: Reife-grad | E2: Beschreibung der Umsetzung | F2: Referenz Dokumentation | G2: Feststellungen / Auditergebnis | H2: Kontrollfrage | I2: Ziel | J2: Anforderungen (muss) | K2: Anforderungen (sollte) | L2: Zusatzanforderungen bei hohem Schutzbedarf | M2: Zusatzanforderungen bei sehr hohem Schutzbedarf | N2: Zusätzliche Anforderungen für das vereinfachte Gruppen Assessment (SGA, en: Simplified Group Assessments) | O2: Verweisung auf andere Normen | P2: Verweisung auf Implementierungsanleitung | Q2: Maßnahmen/Empfehlungen | R2: Datum der Prüfung | S2: Datum des Abschlusses | T2: Verantwortliche Abteilung | U2: Kontakt | V2: Weitere Informationen | W2: Hilfestellung: Beispiele „Normaler Schutzbedarf“ | X2: Hilfestellung: Beispiele „Hoher Schutzbedarf“ | Y2: Hilfestellung: Beispiele „Sehr hoher Schutzbedarf“ | Z2: Mögliche Fragestellungen (Beispiele, nicht verbindlich) | AA2: Mögliche Nachweise (nicht verbindlich)
A3: =IF(AND($B3<>"",$C$3="1",NOT(ISBLANK($C3))),"header",IF(AND($B3<>"",$C$3<>"1",NOT(ISBLANK($C3))),"blank",IF(AND($B3<>"",#REF!="01",NOT(ISBLANK(#REF!))),"header",IF(AND($B3<>"",#REF!<>"01",NOT(ISBLANK(#REF!))),"blank",IF(AND($B3<>"",#REF!<>"01",NOT(ISBLANK(#REF!))),"blank",IF(AND($C$3="1",ISBLANK($C3),ISBLANK($B3)),"blank","")))))) -> header | B3: 1 | C3: 1 | H3: Richtlinien und Organisation der Informationssicherheit | J3: Dies ist absichtlich unsichtbarer Text aus technischen Gründen. Diesen Text bitte nicht entfernen. Dies ist absichtlich unsichtbarer Text aus technischen Gründen. Diesen Text bitte nicht entfernen. Dies ist absichtlich unsichtbarer Text aus technischen Gründen. Diesen Text bitte nicht entfernen. Dies ist absichtlich unsichtbarer Text aus technischen Gründen. Diesen Text bitte nicht entfernen. Dies ist absichtlich unsichtbarer Text aus technischen Gründen. Diesen Text bitte nicht entfernen. | K3: Dies ist absichtlich unsichtbarer Text aus technischen Gründen. Diesen Text bitte nicht entfernen. Dies ist absichtlich unsichtbarer Text aus technischen Gründen. Diesen Text bitte nicht entfernen. Dies ist absichtlich unsichtbarer Text aus technischen Gründen. Diesen Text bitte nicht entfernen. Dies ist absichtlich unsichtbarer Text aus technischen Gründen. Diesen Text bitte nicht entfernen. Dies ist absichtlich unsichtbarer Text aus technischen Gründen. Diesen Text bitte nicht entfernen. | L3: Dies ist absichtlich unsichtbarer Text aus technischen Gründen. Diesen Text bitte nicht entfernen. Dies ist absichtlich unsichtbarer Text aus technischen Gründen. Diesen Text bitte nicht entfernen. Dies ist absichtlich unsichtbarer Text aus technischen Gründen. Diesen Text bitte nicht entfernen. Dies ist absichtlich unsichtbarer Text aus technischen Gründen. Diesen Text bitte nicht entfernen. Dies ist absichtlich unsichtbarer Text aus technischen Gründen. Diesen Text bitte nicht entfernen. | M3: Dies ist absichtlich unsichtbarer Text aus technischen Gründen. Diesen Text bitte nicht entfernen. Dies ist absichtlich unsichtbarer Text aus technischen Gründen. Diesen Text bitte nicht entfernen. Dies ist absichtlich unsichtbarer Text aus technischen Gründen. Diesen Text bitte nicht entfernen. Dies ist absichtlich unsichtbarer Text aus technischen Gründen. Diesen Text bitte nicht entfernen. Dies ist absichtlich unsichtbarer Text aus technischen Gründen. Diesen Text bitte nicht entfernen.
A4: =IF(AND($B4<>"",$C$3="1",NOT(ISBLANK($C4))),"header",IF(AND($B4<>"",$C$3<>"1",NOT(ISBLANK($C4))),"blank",IF(AND($B4<>"",#REF!="01",NOT(ISBLANK(#REF!))),"header",IF(AND($B4<>"",#REF!<>"01",NOT(ISBLANK(#REF!))),"blank",IF(AND($B4<>"",#REF!<>"01",NOT(ISBLANK(#REF!))),"blank",IF(AND($C$3="1",ISBLANK($C4),ISBLANK($B4)),"blank","")))))) -> header | B4: 2 | C4: 1.1 | H4: Richtlinien zur Informationssicherheit
A5: =IF(AND($B5<>"",$C$3="1",NOT(ISBLANK($C5))),"header",IF(AND($B5<>"",$C$3<>"1",NOT(ISBLANK($C5))),"blank",IF(AND($B5<>"",#REF!="01",NOT(ISBLANK(#REF!))),"header",IF(AND($B5<>"",#REF!<>"01",NOT(ISBLANK(#REF!))),"blank",IF(AND($B5<>"",#REF!<>"01",NOT(ISBLANK(#REF!))),"blank",IF(AND($C$3="1",ISBLANK($C5),ISBLANK($B5)),"blank","")))))) -> #REF! | C5: 1.1.1 | H5: Inwieweit sind Richtlinien zur Informationssicherheit vorhanden? | I5: Die Organisation benötigt mindestens eine Richtlinie für Informationssicherheit. Diese spiegelt die Wichtigkeit und Bedeutung der Informationssicherheit wider und ist an die Organisation angepasst. Zusätzliche Richtlinien können je nach Größe und Aufbau der Organisation sinnvoll sein. | J5: + Die Anforderungen an die Informationssicherheit wurden festgelegt, dokumentiert und an die Ziele der Organisation angepasst. + Es gibt eine Richtlinie, die von der Geschäftsleitung der Organisation genehmigt wurde. + Die Richtlinie enthält Ziele und beschreibt die Bedeutung der Informationssicherheit innerhalb der Organisation. + Die Richtlinien werden den Mitarbeitern in geeigneter Form (z. B. über das Intranet) zur Verfügung gestellt. + Mitarbeiter und externe Geschäftspartner werden über alle für sie relevanten Änderungen informiert. | K5: + Die Anforderungen an die Informationssicherheit auf der Grundlage der Organisationsstrategie, Gesetzen und Verträgen sind in der Richtlinie berücksichtigt. + Die Richtlinie weist auf Konsequenzen bei Nichtbeachtung hin. + Weitere relevante Sicherheitsrichtlinien sind erstellt. + Eine regelmäßige Prüfung und, falls notwendig, Überarbeitung der Richtlinien sind etabliert. | L5: Keine | M5: Keine | N5: + Richtlinien werden im gesamten Assessment Scope veröffentlicht und umgesetzt. | O5: ISO 27001:2022: A.5.1 ------ ISA/IEC 62443-2-1: 6.2.1 ------ NIST CSF 2.0: GV.PO-01, GV.PO-02 | P5: BSI-Standard 200-2: 3.2, 3.4 BSI IT-Grundschutz-Kompendium: ISMS.1, ORP.1 ------ NIST SP800-53r5: PT-1, AC-1, AT-1, AU-1, CA-1, CM-1, CP-1, IA-1, IR-1, MA-1, MP-1, PE-1, PL-1, PM-1, PM-17, PM-18, PM-20, PS-1, RA-1, SA-1, SA-15, SC-1, SI-1, SR-1 | V5: Einleitung: Die von der Informationssicherheitsstrategie und vom Kontext der Organisation abgeleiteten Anforderungen führen zu Informationssicherheits-Leitlinien, die in einer mehrstufigen Dokumentenpyramide je nach Größe des Unternehmens abgebildet werden können. Der Kontext der Organisation ergibt sich unter anderem aus der Unternehmenskultur, den Kundenanforderungen oder gesetzlichen Bestimmungen. Eine übergeordnete Leitlinie ist üblicherweise das Hauptdokument, auf dessen Grundlage weitere Leitlinien und Regelungen abgeleitet werden. Begründung: Leitlinien und Regelungen bilden die Grundlage für gemeinsames Handeln, um die strategischen Unternehmensziele zu erreichen. Ohne zentrale Regelungen, die für relevante Personen sichtbar sind, kann es im Hinblick auf die Informationssicherheit zu Missverständnissen kommen und es können unterschiedliche Entscheidungen getroffen werden, die in der Folge zu unkalkulierbaren Risiken für die Informationssicherheit führen. Darüber hinaus bilden Regelungen die Grundlage für einen Vergleich der tatsächlichen Umsetzung mit den schriftlichen Anforderungen bei regelmäßigen Wirksamkeitsprüfungen und für die Feststellung von Verbesserungsmöglichkeiten. Basisinformation: Es ist wichtig, die Informationssicherheitsvorgaben bei Geschäftsprozessen zu berücksichtigen. Mit Vorgaben für die Informationssicherheit ist der Grad an Sicherheit gemeint, der den sicheren Umgang mit Informationen sicherstellt. Die Vorgaben können von außen in die Organisation eingetragen werden oder innerhalb der Organisation selbst entstehen. Die Vorgaben der einzelnen „Beteiligten“ müssen mit den Zielen der Organisation abgestimmt werden, und es muss eine Strategie festgelegt werden, um die Vorgaben und Ziele zu erreichen. Mitarbeiter finden in den Leitlinien auch detaillierte Erläuterungen der Folgen einer Nichteinhaltung von Leitlinien. Die Organisation untersucht von ihrem Standpunkt aus den Bedarf an Leitlinien zum Erreichen der Ziele und zum Betrieb eines ISMS und erstellt entsprechende Leitlinien. Da sich Rahmenbedingungen ändern können, ergibt es Sinn, die Leitlinien regelmäßig, z. B. jährlich, hinsichtlich ihrer Eignung und Richtigkeit zu überprüfen. Mitarbeiter müssen Zugang zu den Richtlinien haben. Ein zentraler Ort, wie z. B. das Intranet, wird empfohlen um sicherzustellen, dass stets auf die neueste Version einer Richtline zugegriffen werden kann. Diesbezüglich haben gedruckte Leitlinien beträchtliche Nachteile. Ein Geschäftspartner benötigt möglicherweise ebenfalls Zugang zu den Leitlinien, beispielsweise weil er im Rahmen des Geltungsbereiches des ISMS Personal zuweist oder entsendet. Der Bedarf an vertraglichen Vereinbarungen wird von der Organisation bewertet. „Sonstige relevante Sicherheitsrichtlinien“ bezeichnet alle sicherheitsrelevanten Richtlinien, die nicht Teil des ISMS sind und für die Informationssicherheit relevant sind. | Z5: - Welche Informationssicherheitsvorgaben wurden festgelegt? - Was sind die Leitlinien für die Informationssicherheit? - Wer gibt diese frei? - Sind die Anforderungen mit den Zielen der Organisation abgestimmt? - Was sind die Ziele der Organisation bezüglich des ISMS und wie sind diese zu erreichen? - Wer ist für die Umsetzung verantwortlich? - Welche Folgen hat die Nichteinhaltung der Leitlinien? - Wer überprüft die Leitlinien regelmäßig und wann? - Wie werden die Leitlinien den Mitarbeitern vermittelt?
A6: =IF(AND($B6<>"",$C$3="1",NOT(ISBLANK($C6))),"header",IF(AND($B6<>"",$C$3<>"1",NOT(ISBLANK($C6))),"blank",IF(AND($B6<>"",#REF!="01",NOT(ISBLANK(#REF!))),"header",IF(AND($B6<>"",#REF!<>"01",NOT(ISBLANK(#REF!))),"blank",IF(AND($B6<>"",#REF!<>"01",NOT(ISBLANK(#REF!))),"blank",IF(AND($C$3="1",ISBLANK($C6),ISBLANK($B6)),"blank","")))))) -> header | B6: 2 | C6: 1.2 | H6: Organisation der Informationssicherheit
A7: =IF(AND($B7<>"",$C$3="1",NOT(ISBLANK($C7))),"header",IF(AND($B7<>"",$C$3<>"1",NOT(ISBLANK($C7))),"blank",IF(AND($B7<>"",#REF!="01",NOT(ISBLANK(#REF!))),"header",IF(AND($B7<>"",#REF!<>"01",NOT(ISBLANK(#REF!))),"blank",IF(AND($B7<>"",#REF!<>"01",NOT(ISBLANK(#REF!))),"blank",IF(AND($C$3="1",ISBLANK($C7),ISBLANK($B7)),"blank","")))))) -> #REF! | C7: 1.2.1 | H7: Inwieweit wird in der Organisation Informationssicherheit gemanagt? | I7: Nur wenn Informationssicherheit in den strategischen Zielen einer Organisation verankert ist, kann Informationssicherheit nachhaltig in einer Organisation umgesetzt werden. Das Informationssicherheitsmanagementsystem (ISMS) ist ein Steuerungsinstrument für die Organisationsleitung, mit dem diese sicherstellt, dass Informationssicherheit nicht nur ein Ergebnis von Zufällen und individuellem Engagement, sondern von nachhaltigem Management ist. | J7: + Der Geltungsbereich (Scope) des ISMS (die vom ISMS gemanagte Organisation) ist festgelegt. + Die Anforderungen der Organisation an das ISMS sind ermittelt. + Die Organisationsleitung hat das ISMS beauftragt und freigegeben. + Das ISMS stellt der Organisationsleitung geeignete Kontroll- und Steuerungsmittel zur Verfügung (z. B. Management-Review). + Anwendbare Kontrollen wurden ermittelt (z. B. ISO 27001 Statement of Applicability, ausgefüllter VDA ISA Katalog). + Die Wirksamkeit des ISMS wird regelmäßig durch das Management überprüft. | K7: Keine | L7: Keine | M7: Keine | N7: + Das Managementsystem ist von einer Stelle genehmigt, die über die erforderliche Befugnis für den gesamten Bewertungsumfang (d. h. alle Standorte innerhalb des Assessment Scopes) verfügt. | O7: ISO 27001:2022: 4, 9.3 ------ NIST CSF 2.0: GV.OC-01, GV.OC-02, GV.OV-01, GV.OV-02, GV.OV-03, GV.RM-01, ID.IM-01, ID.IM-03, ID.IM-04 | P7: BSI-Standard 200-2: 3.1, 3.2.1, 3.2.2, 3.2.3, 3.3.4, 3.4.4, 10.1, 10.2 BSI IT-Grundschutz-Kompendium: ISMS.1, ORP.1 ------ NIST SP800-53r5: PT-1, PL-7, PL-8, PL-9, PM-3, PM-23, PM-24, PM-26, PM-27, SA-2
A8: =IF(AND($B8<>"",$C$3="1",NOT(ISBLANK($C8))),"header",IF(AND($B8<>"",$C$3<>"1",NOT(ISBLANK($C8))),"blank",IF(AND($B8<>"",#REF!="01",NOT(ISBLANK(#REF!))),"header",IF(AND($B8<>"",#REF!<>"01",NOT(ISBLANK(#REF!))),"blank",IF(AND($B8<>"",#REF!<>"01",NOT(ISBLANK(#REF!))),"blank",IF(AND($C$3="1",ISBLANK($C8),ISBLANK($B8)),"blank","")))))) -> #REF! | C8: 1.2.2 | H8: Inwieweit sind die Verantwortlichkeiten für Informationssicherheit organisiert? | I8: Ein erfolgreiches ISMS benötigt klare Verantwortlichkeiten in der Organisation. | J8: + Die Zuständigkeiten für die Informationssicherheit innerhalb der Organisation sind definiert, dokumentiert und zugewiesen. + Die zuständigen Mitarbeiter sind benannt, qualifiziert und für ihre Aufgaben befugt. + Die erforderlichen Ressourcen stehen zur Verfügung. + Die Ansprechpartner sind innerhalb der Organisation und bei den relevanten Geschäftspartnern bekannt. | K8: + Es liegt eine Definition und Dokumentation einer angemessenen Informationssicherheitsstruktur innerhalb der Organisation vor. + Sicherheitsrelevante Rollen, die nicht Teil des ISMS sind und für die Informationssicherheit von Bedeutung sind, werden berücksichtigt. | L8: + Es sollte eine angemessene organisatorische Trennung der Zuständigkeiten etabliert sein, um Interessenkonflikte zu vermeiden (Funktionstrennung). (C, I, A) | M8: Keine | N8: + Es gibt eine benannte Person, die die Gesamtverantwortung für das Managementsystem trägt und erreichbar ist. | O8: ISO 27001:2022: A.5.2, A.5.3 ------ ISA/IEC 62443-2-1: 6.2.3, 6.2.5 ------ NIST CSF 2.0: GV.RR-02, GV.RR-03 | P8: BSI-Standard 200-2: 4 BSI IT-Grundschutz-Kompendium: ISMS.1, ORP.1 ------ NIST SP800-53r5: CP-2, AC-5, PL-7, PM-2, PM-10, PM-19, PM-29, PT-2 | V8: Basisinformation: „Weitere relevante Sicherheitsrollen“ bezeichnet alle sicherheitsrelevanten Rollen, die nicht Teil des ISMS sind aber für die Informationssicherheit relevant sind.
A9: =IF(AND($B9<>"",$C$3="1",NOT(ISBLANK($C9))),"header",IF(AND($B9<>"",$C$3<>"1",NOT(ISBLANK($C9))),"blank",IF(AND($B9<>"",#REF!="01",NOT(ISBLANK(#REF!))),"header",IF(AND($B9<>"",#REF!<>"01",NOT(ISBLANK(#REF!))),"blank",IF(AND($B9<>"",#REF!<>"01",NOT(ISBLANK(#REF!))),"blank",IF(AND($C$3="1",ISBLANK($C9),ISBLANK($B9)),"blank","")))))) -> #REF! | C9: 1.2.3 | H9: Inwieweit werden Anforderungen an die Informationssicherheit in Projekten berücksichtigt? | I9: Bei der Projektumsetzung ist es wichtig, die Anforderungen an die Informationssicherheit zu berücksichtigen. Dies gilt für alle Projekte innerhalb der Organisation, unabhängig von ihrer Art. Durch eine geeignete Verankerung des Informationssicherheitsprozesses in den Projektmanagementverfahren der Organisation wird sichergestellt, dass keine Anforderungen übersehen werden. | J9: + Projekte sind unter Berücksichtigung der Anforderungen an die Informationssicherheit klassifiziert. | K9: + Die Vorgehensweise und Kriterien zur Klassifizierung von Projekten sind dokumentiert. + In einer frühen Phase des Projektes wird eine Risikobewertung auf Basis der definierten Vorgehensweise durchgeführt und bei Änderungen des Projektes wiederholt. + Für identifizierte Informationssicherheitsrisiken werden Maßnahmen abgeleitet und im Projekt berücksichtigt. | L9: + Abgeleitete Maßnahmen werden im Verlauf des Projektes regelmäßig überprüft und bei Änderungen der Bewertungskriterien neu bewertet. (C, I, A) | M9: Keine | N9: Keine | O9: ISO 27001:2022: A.5.8 ------ NIST CSF 2.0: GV.OC-04 | P9: BSI-Standard 200-2: 4.1, 4.6, 4.8 ------ NIST SP800-53r5: PT-1, PL-2, PM-11 | W9: Projekte lassen sich wie folgt klassifizieren: - CIAA (Vertraulichkeit, Integrität, Verfügbarkeit, Authentizität) - CIA (Vertraulichkeit, Integrität, Verfügbarkeit) | Z9: - Welche Projekte wurden in Bezug auf Informationssicherheit durchgeführt? - Welche Risiken wurden in diesem Zusammenhang für das einzelne Projekt identifiziert? - Welche Kriterien werden für die Bewertung des Risikos von Projekten angewendet? - Welche Maßnahmen wurden abgeleitet? - Wurden die Maßnahmen dokumentiert? - Wurde das Risiko während des Projektverlaufs auf Änderungen überprüft?
A10: =IF(AND($B10<>"",$C$3="1",NOT(ISBLANK($C10))),"header",IF(AND($B10<>"",$C$3<>"1",NOT(ISBLANK($C10))),"blank",IF(AND($B10<>"",#REF!="01",NOT(ISBLANK(#REF!))),"header",IF(AND($B10<>"",#REF!<>"01",NOT(ISBLANK(#REF!))),"blank",IF(AND($B10<>"",#REF!<>"01",NOT(ISBLANK(#REF!))),"blank",IF(AND($C$3="1",ISBLANK($C10),ISBLANK($B10)),"blank","")))))) -> header | B10: 2 | C10: 1.3 | H10: Asset-Management
A11: =IF(AND($B11<>"",$C$3="1",NOT(ISBLANK($C11))),"header",IF(AND($B11<>"",$C$3<>"1",NOT(ISBLANK($C11))),"blank",IF(AND($B11<>"",#REF!="01",NOT(ISBLANK(#REF!))),"header",IF(AND($B11<>"",#REF!<>"01",NOT(ISBLANK(#REF!))),"blank",IF(AND($B11<>"",#REF!<>"01",NOT(ISBLANK(#REF!))),"blank",IF(AND($C$3="1",ISBLANK($C11),ISBLANK($B11)),"blank","")))))) -> #REF! | C11: 1.3.1 | H11: Inwieweit werden Informationswerte (Assets) identifiziert und erfasst? | I11: Für jede Organisation ist es wichtig zu wissen, welche Informationen kritisch für das Geschäft sind (z. B. Geschäftsgeheimisse, kritische Geschäftsprozesse, Know-How, Patente). Diese werden als Informationswerte bezeichnet. Um diese Informationen nachhaltig zu schützen ist es wesentlich, über ein adäquates Verzeichnis von Informationswerten und dazugehörigen unterstützenden Werten (Supporting Assets) (z. B. IT-Systeme, Services/IT-Dienste, Mitarbeiter) zu verfügen. | J11: + Informationswerte und andere Assets, deren Sicherheit für die Organisation relevant ist, sind identifiziert und erfasst + Die unterstützenden Werte (Supporting Assets), die die Informationswerte verarbeiten, sind identifiziert und erfasst. | K11: + Ein Verzeichnis der relevanten Informationswerte existiert: Die folgenden Aspekte werden berücksichtigt: - Jedem relevanten Informationswert sind die entsprechenden unterstützenden Werte (Supporting Assets) zugeordnet, - Jedem Informationswert ist ein Verantwortlicher zugeordnet, - Eine regelmäßige Überprüfung des Verzeichnisses findet statt. | L11: Keine | M11: Keine | N11: Keine | O11: ISO27001:2022: A.5.9 ------ ISA/IEC 62443-2-1: 7.2.1 ------ NIST CSF 2.0: ID.AM-01, ID.AM-07 | P11: BSI-Standard 200-2: 8.1 BSI IT-Grundschutz-Kompendium: ISMS.1, ORP.1, CON.9 ------ NIST SP800-53r5: CP-2, PT-1, CM-8, MA-2, MP-7, PE-16, PE-20, PE-22, PM-5, SA-5, SR-4 | V11: Für jede Organisation ist es wichtig zu wissen, welche Informationen für sie von Wert sind (z. B. Geschäftsgeheimnisse, kritische Geschäftsprozesse, Know-how, Patente). Diese werden als Informationsvermögen (auch als Primärvermögen bezeichnet) bezeichnet. Der Wert von Informationen ergibt sich unter anderem aus dem wirtschaftlichen Nutzen oder der rechtlichen Notwendigkeit (z. B. durch Gesetze, Kundenverträge), die die Informationen in einer bestimmten Situation schaffen, sowie aus den Kosten, die dafür anfallen. Darüber hinaus erstreckt sich die Notwendigkeit, diese Informationsressourcen zu schützen, auch auf damit verbundene Informationsträger (auch als sekundäre oder unterstützende Ressourcen bezeichnet) (z. B. IT-Systeme, Dienste/IT-Dienste, Mitarbeiter). (Siehe auch „Klassifizierung von Informationen“ in Kontrollmaßnahme 1.3.2). Begründung: Eine Bestandsaufnahme der Informationsressourcen und der daraus abgeleiteten Informationsträger stellt sicher, dass die Organisation einen Überblick über ihre Informationsressourcen hat und den Schutzbedarf hinsichtlich Vertraulichkeit, Integrität und Verfügbarkeit ermitteln kann. Auf dieser Grundlage kann eine Organisation grundlegende Schutzmaßnahmen festlegen, um sich selbst und die Informationsressourcen bzw. -träger zu schützen. Grundlegende Anforderungen: Informationsressourcen, Informationsträger und Schutzanforderungen ändern sich regelmäßig (z. B. bei Änderungen in der Organisation, der IT-Landschaft oder den Prozessen). Eine Aufgabe der Organisation besteht darin, das Verzeichnis der identifizierten Informationsressourcen und Informationsträger auf dem neuesten Stand zu halten. Ein zentraler Prozess ist hilfreich, um eine vollständige Einleitung: Für jede Organisation ist es wichtig, die Informationen zu kennen, die einen Wert für sie darstellen (z. B. Geschäftsgeheimisse, kritische Geschäftsprozesse, Know-How, Patente). Diese werden als Informationswerte (auch primäre Assets) bezeichnet. Der Wert von Informationen ergibt sich unter anderem aus dem wirtschaftlichen Nutzen, welchen die Informationen in einer bestimmten Situation erbringen, oder aus der gesetzlichen Notwendigkeit (z. B. durch Gesetze, Kundenverträge), sowie aus den anfallenden Kosten. Darüber hinaus wird die Notwendigkeit, diese Informationswerte zu schützen, von Informationsträgern übernommen (auch als sekundäre Assets bezeichnet) (z. B. IT-Systeme, IT-Dienste, Mitarbeiter), die mit den Informationswerten verbunden sind. (Siehe auch Klassifizierung von Informationen in Maßnahme 1.3.2) Begründung: Ein Verzeichnis der Informationswerte und der abgeleiteten Informationsträger stellt sicher, dass die Organisation einen Überblick über ihre Informationswerte hat und den Schutzbedarf hinsichtlich Vertraulichkeit, Integrität und Verfügbarkeit ermitteln kann. Auf dieser Grundlage kann eine Organisation grundlegende Schutzmaßnahmen festlegen, um sich selbst und die Informationswerte/-träger zu schützen. Grundlegende Anforderungen: Informationswerte, Informationsträger und Schutzanforderungen ändern sich regelmäßig (z. B. bei Änderungen der Organisation, der IT-Landschaft oder von Prozessen). Eine Aufgabe der Organisation besteht darin, identifizierte Informationswerte und Informationsträger auf dem aktuellen Stand zu halten. Ein zentraler Prozess ist hilfreich, um einen vollständigen Überblick über diese Informationswerte und -träger während des gesamten Lebenszyklus von der Erzeugung/Inbetriebnahme, über die Nutzung bis zur Vernichtung/Löschung zu erhalten. Übersichten über diese Informationswerte und Informationsträger sowie die Schutzanforderungen sind ein unterstützendes Instrument, um einen umfassenden Überblick zu erhalten und aufrechtzuerhalten. Für eine umfassende Analyse dieser Informationswerte ist es hilfreich, die wesentlichen Geschäftsprozesse und die in diesem Prozess verarbeiteten Informationswerte zu betrachten, da die Schutzanforderungen auch vom Prozess abhängen. In einem weiteren Schritt sind weitere Informationen relevant, deren Verlust oder Offenlegung zu finanziellem Schaden führen oder sich rufschädigend auswirken würde (z. B. Patente, geschäftliche Unterlagen, Kundenkarteien, Kundenverträge, Personalakten usw.). Assets, deren Sicherheit von Bedeutung ist, sind alle Assets, bei denen sich Informations- oder Cybersicherheitsbedrohungen maßgeblich auf die Organisation oder deren Geschäft auswirken. Dies schließt IT-Systeme, IT-Dienste, OT-Systeme, IOT-Geräte ein. | W11: Es ist nicht erforderlich, alle Informationswerte einzeln aufzuführen; stattdessen können Kategorien gebildet werden (z. B. Stammdaten der Mitarbeiter — verantwortliche Stelle: Personalabteilung). | Z11: - Welche Kernprozesse sind erforderlich, um die Aufgabe des Unternehmens auszuführen? - Welche sensiblen Informationen erhalten Sie von ihren Kunden? - Welche Informationen sind in Ihrem Unternehmen vorhanden, die schützenswert sind? - Wie wird der Prozess der Identifizierung, Erfassung und Aufrechterhaltung von Informationswerten durchgeführt? - Wie werden die Verantwortlichkeiten für Informationswerte bestimmt? - Wie wird der Umgang mit Informationswerten beschrieben? - Wie werden die Verantwortlichkeiten für die Bestimmung von Unternehmenswerten in der Organisation dokumentiert? - Welche Informationsverzeichnisse werden zur Dokumentation der Informationswerte verwendet? - Wie wird sichergestellt und wer sorgt dafür, dass die Verzeichnisse auf dem aktuellen Stand sind? - Wie wird überprüft, dass die Vorschriften auf dem aktuellen Stand sind? - Welche Nachweise (z. B. Auswirkungsanalysen usw.) stehen zur Verfügung? - Wie werden die verwendeten primären und unterstützenden Informationswerte ermittelt, klassifiziert und dokumentiert? - Wie und wann werden die Verzeichnisse auf Vollständigkeit, Aktualität und Rückführbarkeit überprüft? - Wie werden die am wenigsten kritischen Informationswerte beurteilt und dokumentiert?
A12: =IF(AND($B12<>"",$C$3="1",NOT(ISBLANK($C12))),"header",IF(AND($B12<>"",$C$3<>"1",NOT(ISBLANK($C12))),"blank",IF(AND($B12<>"",#REF!="01",NOT(ISBLANK(#REF!))),"header",IF(AND($B12<>"",#REF!<>"01",NOT(ISBLANK(#REF!))),"blank",IF(AND($B12<>"",#REF!<>"01",NOT(ISBLANK(#REF!))),"blank",IF(AND($C$3="1",ISBLANK($C12),ISBLANK($B12)),"blank","")))))) -> #REF! | C12: 1.3.2 | H12: Inwieweit werden Informationswerte hinsichtlich ihres Schutzbedarfs klassifiziert und gemanagt? | I12: Das Ziel einer Klassifizierung von Informationswerten ist die konsistente Ermittlung ihres Schutzbedarfs. Sobald eine Organisation den Wert einer Information und deren Schutzbedarf bestimmt hat, kann diese entsprechend der Schutzziele (Vertraulichkeit, Integrität und Verfügbarkeit) klassifiziert werden. Dies ermöglicht der Organisation die Umsetzung von angemessenen Schutzmaßnahmen. | J12: + Ein einheitliches Schema zur Klassifizierung von Informationswerten hinsichtlich des Schutzziels „Vertraulichkeit“ ist verfügbar. + Es wird eine Beurteilung der identifizierten Informationswerte entsprechend den definierten Kriterien vorgenommen und dem vorhandenen Klassifizierungsschema zugeordnet. + Vorgaben für den Umgang mit Informationsträgern (z. B. Kennzeichnung, korrekte Handhabung, Transport, Speicherung, Rückgabe, Löschung/Entsorgung) in Abhängigkeit von der Klassifizierung der Informationswerte sind vorhanden und werden umgesetzt. | K12: + Die Schutzziele „Integrität“ und „Verfügbarkeit“ werden berücksichtigt. | L12: Keine | M12: Keine | N12: Keine | O12: ISO 27001:2022: A.5.10, A.5.12, A.5.13, A.8.10 ------ ISA/IEC 62443-2-1: 10.2.1, 10.2.2, 13.3.4 ------ NIST CSF 2.0: ID.AM-05, GV.OC-02, PR.PS-03, PR.DS-01, PR.DS-02, PR.DS-10 | P12: BSI-Standard 200-2: 8.1 BSI IT-Grundschutz-Kompendium: ISMS.1, ORP.1, CON.9 ------ NIST SP800-53r5: CP-2, PT-1, MA-2, MA-3, MA-4, MA-6, PM-7, PM-32, RA-2, RA-9, SA-23, SC-3 | V12: Einleitung: Das Ziel der Klassifizierung von Informationswerten ist eine beständige Ermittlung des Schutzbedarfs. Dies ermöglicht es der Organisation, angemessene Sicherheitsmaßnahmen zu normen und anzuwenden. Die Klassifzierung von Informationen beruht darauf, dass die möglichen Informationswerte und Informationsträger im Voraus ermittelt werden, was ausführlicher in Maßnahme 1.3.1 beschrieben wird. Begründung: Durch die eindeutige Klassifizierung von Informationswerten und die Beschreibung von genormten und festgelegten Schutzmaßnahmen für den Umgang mit Informationen verringert sich der Umfang der Handhabung von Informationswerten beträchtlich. Auf diese Weise unterstützen konkrete Leitlinien sowohl die Eigentümer, Nutzer als auch zusätzliche Abteilungen wie z. B. die IT dabei, angemessen mit den Informationswerten umzugehen. | Z12: - Welche Schutzniveaus sind im Unternehmen definiert, und welche Kriterien werden angewendet, um diese zu klassifizieren? - Welche Maßnahmen sind für jedes Schutzniveau definiert? - Wie kann die Klassifizierung der Informationen von Mitarbeitern erkannt werden? - Wie werden Informationen klassifiziert? - Welche Vorschriften werden für den Schutz von Informationen abgeleitet (Speichermedien/Dokumente)? - Inwieweit wissen Mitarbeiter, wie Informationen zu klassifizieren sind? - Welche Werkzeuge gibt es für die Einstufung in die Klassifikation? - Wie werden Informationsobjekte gekennzeichnet? - Wer ist für die Einstufung in die Klassifikation verantwortlich? - Wie werden nicht gekennzeichnete Dokumente gehandhabt? - Welche Maßnahmen müssen für jede Schutzanforderung in verschiedenen Situationen ergriffen werden (z. B. Übertragung, Vernichtung, Aufbewahrung, Transport, Speicherung)? - Welche Kontaktkanäle stehen zur Verfügung, damit Mitarbeiter Unterstützung bei der Klassifizierung erhalten können?
A13: =IF(AND($B13<>"",$C$3="1",NOT(ISBLANK($C13))),"header",IF(AND($B13<>"",$C$3<>"1",NOT(ISBLANK($C13))),"blank",IF(AND($B13<>"",#REF!="01",NOT(ISBLANK(#REF!))),"header",IF(AND($B13<>"",#REF!<>"01",NOT(ISBLANK(#REF!))),"blank",IF(AND($B13<>"",#REF!<>"01",NOT(ISBLANK(#REF!))),"blank",IF(AND($C$3="1",ISBLANK($C13),ISBLANK($B13)),"blank","")))))) -> #REF! | C13: 1.3.3 | H13: Inwieweit wird sichergestellt, dass nur evaluierte und freigegebene organisationsfremde IT-Dienste zum Verarbeiten von Informationswerten der Organisation eingesetzt werden? | I13: Die Nutzung externer IT-Dienste ohne angemessene Berücksichtigung der Informationssicherheit setzt eine Organisation dem Risiko von Cybervorfällen aus. Dies ist besonders häufig bei IT-Diensten der Fall, die online zu geringen Kosten oder kostenfrei verfügbar sind. Hierbei besteht das Risiko, dass der Nutzer bei der Beschaffung dieser IT-Dienste Freigabeprozesse umgeht. | J13: + Es werden keine organisationsfremden IT-Dienste ohne explizite Bewertung und Umsetzung der Informationssicherheitsanforderungen eingesetzt. Die folgenden Aspekte werden berücksichtigt: - Eine Risikobewertung der organisationsfremden IT-Dienste liegt vor, - Gesetzliche, regulatorische und vertragliche Anforderungen sind berücksichtigt. + Die organisationsfremden IT-Dienste wurden auf den Schutzbedarf der verarbeiteten Informationswerte abgestimmt. | K13: + Anforderungen bezüglich der Beschaffung, Inbetriebnahme und Freigabe im Zusammenhang mit der Nutzung von organisationsfremden IT-Diensten sind ermittelt und erfüllt. + Ein Verfahren zur Freigabe unter Berücksichtigung des Schutzbedarfs ist etabliert. + Organisationsfremde IT-Dienste und deren Freigabe sind dokumentiert. + Es wird regelmäßig überprüft, dass nur freigegebene organisationsfremde IT-Dienste eingesetzt werden. | L13: Keine | M13: Keine | N13: Keine | O13: ISO 27001:2022: A.5.23 ISO 27017: 14.1.1 ----- NIST CSF 2.0: ID.RA-10, ID.AM-02, ID.AM-04, GV.SC-07, GV.SC-09, GV.SC-10, PR.PS-02, PR.PS-05 | P13: BSI IT-Grundschutz-Kompendium: OPS.2.1, OPS.2.2, OPS.3.1, CON.9, CON.2, ORP.5 ------ NIST SP800-53r5: CM-5, CM-6, CM-7, MA-7, SA-22
A14: =IF(AND($B14<>"",$C$3="1",NOT(ISBLANK($C14))),"header",IF(AND($B14<>"",$C$3<>"1",NOT(ISBLANK($C14))),"blank",IF(AND($B14<>"",#REF!="01",NOT(ISBLANK(#REF!))),"header",IF(AND($B14<>"",#REF!<>"01",NOT(ISBLANK(#REF!))),"blank",IF(AND($B14<>"",#REF!<>"01",NOT(ISBLANK(#REF!))),"blank",IF(AND($C$3="1",ISBLANK($C14),ISBLANK($B14)),"blank","")))))) -> #REF! | C14: 1.3.4 | H14: Inwieweit wird sichergestellt, dass nur evaluierte und zugelassene Software zum Verarbeiten von Informationswerten der Organisation eingesetzt wird? | I14: Sicherheitsprobleme in der Software stellen ein Risiko für die Informationen eines Unternehmens dar. Deshalb sollten Unternehmen einen Überblick über Software haben, die ihre Mitarbeiter für die Informationsverarbeitung verwenden und diese angemessen verwalten. | J14: + Vor der Installation oder Nutzung wird die Software freigegeben. Die folgenden Aspekte werden berücksichtigt: - Begrenzte Freigabe für bestimmte Anwendungsfälle oder Aufgaben - Übereinstimmung mit den Anforderungen an die Informationssicherheit - Nutzungsrechte und Lizenzierung der Software - Quelle/Reputation der Software + Die Softwarefreigabe gilt auch für Software für einen besonderen Zweck, z. B. Wartungswerkzeuge. | K14: + Die zu verwaltenden Software-Typen wie z. B. Firmware, Betriebssysteme, Anwendungen, Bibliotheken, Gerätetreiber sind ermittelt. + Repositorys der verwalteten Software sind vorhanden. + Die Software-Repositorys sind vor unbefugter Manipulation geschützt. + Die Freigabe der Software wird regelmäßig überprüft. + Software-Versionen und Patch-Levels sind bekannt. | L14: Keine | M14: + Zusätzliche Anforderungen an die Software-Nutzung (z. B. Notwendigkeit der Steuerung oder Überwachung der Nutzung) sind festgelegt (falls zutreffend). (C, I, A) | N14: Keine | O14: ISO 27001:2022: A.5.19 ------ ISA/IEC 62443-2-1: 9.4.x ------ NIST CSF 2.0: ID.AM-02 | P14: NIST SP800-53r5: CM-7(4), CM-10, CM-11, SC-18, SC-34, SC-49, SC-50, SI-16 | V14: Software bestimmt die Logik, wie Informationen innerhalb der Organisation verarbeitet werden. Eine kurze und pragmatische Freigabe hilft dabei sicherzustellen, dass durch die Software keine unverantwortlichen Risiken für die Informationen und die Infrastruktur der Organisation hervorgerufen werden. Eine Evaluierung und Freigabe der Software ermöglichen es der Organisation, die Risiken einer unbeabsichtigten Logik zu begrenzen, und bilden gleichzeitig die Grundlage für ein solides Schwachstellen- und Patch-Management (siehe 5.2.5) sowie die Aufrechterhaltung einer konformen Lizenzverwaltung (siehe 7.1.1). Es ist wichtig, auch Software für Verwaltungs- und Wartungszwecke zu berücksichtigen, wie z. B. Werkzeuge zur Fehlersuche und -behebung sowie zur Aktualisierung von Firmware. Beim Software-Management sollte im ersten Schritt bestimmt werden, auf welcher Ebene die Software zugelassen werden muss. Einen guten Kompromiss zwischen dem Sicherheitsbedürfnis und der Zweckmäßigkeit zu finden, ist der ausschlaggebende Faktor bei dieser Überlegung. Beispielsweise wäre die dedizierte Freigabe jeder Anwendung oder Software-Bibliothek, die mit der Grundinstallation des Betriebssystems geliefert wird, in vielen Szenarien übertrieben. Gleichermaßen bedeutet der Einsatz eines bestimmten Gerätes gewöhnlich, dass sich das Nichtzulassen der notwendigen Firmware und/oder der notwendigen Gerätetreiber beträchtlich auf die Nutzbarkeit der Geräte auswirkt. Ein Repository mit zugelassener Software verhindert, dass Personen innerhalb Ihrer Organisation versehentlich nicht zugelassene oder modifizierte Software installieren. Die Pflege von Software-Versionen und Patch-Levels vereinfacht das Patch-Management, bedeutet aber nicht zwangsläufig, dass jedes Patch vor der Freigabe einzeln beurteilt zu werden braucht. Insbesondere bei Software, die die Ausführung administrativer Aufgaben ermöglicht, könnten zusätzliche Anforderungen erforderlich sein. Bei einem Werkzeug, mit dem der Netzwerkverkehr für Sicherheits- oder Debugging-Zwecke überwacht werdern kann, oder das es ermöglicht, die Konfiguration eines kritischen Sytems zu beeinflussen, könnte die Nutzung beschränkt werden, so dass eine individuelle Genehmigung unter Aufrechterhaltung eines 4-Augen-Prinzips erforderlich ist. Entscheidend dabei ist, die Evaluierungs- und Freigabeprozesse einfach genug zu halten, damit sie praktisch durchführbar sind. Wenn die Freigabe zu schwierig oder zeitaufwändig ist, führt dies dazu, dass Ihr Administrator zurückhaltend bei der Freigabe relevanter Software ist und dass Nutzer in der Organisation den Freigabeprozess umgehen, um die Software zu erhalten, die sie benötigen. Entsprechend ist ein guter Beurteilungsprozess so gestaltet, dass er sich an den Schutzbedarf der Software anpasst. Dies bedeutet zuallererst, eine Entscheidung über den für bestimmte Software-Klassen notwendigen Grad der Beurteilung zu treffen. Was die Beurteilung anbelangt, enthält die Maßnahme bereits gute Hinweise darauf, nach welchen Schritten bei den Beurteilungsprozessen vorgegangen werden sollte: + Beabsichtigtes oder vorhersehbares Nutzungsszenario der Software ermitteln sowie, welche Sicherheitsanforderungen für dieses Szenario gelten (d. h. handelt es sich um eine Freigabe einschließlich Szenarien mit besonders hohem Risiko mit speziellen Sicherheitsanforderungen oder betrifft die Freigabe lediglich Anwendungsfälle mit normalem Risiko mit einer begrenzten Anzahl von Sicherheitsanforderungen) + Ermitteln, ob Ihre Organisation das Recht zur Nutzung der Software hat (d. h. lässt die erworbene (zu erwerbende) Lizenz den vorgesehenen Anwendungsfall zu) + Berücksichtigen der Quelle der Software. Vertraut Ihre Organisation der Quelle (z. B. wird die Software von einem bekannten und vertrauenswürdigen Software-Anbieter bereitgestellt oder vertrieben) Das Ergebnis dieser drei Schritte bestimmt den zusätzlichen Beurteilungsbedarf. Bei der Entscheidung über weitere Schritte ist zu beachten, dass weitere Prüfungen oder Beurteilungen nicht nur Risiken beseitigen könnten, sondern auch zu einer zeitlichen Verzögerung führen, welche für sich genommen ein Risiko darstellen kann. Beispielsweise ist in vielen Fällen das Risiko einer Nichtinstallation eines sicherheitsrelevanten Patches, weil Prüfungen noch nicht durchgeführt wurden, höher als das Risiko, dass das Patch Probleme verursacht, die durch Prüfung erkannt worden wären. Ein guter Ansatz hat stets zum Ziel, ein angemessenes Gleichgewicht zu finden. Dementsprechend ist die Detailschärfe der Software-Freigabe je nach Szenario verschieden und kann sehr hoch sein. Beispielsweise könnte es zweckmäßig sein, die gesamte System-Software, die mit einer Grundinstallation eines Betriebssystems (d. h. Betriebssystemkomponenten, Treiber usw.) mitgeliefert wird, freizugeben. Auch die Freigabe von vertrauenswürdigen Software-Repositorys (d. h. ausgehend von der App-Klassifikation eines Mobilgeräte-Stores oder Betriebssystem-Vertriebs) kann ein sinnvoller Ansatz sein, insbesondere, wenn diese auf die Nutzung in Standard-Szenarien beschränkt sind (d. h. ohne Zugang zu Informationen mit einem erheblichen Schutzbedarf). Was die Art der Freigabe anbelangt, ist es wichtig zu beachten, dass es nicht erforderlich ist, zentralisierte Freigabelisten zu führen. Je nach Organsiation kann die Freigabe dezentral erfolgen (d. h. in einigen Fällen verfügt die Entwicklungsabteilung über eigene spezifische Evaluierungs- und Freigabefunktionen im Rahmen der zentralisierten Prozesse). Zudem ist es oftmals auch zweckmäßiger und genauer, eine Übersicht über installierte Software-Versionen und Patch-Levels mittels automatischer Management-Tools aufrechtzuerhalten, als manuell Listen zu führen. | W14: Der Schutzbedarf der Software kann vom vorgesehenen Anwendungsfall oder von der Gestaltung der Software abgeleitet werden. Dies bedeutet, dass sämtliche Software, die keinen Zugang zu Informationen mit hohen oder sehr hohen Anforderungen an die Vertraulichkeit oder Integrität hat und nicht auf Systemen läuft, die hohe oder sehr hohe Anforderungen an die Verfügbarkeit haben, als Software mit normalem Schutzbedarf betrachtet werden kann. Des Weiteren kann Software, bei der das Risiko für Informationen dadurch begrenzt ist, dass die Software nicht für den Zugriff auf entsprechende Informationen ausgelegt ist und über keine erweiterten Privilegien verfügt, als Software mit normalem Schutzbedarf betrachtet werden. Eine Organsation könnte nach folgender Methode vorgehen: Bei Software mit normalem Schutzbedarf scheint eine Bulk-Freigabe auf der Grundlage der Lizenzbestimmungen und eines namhaften oder anderweitig ausreichend vertrauenswürdigen Vertreibers die geeignete Lösung zu sein. Wenn die betreffende Software nicht von einem vertrauenswürdigen Vertreiber verfügbar ist, führt die Organisation eine kurze Evaluierung der Software-Funktionalität durch, indem die Software mittels individueller Recherche und Prüfung auf offensichtliche unerwünschte Funktionen wie z. B. Adware oder Spyware geprüft wird. Aktualisierte Software übernimmt regelmäßig die Freigabe von vorherigen Versionen, sofern nicht wesentliche Änderungen erkannt werden. | X14: In diesem Beispiel wird Software, die ausschließlich Zugang zu Informationen mit hohem Schutzbedarf hinsichtlich Verfügbarkeit oder Integrität hat, oder die für die Verfügbarkeit auf Systemen mit einem entsprechenden Schutzbedarf relevant ist, oder Software, die besonderen Sicherheitsrisiken ausgesetzt ist (Software, die für die Kommunikation mit nicht vertrauenswürdigen Kommunikationsendpunkten genutzt wird, wie z. B. Software auf einem von außen erreichbaren Server, Netzwerk-Clients wie z. B. Web-Browser), als Software mit hohem Schutzbedarf betrachtet. Für derartige Software und Anwendungsfälle darf die Beispiel-Organisation eine Liste der Repositorys und Händler führen, denen in diesen Fällen vertraut wird (z. B. Grund-Software-Installation des Betriebssystems und Treiber und Firmware für die verwendete Hardware mit allgemein bekannten Lizenzbestimmungen). Um in diese Liste aufgenommen zu werden, kann ein Händler und Repository entweder allgemein bekannt und weithin anerkannt sein (d. h. gebräuchliche Betriebssysteme und deren Basis-Software, Treiber für Standard-Hardware), oder individuell bei der Organisation bekannt sein (z. B. Händler für besondere Hardware oder Maschinen, die sorgfältig ausgewählt wurden). Eine Software, die nicht auf einer solchen Liste steht, kann individuell evaluiert werden, indem Lizenzbedingungen überprüft werden und anschließend nach schlechtem Ruf gesucht wird, und abschließend eine Prüfinstallation vorgenommen wird, um eine Überprüfung auf unerwünschte verfügbare Merkmale oder Funktionen wie z. B. Adware oder Spyware durchzuführen. Aktualisierte Software übernimmt regelmäßig die Freigabe von vorherigen Versionen, sofern nicht wesentliche Änderungen erkannt werden. | Y14: Dieses Beispiel betrifft Software, die Zugang zu Informationen mit sehr hohem Schutzbedarf hinsichtlich Verfügbarkeit und Integrität hat oder Software, die für die Verfügbarkeit auf kritischen IT-Systemen maßgebend ist. Selbst für derartige Software und Anwendungsfälle darf die Beispiel-Organisation eine Liste der Repositorys und Händler führen, denen in diesen Fällen vertraut wird (z. B. Grund-Software-Installation der für diesen Zweck ausgelegten Betriebssysteme, und Treiber und Firmware für die verwendete Hardware mit allgemein bekannten Lizenzbestimmungen). Um jedoch das Vertrauen zu erhalten, muss der Händler und Vertreiber einen ausgezeichneten Ruf haben. Sämtliche andere Software wird einzeln freigegeben. Abhängig vom Risikoprofil kann dies nicht nur Prüfungen einschließen, sondern auch eine sorgfältige Analyse der verfügbaren Dokumentation (oder sogar ein technisches Audit der Funktionalität einer bestimmten Software). Software-Änderungsprotokolle werden auf relevante Änderungen gescannt, die einen Widerruf erfordern. Aktualisierte Software übernimmt bei Software-Nebenversionen regelmäßig die Freigabe von vorherigen Versionen. Jedoch überwacht die Organisation aktiv die Versionshinweise sowie (sofern verfügbar) maßgebliche weitere Quellen, um Änderungen zu erkennen, die eine Neu-Evaluierung erfordern könnten. Software-Hauptversionen erfordern stets eine Neu-Evaluierung vor der Freigabe. | Z14: + Wie sieht Ihre Strategie bezüglich Software-Freigabe aus? + Wird zwischen Freigabe aufgrund des Schutzbedarfs oder Freigabe aufgrund des Anwendungsszenarios unterschieden? + Welche Software ist derzeit für das Arbeiten mit einem bestimmten Schutzbedarf freigegeben? + Wie funktioniert Ihr Prozess zur Software-Freigabe? + Für welchen Anwendungsfall ist Software A freigegeben? + Wo kann eingesehen werden, welche Software auf einem bestimmten Clienten oder Server installiert ist? + Wie funktioniert das Software-Repository? Wie greifen Nutzer und/oder Administratoren darauf zu, um Software zu installieren? | AA14: + Prozessdokumentation für den Freigabeprozess + Exporte von Listen der freigegebenen Software von Software-Repositorys + Screenshots von Software zur Software-Verwaltung (z. B. als MDM)
A15: =IF(AND($B15<>"",$C$3="1",NOT(ISBLANK($C15))),"header",IF(AND($B15<>"",$C$3<>"1",NOT(ISBLANK($C15))),"blank",IF(AND($B15<>"",#REF!="01",NOT(ISBLANK(#REF!))),"header",IF(AND($B15<>"",#REF!<>"01",NOT(ISBLANK(#REF!))),"blank",IF(AND($B15<>"",#REF!<>"01",NOT(ISBLANK(#REF!))),"blank",IF(AND($C$3="1",ISBLANK($C15),ISBLANK($B15)),"blank","")))))) -> header | B15: 2 | C15: 1.4 | H15: Risikomanagement für Informationssicherheit
A16: =IF(AND($B16<>"",$C$3="1",NOT(ISBLANK($C16))),"header",IF(AND($B16<>"",$C$3<>"1",NOT(ISBLANK($C16))),"blank",IF(AND($B16<>"",#REF!="01",NOT(ISBLANK(#REF!))),"header",IF(AND($B16<>"",#REF!<>"01",NOT(ISBLANK(#REF!))),"blank",IF(AND($B16<>"",#REF!<>"01",NOT(ISBLANK(#REF!))),"blank",IF(AND($C$3="1",ISBLANK($C16),ISBLANK($B16)),"blank","")))))) -> #REF! | C16: 1.4.1 | H16: Inwieweit werden Informationssicherheitsrisiken gemanagt? | I16: Ziel des Informationssicherheits-Risikomanagements ist das rechtzeitige Erkennen, Bewerten und Behandeln von Risiken zur Erreichung der Schutzziele der Informationssicherheit. Es befähigt damit die Organisation, angemessene Maßnahmen zum Schutz ihrer Informationswerte unter Abwägung der damit verbundenen Chancen und Risiken zu etablieren. Es wird empfohlen, das Informationssicherheits-Risikomanagement einer Organisation so einfach wie möglich zu gestalten, um es effektiv und effizient betreiben zu können. | J16: + Risikobewertungen werden sowohl in regelmäßigen Abständen als auch als Reaktion auf Ereignisse durchgeführt. + Informationssicherheitsrisiken werden angemessen (z. B. hinsichtlich Eintrittswahrscheinlichkeit und potenziellem Schaden) bewertet. + Informationssicherheitsrisiken sind dokumentiert. + Jedem Informationssicherheitsrisiko ist ein Verantwortlicher (Risikoeigner) zugeordnet. Dieser ist für die Bewertung und Behandlung der Informationssicherheitsrisiken verantwortlich. | K16: + Es ist ein Verfahren vorhanden, das festlegt, wie Sicherheitsrisiken innerhalb der Organisation zu identifizieren, bewerten und behandeln sind. + Kriterien für die Bewertung und Behandlung von Sicherheitsrisiken sind vorhanden. + Maßnahmen für den Umgang mit Sicherheitsrisiken und die dafür Verantwortlichen sind festgelegt und dokumentiert. Es wird nach einem Maßnahmenplan oder einer Übersicht über den Umsetzungsstatus der Maßnahmen vorgegangen. + Bei Änderungen des Umfelds (z. B. Organisationsstruktur, Standort, Änderungen von Regelwerken) erfolgt eine zeitnahe Neubewertung. | L16: Keine | M16: Keine | N16: Keine | O16: ISO 27001:2022: 6.1, 6.2, 8.2, 8.3 ------ ISA/IEC 62443-2-1: 6.3.1 ------ NIST CSF 2.0: GV.RM-01, GV.RM-02, GV.RM-03, GV.RM-04, GV.RM-06, ID.RA-03, ID.RA-04, ID.RA-05, ID.RA-06 | P16: BSI IT-Grundschutz-Kompendium: ISMS.1 ------ NIST SP800-53r5: CA-7(4), PM-9, PM-28, RA-3, RA-7, RA-8, SR-2
A17: =IF(AND($B17<>"",$C$3="1",NOT(ISBLANK($C17))),"header",IF(AND($B17<>"",$C$3<>"1",NOT(ISBLANK($C17))),"blank",IF(AND($B17<>"",#REF!="01",NOT(ISBLANK(#REF!))),"header",IF(AND($B17<>"",#REF!<>"01",NOT(ISBLANK(#REF!))),"blank",IF(AND($B17<>"",#REF!<>"01",NOT(ISBLANK(#REF!))),"blank",IF(AND($C$3="1",ISBLANK($C17),ISBLANK($B17)),"blank","")))))) -> header | B17: 2 | C17: 1.5 | H17: Assessments
A18: =IF(AND($B18<>"",$C$3="1",NOT(ISBLANK($C18))),"header",IF(AND($B18<>"",$C$3<>"1",NOT(ISBLANK($C18))),"blank",IF(AND($B18<>"",#REF!="01",NOT(ISBLANK(#REF!))),"header",IF(AND($B18<>"",#REF!<>"01",NOT(ISBLANK(#REF!))),"blank",IF(AND($B18<>"",#REF!<>"01",NOT(ISBLANK(#REF!))),"blank",IF(AND($C$3="1",ISBLANK($C18),ISBLANK($B18)),"blank","")))))) -> #REF! | C18: 1.5.1 | H18: Inwieweit wird die Einhaltung der Informationssicherheit in Verfahren und Prozessen sichergestellt? | I18: Es reicht nicht aus, lediglich Anforderungen an die Informationssicherheit zu definieren sowie Richtlinien zu erstellen und zu veröffentlichen. Es ist wichtig, regelmäßig deren Wirksamkeit zu überprüfen. | J18: + Die Einhaltung von Richtlinien wird organisationsweit überprüft. + Prüfungen von Richtlinien und Verfahren der Informationssicherheit werden in regelmäßigen Abständen durchgeführt. + Korrekturmaßnahmen für mögliche Nicht-Konformitäten (Abweichungen) werden eingeleitet und verfolgt. + Die Einhaltung von Anforderungen der Informationssicherheit (z. B. technische Vorgaben) werden in regelmäßigen Abständen überprüft. + Die Ergebnisse der durchgeführten Überprüfungen werden aufgezeichnet und aufbewahrt. | K18: + Eine Planung über Inhalt und Rahmenbedingungen (Zeitplan, Umfang, Kontrollen) der durchzuführenden Überprüfungen liegt vor. | L18: Keine | M18: Keine | N18: + Interne Kontrollen werden für alle Einheiten innerhalb des Assessment Scopes umgesetzt. + Die Umsetzung aller anwendbaren Sicherheitsanforderungen und Kontrollziele ist eingeschlossen. + Für das Informationssicherheits-Audit sind entsprechend qualifizierte Verantwortliche und angemessene Ressourcen definiert. + Ein detailliertes internes Auditprogramm inklusive Zeitplan ist etabliert und wird fortlaufend umgesetzt. Die folgenden Aspekte werden berücksichtigt: - Der gesamte Scope ist abgedeckt - Interne Audits werden regelmäßig durchgeführt - Die Ergebnisse interner Audits werden innerhalb der Strukturen des ISMS nachverfolgt. | O18: ISO 27001:2022: 9.2 ISO 27001:2022: A.5.36 ------ ISA/IEC 62443-2-1: 6.3.4 ------ NIST CSF 2.0: ID.RA-07, ID.IM-01 | P18: BSI-Standard 200-2: 10.1 BSI IT-Grundschutz-Kompendium: ISMS.1 ------ NIST SP800-53r5: PT-1, CA-2, CA-5, PM-4, PM-6, PM-14, PM-31
A19: =IF(AND($B19<>"",$C$3="1",NOT(ISBLANK($C19))),"header",IF(AND($B19<>"",$C$3<>"1",NOT(ISBLANK($C19))),"blank",IF(AND($B19<>"",#REF!="01",NOT(ISBLANK(#REF!))),"header",IF(AND($B19<>"",#REF!<>"01",NOT(ISBLANK(#REF!))),"blank",IF(AND($B19<>"",#REF!<>"01",NOT(ISBLANK(#REF!))),"blank",IF(AND($C$3="1",ISBLANK($C19),ISBLANK($B19)),"blank","")))))) -> #REF! | C19: 1.5.2 | H19: Inwieweit wird das ISMS von einer unabhängigen Stelle überprüft? | I19: Die Wirksamkeit des ISMS nur aus interner Sicht zu beurteilen, ist nicht ausreichend. Es ist wichtig, in regelmäßigen Abständen und bei wesentlichen Änderungen eine unabhängige und damit objektive Bewertung einzuholen. | J19: + Prüfungen der Informationssicherheit werden von einer unabhängigen und sachkundigen Stelle in regelmäßigen Abständen und bei wesentlichen Änderungen durchgeführt. + Korrekturmaßnahmen für mögliche Abweichungen werden eingeleitet und verfolgt. | K19: + Die Ergebnisse der durchgeführten Prüfungen werden dokumentiert und an die Organisationsleitung berichtet. | L19: Keine | M19: Keine | N19: + Bei wesentlichen Änderungen werden Audits von einer unabhängigen und angemessen qualifizierten Instanz durchgeführt (d. h. organisationsfremde Instanzen oder spezielle interne Abteilungen, die objektiv, sachkundig und frei von ungebührlicher Einflussnahme (unabhängig) sind) + Feststellungen und die Umsetzung von Korrekturmaßnahmen werden von der unabhängigen Instanz nachverfolgt. | O19: ISO 27001:2022: A.5.35 ------ ISA/IEC 62443-2-1: 6.3.4 | P19: ISO 19011
A20: =IF(AND($B20<>"",$C$3="1",NOT(ISBLANK($C20))),"header",IF(AND($B20<>"",$C$3<>"1",NOT(ISBLANK($C20))),"blank",IF(AND($B20<>"",#REF!="01",NOT(ISBLANK(#REF!))),"header",IF(AND($B20<>"",#REF!<>"01",NOT(ISBLANK(#REF!))),"blank",IF(AND($B20<>"",#REF!<>"01",NOT(ISBLANK(#REF!))),"blank",IF(AND($C$3="1",ISBLANK($C20),ISBLANK($B20)),"blank","")))))) -> header | B20: 2 | C20: 1.6 | H20: Vorfall- und Krisenmanagement
A21: =IF(AND($B21<>"",$C$3="1",NOT(ISBLANK($C21))),"header",IF(AND($B21<>"",$C$3<>"1",NOT(ISBLANK($C21))),"blank",IF(AND($B21<>"",#REF!="01",NOT(ISBLANK(#REF!))),"header",IF(AND($B21<>"",#REF!<>"01",NOT(ISBLANK(#REF!))),"blank",IF(AND($B21<>"",#REF!<>"01",NOT(ISBLANK(#REF!))),"blank",IF(AND($C$3="1",ISBLANK($C21),ISBLANK($B21)),"blank","")))))) -> #REF! | C21: 1.6.1 | H21: Inwieweit werden für die Informationssicherheit relevante Ereignisse oder Beobachtungen gemeldet? | I21: Jeder muss wissen, was ein potenziell sicherheitsrelevantes Ereignis oder Beobachtung ist, denn diese können von jedem erkannt werden. Falls ein solches Ereignis erkannt wird, muss dieses gemeldet werden, damit Sicherheitsexperten entscheiden, wie sie darauf reagieren sollen. | J21: + Es gibt eine Definition für ein meldepflichtiges Sicherheitsereignis oder eine meldepflichtige Beobachtung, die den Mitarbeitern und allen relevanten Stakeholdern bekannt ist. Die folgenden Aspekte werden berücksichtigt: - Ereignisse und Beobachtungen in Bezug auf das Personal - Ereignisse und Beobachtungen in Bezug auf die physische Sicherheit (z. B. Einbruch, Diebstahl, unbefugter Zugang zu Sicherheitszonen, Schwachstellen in den Sicherheitszonen) - Ereignisse und Beobachtungen in Bezug auf die IT und Cybersicherheit (z. B. anfällige IT-Systeme mit Schwachstellen, erkannte erfolgreiche oder nicht erfolgreiche Angriffe) - Ereignisse und Beobachtungen in Bezug auf Lieferanten und andere Geschäftspartner (z. B. alle Vorfälle, die sich negativ auf die Sicherheit der eigenen Organisation auswirken können) + Es sind angemessene Mechanismen für die Meldung von Sicherheitsereignissen auf der Grundlage wahrgenommener Risiken festgelegt, umgesetzt und allen Mitarbeitern bekannt, + Es sind geeignete Kommunikationskanäle für Meldende vorhanden. | K21: + Es existiert eine zentrale Anlaufstelle für die Meldung von Vorfällen. + Je nach dem wahrgenommenen Schweregrad stehen unterschiedliche Meldewege zur Verfügung (d. h. Echtzeitkommunikation für signifikante Ereignisse/Notfälle zusätzlich zu asynchronen Mechanismen wie Tickets oder E-Mail). + Mitarbeiter sind verpflichtet und geschult, relevante Ereignisse zu melden. + Meldungen von Sicherheitsereignissen können ebenfalls durch organisationsfremde Stellen übermittelt werden. Die folgenden Aspekte werden berücksichtigt: - Es besteht eine extern zugängliche Möglichkeit, Sicherheitsereignisse zu melden und ist kommuniziert bzw. bekannt, - Die Reaktion auf Sicherheitsereignis-Meldungen von organisationsfremden Stellen ist definiert. + Alle relevanten Meldenden haben Zugriff auf Mechanismen und Informationen zum Melden von Vorfällen. + Ein Rückmeldeverfahren an die Meldenden ist etabliert. | L21: Keine | M21: + Es werden regelmäßig Tests und Übungen bezüglich der Meldung von Sicherheitsereignissen und -beobachtungen durchgeführt. (C, I, A) | N21: Keine | O21: ISO 27001:2022: A.5.24, A.6.8 ------ ISA/IEC 62443-2-1: 6.2.6, 12.2.1, 12.2.2, 12.2.3 ------ NIST CSF 2.0: GV.RM-05, DE.CM-06 | P21: BSI IT-Grundschutz-Kompendium: DER.1 NIST SP800-53r5: AC-3(10), IR-4(10), IR-4(13), IR-4(8)
A22: =IF(AND($B22<>"",$C$3="1",NOT(ISBLANK($C22))),"header",IF(AND($B22<>"",$C$3<>"1",NOT(ISBLANK($C22))),"blank",IF(AND($B22<>"",#REF!="01",NOT(ISBLANK(#REF!))),"header",IF(AND($B22<>"",#REF!<>"01",NOT(ISBLANK(#REF!))),"blank",IF(AND($B22<>"",#REF!<>"01",NOT(ISBLANK(#REF!))),"blank",IF(AND($C$3="1",ISBLANK($C22),ISBLANK($B22)),"blank","")))))) -> #REF! | C22: 1.6.2 | H22: Inwieweit werden gemeldete Sicherheitsereignisse verwaltet? | I22: Sobald Sicherheitsereignisse gemeldet wurden, ist es von entscheidender Bedeutung, dass der Umgang mit den Ereignissen gesteuert wird. Dies bedeutet sicherzustellen, dass die Art und Kritikalität des gemeldeten Ereignisses sowie die verantwortlichen Personen schnell identifiziert werden, um sicherzustellen, dass zeitkritische Aspekte rechtzeitig behandelt werden. Sobald die Identifizierung erfolgt ist, muss sichergestellt werden, dass die verantwortlichen Personen Kenntnis von dem Ereignis erhalten und dieses in einem angemessenen zeitlichen Rahmen behandeln. Falls das Ereignis mehrere verschiedene Personen betrifft oder das Management ebenfalls einbezogen ist, ist darüber hinaus eine koordinierende Kommunikation ein wichtiger Teil des Ereignismanagements. Falls schließlich externe (vertragliche oder regulatorische) Meldepflichten bestehen, ist es wichtig sicherzustellen, dass diese ebenfalls auf professionelle Weise erfüllt werden. | J22: + Gemeldete Ereignisse werden unverzüglich bearbeitet. + Eine angemessene Reaktion auf gemeldete Sicherheitsereignisse ist sichergestellt. + Diesbezüglich gewonnene Erfahrungen werden in die kontinuierliche Verbesserung einbezogen. | K22: + Während der Bearbeitung werden gemeldete Ereignisse kategorisiert (z. B. nach der Verantwortung in Personal, physische- und Cybersicherheit betreffende Ereignisse), qualifiziert (z. B. nicht sicherheitsrelevant, Beobachtung, vorgeschlagene Sicherheitsverbesserung, Sicherheitsschwachstelle, Sicherheitsvorfall) und priorisiert (z. B. niedriger, mittlerer, hoher, kritischer Schweregrad). + Verantwortlichkeiten für den Umgang mit Ereignissen werden anhand ihrer Kategorie definiert und zugewiesen. Die folgenden Aspekte werden berücksichtigt: - Koordinierung von Vorfällen und Schwachstellen über mehrere Kategorien - Qualifikation und Ressourcen - Kommunikationsmethoden je nach Art und Priorität (z. B. nicht zeitkritische Kommunikation, zeitkritische Kommunikation, Notfallkommunikation) - Abwesenheitsmanagement + Es existiert eine Strategie zur Meldung potenziell strafrechtlicher Aspekte von Sicherheitsvorfällen an die zuständigen Behörden, sofern dies notwendig oder angemessen ist. (C, I, A). | L22: + Auf der Grundlage von Klasse, Kategorie und Schweregrad sind die maximalen Reaktionszeiten definiert. (C, I, A) + Ereignisse, die nicht entsprechend ihrer Priorität angemessen bearbeitet wurden, werden eskaliert. Die folgenden Aspekte werden berücksichtigt: (C, I, A) - Es sind Bedingungen und Schwellenwerte, wie z. B. maximale Reaktionszeiten, bevor eskaliert wird definiert, - Mechanismen, Prozesse und Kontakte für die Eskalation sind festgelegt, - Eskalationswege bis zur obersten Leitung der Organisation sind definiert. + Gesetzliche, regulatorische und vertragliche Meldepflichten und entsprechende Kontaktinformationen sind bekannt. (C, I, A) + Eine Kommunikationsstrategie für sicherheitsrelevante Ereignisse ist vorhanden. Die folgenden Aspekte werden berücksichtigt: (C, I, A) - Mit wem zu kommunizieren ist (z. B. Gesellschafter, betroffene Geschäftspartner und Kunden, weitere Gesellschafter, Öffentlichkeit), - Wann zu kommunizieren ist, - Verantwortlichkeiten für die Kommunikation, - Autorisierung und Freigabe der Kommunikation, - Gesetzliche und regulatorische Einschränkungen der Kommunikation, - Was zu kommunizieren ist (z. B. vorbereitete Vorlagen und Bausteine für bestimmte Szenarien), - Wie zu kommunizieren ist (z. B. Kommunikationskanäle). + Verfahren zur Reaktion auf Sicherheitsvorfälle bei Lieferanten sind etabliert. Die folgenden Aspekte werden berücksichtigt: (C, I, A) - Analyse der Auswirkungen auf die eigene Organisation und Abrufen entsprechender interner Mechanismen, - Die Notwendigkeit zur Berichterstattung entsprechend den eigenen Meldeverfahren. | M22: + Der Umgang mit Ereignissen unterschiedlicher Kategorien und verschiedener Prioritäten wird regelmäßig geprüft. (A) - Übung oder Simulation von selten vorkommenden Kategorien und Prioritäten, - Übungen oder Simulationen beinhalten Eskalationsmechanismen. | N22: + Standardmechanismen zur Meldung und Nachverfolgung relevanter Sicherheitsereignisse sind etabliert. | O22: ISO 27001:2022: A.5.24-27 ------ ISA/IEC 62443-2-1: 12.2.7, 12.2.8 ------ NIST CSF 2.0: RS.MA-02, RS.MA-03, RS.MA-04, GV.SC-08, ID.IM-02, ID.IM-04, RS.MA-01, RS.MA-05, RS.CO-02, RS.CO-03, RS.MI-01, RS.MI-02, RC.RP-01, RC.RP-02, RC.RP-04, RC.RP-05, RC.RP-06, RC.CO-03, RC.CO-04 | P22: BSI IT-Grundschutz-Kompendium: DER.2.1, DER.2.2, DER.2.3 NIST SP800-53r5: IR-6
A23: =IF(AND($B23<>"",$C$3="1",NOT(ISBLANK($C23))),"header",IF(AND($B23<>"",$C$3<>"1",NOT(ISBLANK($C23))),"blank",IF(AND($B23<>"",#REF!="01",NOT(ISBLANK(#REF!))),"header",IF(AND($B23<>"",#REF!<>"01",NOT(ISBLANK(#REF!))),"blank",IF(AND($B23<>"",#REF!<>"01",NOT(ISBLANK(#REF!))),"blank",IF(AND($C$3="1",ISBLANK($C23),ISBLANK($B23)),"blank","")))))) -> #REF! | C23: 1.6.3 | H23: In welchem Maße ist die Organisation vorbereitet, mit Krisensituationen umzugehen? | I23: Eine Krise tritt auf, wenn außergewöhnliche Situationen (z. B. Naturkatastrophen, physische Angriffe, Pandemien, außergewöhnliche gesellschaftliche Ereignisse, Cyberangriffe, die zu schwerwiegenden Ausfällen der Infrastruktur führen) die Kernprozesse einer Organisation erheblich beeinträchtigen. In solchen Fällen besteht die oberste Priorität der Organisation darin, die Situation so effektiv wie möglich zu bewältigen und den Normalzustand so schnell wie möglich wiederherzustellen. | J23: + Es ist eine geeignete Planung für die Reaktion auf Krisensituationen und zur Bewältigung von Krisen vorhanden und die notwendigen Ressourcen stehen zur Verfügung. + Verantwortlichkeiten und Befugnisse für das Krisenmanagement in der Organisation sind definiert, dokumentiert und zugewiesen. + Die verantwortlichen Mitarbeiter sind definiert und für ihre Aufgabe qualifiziert. | K23: + Methoden zur Erkennung von Krisensituationen sind etabliert. Allgemeine Hinweise auf eine vorliegende oder bevorstehende Krisensituation und eine bestimmte vorhersehbare Krise sind identifiziert. + Ein Verfahren zum Abrufen und/oder Eskalieren des Krisenmanagements ist vorhanden. + Strategische Ziele und deren Priorität in Krisensituationen sind definiert und dem relevanten Personal bekannt. Die folgenden Aspekte werden berücksichtigt: - Ethische Prioritäten (z. B. Schutz von Leben und Gesundheit), - Kerngeschäftsprozesse (z. B. Prozesse, die das Überleben der Organisation sicherstellen), - Angemessene Informationssicherheit. + Ein Krisenstab ist festgelegt und genehmigt. Die folgenden Aspekte werden berücksichtigt: - Commitment der Organisationsleitung, - Zusammensetzung (z. B. Beteiligung aller wichtigen Funktionsbereiche der Organisation einschließlich Unternehmensleitung, operativer Geschäftsbetrieb, Personalabteilung, Unternehmens-, Informations-, IT-/Cyber-Sicherheit, betrieblicher Notdienst, Kommunikationsabteilung, Finanzabteilung), - Struktur und Rollen, - Kompetenzen der Mitglieder, - Erwartung und Befugnisse, - Entscheidungsprozesse. + Krisenmaßnahmen und -verfahren sind definiert und genehmigt. Die folgenden Aspekte werden berücksichtigt: - Ausnahmebefugnisse und Entscheidungsfindungsprozesse über den Krisenstab hinaus, - Primäre und sekundäre Kommunikationsmittel, - Notfallbetriebsverfahren, - Krisenspezifische Organisationsstrukturen (z. B. Berichterstattung, Informationsbeschaffung, Entscheidungsfindung), - Krisenspezifische Funktionsbereiche, Verantwortlichkeiten und Befugnisse (einschließlich Berichterstattung), - Krisenspezifische Werkzeuge. + Die Krisenplanung wird regelmäßig überprüft und aktualisiert. | L23: + Relevante unterschiedliche mögliche Krisenszenarien sind identifiziert. Die folgenden Aspekte werden berücksichtigt: (A) - Krisensituationen mit Nichtverfügbarkeit von Schlüsselpersonal (z. B. Gesundheitskrise, Entführung/Unfälle, die die Unternehmensleitung betreffen), - Krisensituationen mit Nichtverfügbarkeit wichtiger physischer Ressourcen (z. B. Brand oder Naturkatastrophen an bestimmten Standorten), - Krisensituationen mit Ausfall wichtiger Infrastruktur (z. B. Ausfall der Hauptkommunikationskanäle, vollständiger Ausfall der IT-Infrastruktur). + Notwendige Ressourcen und Informationen zur Bewältigung der Krise (z. B. Kommunikationsinfrastruktur, Verfügbarkeit notwendiger Informationen wie z. B. Kontaktinformationen und maßgebliche Risiken in verschiedenen Krisensituationen) sind identifiziert. Geeignete Maßnahmen zur Sicherstellung der Verfügbarkeit der Infrastruktur oder eine Ausweichplanung sowie Informationen, die verschiedene Krisenszenarien berücksichtigen, sind vorhanden. (A) + Es ist eine Kommunikationsstrategie für Krisensituationen vorhanden. Die folgenden Aspekte werden berücksichtigt: (A) - Mit wem zu kommunizieren ist (z. B. Gesellschafter, betroffene Geschäftspartner und Kunden, weitere Gesellschafter, die Öffentlichkeit - Wann zu kommunizieren ist, - Verantwortlichkeiten für die Kommunikation, - Autorisierung und Freigabe der Kommunikation, - Gesetzliche und regulatorische Einschränkungen der Kommunikation (z. B. aktienrechtliche Vorschriften), - Was zu kommunizieren ist (z. B. vorbereitete Vorlagen für Stellungnahmen, Kontaktinformationen und Bausteine für bestimmte Szenarien), - Kommunikationskanäle (z. B. Medienkanäle, soziale Medien), - Instrumente zur Überwachung der Kommunikation, - Anweisungen und Verfahren für Mitarbeiter (im Falle direkter Kommunikationsansätze wie z. B. dem direkten Kontakt von Mitarbeitern durch Geschäftspartner). + Die Effizienz, Durchführbarkeit und Angemessenheit der Krisenplanung wird regelmäßig evaluiert. (A) + Stichprobenartige Prüfungen der Krisenplanung werden durchgeführt (z. B. Simulation, Planspiele unter Beteiligung des Schlüsselpersonals) (A) + Es werden verschiedene relevante potenzielle Krisenszenarien identifiziert. Die folgenden Aspekte berücksichtigt: (A) - Krisensituationen, in denen Schlüsselpersonal ausfällt (z. B. Gesundheitskrise, Entführung / Unfälle, die die Führungsspitze der Organisation betreffen), - Krisensituationen, in denen wichtige physische Ressourcen nicht verfügbar sind (z. B. Brand oder Naturkatastrophen an bestimmten Standorten) - Krisensituationen mit Ausfall wichtiger Infrastruktur (z. B. Ausfall wichtiger Kommunikationskanäle). | M23: + Krisenübungen und -simulationen unter Einbeziehung aller relevanten Personen und Entscheidungsträger werden regelmäßig durchgeführt. (A) | N23: keine | O23: ISO 27001:2022: A.5.29 ------ ISA/IEC 62443-2-1: 13.2.1 | P23: BSI IT-Grundschutz-Kompendium: DER.4 ------ ISO 22361:2022 - Crisis management — Guidelines ------ NIST SP800-53r5: CP-2, CP-3, CP-4, CP-6, CP-7, CP-8, CP-9, CP-9(3), CP-10, CP-11, CP-12, CP-13, PE-8, PE-13(2), IR-4, IR-5, IR-7, IR-8, IR-9, PM-8, SI-17
A24: =IF(AND($B24<>"",$C$3="1",NOT(ISBLANK($C24))),"header",IF(AND($B24<>"",$C$3<>"1",NOT(ISBLANK($C24))),"blank",IF(AND($B24<>"",#REF!="01",NOT(ISBLANK(#REF!))),"header",IF(AND($B24<>"",#REF!<>"01",NOT(ISBLANK(#REF!))),"blank",IF(AND($B24<>"",#REF!<>"01",NOT(ISBLANK(#REF!))),"blank",IF(AND($C$3="1",ISBLANK($C24),ISBLANK($B24)),"blank","")))))) -> header | B24: 1 | C24: 2 | H24: ​Human Resources
A25: =IF(AND($B25<>"",$C$3="1",NOT(ISBLANK($C25))),"header",IF(AND($B25<>"",$C$3<>"1",NOT(ISBLANK($C25))),"blank",IF(AND($B25<>"",#REF!="01",NOT(ISBLANK(#REF!))),"header",IF(AND($B25<>"",#REF!<>"01",NOT(ISBLANK(#REF!))),"blank",IF(AND($B25<>"",#REF!<>"01",NOT(ISBLANK(#REF!))),"blank",IF(AND($C$3="1",ISBLANK($C25),ISBLANK($B25)),"blank","")))))) -> #REF! | C25: 2.1.1 | H25: Inwieweit wird die Eignung von Mitarbeitern für sensible Tätigkeitsbereiche sichergestellt? | I25: Kompetente, verlässliche und vertrauenswürdige Mitarbeiter sind ein Schlüssel für die Informationssicherheit in der Organisation. Daher ist es wichtig, die Eignung potenzieller Mitarbeiter (z. B. Bewerber) in einen angemessenen Maß zu überprüfen. | J25: + Sensible Tätigkeitsbereiche und Stellen sind ermittelt. + Die Anforderungen an Mitarbeiter bezüglich ihres Stellenprofils sind ermittelt und erfüllt. + Die Identität von potenziellen Mitarbeitern wird überprüft (z. B. Prüfung von Ausweisdokumenten). | K25: + Die persönliche Eignung von potenziellen Mitarbeitern wird mit einfachen Verfahren überprüft (z. B. Einstellungsgespräch). + Es findet eine erweiterte Prüfung der Eignung abhängig vom jeweiligen Tätigkeitsbereich und der jeweiligen Stelle statt. (Z. B. Assessment-Center, psychologische Analyse, Prüfung von Referenzen, Zeugnissen und Diplomen, Einsichtnahme in Führungszeugnisse, Prüfung des beruflichen und privaten Hintergrunds). | L25: keine | M25: keine | N25: keine | O25: ISO 27001:2022: A.6.1 ------ ISA/IEC 62443-2-1: 6.2.2 ------ NIST CSF 2.0: GV.RR-04 PR.AT-02 | P25: BSI IT-Grundschutz-Kompendium: ORP.2 ------ NIST SP800-53r5: PS-2, PS-3, PS-7, PS-9, SA-21
A26: =IF(AND($B26<>"",$C$3="1",NOT(ISBLANK($C26))),"header",IF(AND($B26<>"",$C$3<>"1",NOT(ISBLANK($C26))),"blank",IF(AND($B26<>"",#REF!="01",NOT(ISBLANK(#REF!))),"header",IF(AND($B26<>"",#REF!<>"01",NOT(ISBLANK(#REF!))),"blank",IF(AND($B26<>"",#REF!<>"01",NOT(ISBLANK(#REF!))),"blank",IF(AND($C$3="1",ISBLANK($C26),ISBLANK($B26)),"blank","control")))))) -> #REF! | C26: 2.1.2 | H26: Inwieweit werden alle Mitarbeiter vertraglich zur Einhaltung der Informationssicherheitsrichtlinien verpflichtet? | I26: Für Organisationen gelten Gesetze, Vorschriften und interne Richtlinien. Bereits bei der Einstellung von Mitarbeitern muss sichergestellt werden, dass sich Mitarbeiter zur Einhaltung der Richtlinien verpflichten und ihnen die Folgen eines Fehlverhaltens bewusst sind. | J26: + Es besteht eine Verpflichtung zur Geheimhaltung. + Es besteht eine Verpflichtung zur Einhaltung der Richtlinien zur Informationssicherheit. | K26: + Es besteht eine Verpflichtung zur Geheimhaltung über das Arbeitsverhältnis bzw. den Auftrag hinaus. + Informationssicherheit wird in den Arbeitsverträgen der Mitarbeiter berücksichtigt. + Eine Vorgehensweise bei Verstößen gegen die vorstehenden Verpflichtungen ist beschrieben. | L26: Keine | M26: Keine | N26: Keine | O26: ISO 27001:2022: A.6.2, A.6.5 | P26: BSI IT-Grundschutz-Kompendium:ORP.2 ------ NIST SP800-53r5:PL-4, PS-4, PS-6, PS-8
A27: =IF(AND($B27<>"",$C$3="1",NOT(ISBLANK($C27))),"header",IF(AND($B27<>"",$C$3<>"1",NOT(ISBLANK($C27))),"blank",IF(AND($B27<>"",#REF!="01",NOT(ISBLANK(#REF!))),"header",IF(AND($B27<>"",#REF!<>"01",NOT(ISBLANK(#REF!))),"blank",IF(AND($B27<>"",#REF!<>"01",NOT(ISBLANK(#REF!))),"blank",IF(AND($C$3="1",ISBLANK($C27),ISBLANK($B27)),"blank","")))))) -> #REF! | C27: 2.1.3 | H27: Inwieweit werden Mitarbeiter hinsichtlich der Risiken beim Umgang mit Informationen geschult und sensibilisiert? | I27: Wenn die Anforderungen und Risiken der Informationssicherheit bei den Mitarbeitern nicht bekannt sind, besteht das Risiko, dass sich Mitarbeiter falsch verhalten und damit der Organisation ein Schaden entsteht. Daher ist es wichtig, dass die Informationssicherheit verinnerlicht und als selbstverständlicher Bestandteil der Arbeit gelebt wird. | J27: + Mitarbeiter sind geschult und sensibilisiert. | K27: + Ein Konzept zur Sensibilisierung und Schulung der Mitarbeiter ist erstellt. Die folgenden Aspekte sind berücksichtigt: - Richtlinie zur Informationssicherheit, - Meldungen von Informationssicherheitsereignissen, - Verhalten bei Auftreten von Schadsoftware, - Richtlinien zu Benutzerkonten und Anmeldeinformationen (z. B. Passwort-Richtlinie), - Compliance-Themen der Informationssicherheit, - Anforderungen und Verfahren zum Einsatz von Geheimhaltungsvereinbarungen bei der gemeinsamen Nutzung schutzbedürftiger Informationen, - Nutzung organisationsfremder IT-Dienste. + Zielgruppen für Schulungs- und Sensibilisierungsmaßnahmen (d. h. Personen, die in bestimmten Risikoumgebungen tätig sind, wie z. B. Führungskräfte einschließlich Organisationsleiter, Administratoren, Mitarbeiter mit Zugriff auf Kundennetzwerke sowie Personal in Produktionsbereichen) werden identifiziert und in einem Schulungskonzept berücksichtigt. + Das Konzept wurde vom verantwortlichen Management freigegeben. + Schulungs- und Sensibilisierungsmaßnahmen werden sowohl in regelmäßigen Abständen als auch als Reaktion auf Ereignisse durchgeführt. + Die Teilnahme an Schulungs- und Sensibilisierungsmaßnahmen wird dokumentiert. + Mitarbeitern sind die Ansprechpartner für Informationssicherheit bekannt. | L27: Keine | M27: Keine | N27: Keine | O27: ISO 27001:2022: 7.2,7.3, A.6.3 ------ ISA/IEC 62443-2-1: 6.2.4 ------ NIST CSF 2.0: PR.AT-01, PR.AT-02, GV.RR-01, GV.RR-02, GV.OC-02, GV.RR-04 | P27: BSI IT-Grundschutz-Kompendium: ORP.2 ------ NIST SP800-53r5: IR-2, AT-2(2), AT-2(3), AT-3(5), AT-6, AC-21(1), AT-3, AT-4, IR-2, IR-3, PM-12, PM-13, SA-16
A28: =IF(AND($B28<>"",$C$3="1",NOT(ISBLANK($C28))),"header",IF(AND($B28<>"",$C$3<>"1",NOT(ISBLANK($C28))),"blank",IF(AND($B28<>"",#REF!="01",NOT(ISBLANK(#REF!))),"header",IF(AND($B28<>"",#REF!<>"01",NOT(ISBLANK(#REF!))),"blank",IF(AND($B28<>"",#REF!<>"01",NOT(ISBLANK(#REF!))),"blank",IF(AND($C$3="1",ISBLANK($C28),ISBLANK($B28)),"blank","")))))) -> #REF! | C28: 2.1.4 | H28: Inwieweit ist mobiles Arbeiten geregelt? | I28: Beim Arbeiten außerhalb der speziell dafür festgelegten Sicherheitszonen (mobiles Arbeiten) entstehen Risiken, die entsprechende Schutzmaßnahmen erfordern. | J28: + Die Anforderungen an mobiles Arbeiten sind ermittelt und erfüllt. Die folgenden Aspekte werden berücksichtigt: - Verhalten in privaten Bereichen (z. B. Arbeiten im Home Office oder in einem dedizierten Büro einer Coworking Umgebung) - Verhalten in öffentlichen Bereichen (z. B. während einer Reise, gemeinsames Büro in einer geteilten Coworking Umgebung) - Sicherer Umgang mit und Zugriff auf Informationen (sowohl elektronisch als auch in Papierform) unter Berücksichtigung des Schutzbedarfs und der vertraglichen Anforderungen in privaten und öffentlichen Bereichen - Maßnahmen zum Schutz vor Diebstahl (z. B. in öffentlichen Bereichen) - Maßnahmen zum sicheren Zugang zu IT-Services der Organisation | K28: + Die folgenden Aspekte werden berücksichtigt: - Maßnahmen bei Reisen (z. B. Einsichtnahme durch Behörden), - Maßnahmen bei Reisen in sicherheitskritische Länder. + Mitarbeitersensibilisierung. | L28: + Maßnahmen zum Schutz gegen Mithören und Einsichtnahme sind umgesetzt. (C) | M28: Keine | N28: Keine | O28: ISO 27001:2022: A.6.7, A.8.1 ------ ISA/IEC 62443-2-1: 8.4.2 | P28: BSI IT-Grundschutz-Kompendium: INF.8, INF.9, CON.7, NET.3.3 ------ NIST SP800-53r5: PE-17
A29: =IF(AND($B29<>"",$C$3="1",NOT(ISBLANK($C29))),"header",IF(AND($B29<>"",$C$3<>"1",NOT(ISBLANK($C29))),"blank",IF(AND($B29<>"",#REF!="01",NOT(ISBLANK(#REF!))),"header",IF(AND($B29<>"",#REF!<>"01",NOT(ISBLANK(#REF!))),"blank",IF(AND($B29<>"",#REF!<>"01",NOT(ISBLANK(#REF!))),"blank",IF(AND($C$3="1",ISBLANK($C29),ISBLANK($B29)),"blank","")))))) -> header | B29: 1 | C29: 3 | H29: Physische Sicherheit
A30: =IF(AND($B30<>"",$C$3="1",NOT(ISBLANK($C30))),"header",IF(AND($B30<>"",$C$3<>"1",NOT(ISBLANK($C30))),"blank",IF(AND($B30<>"",#REF!="01",NOT(ISBLANK(#REF!))),"header",IF(AND($B30<>"",#REF!<>"01",NOT(ISBLANK(#REF!))),"blank",IF(AND($B30<>"",#REF!<>"01",NOT(ISBLANK(#REF!))),"blank",IF(AND($C$3="1",ISBLANK($C30),ISBLANK($B30)),"blank","")))))) -> #REF! | C30: 3.1.1 | H30: Inwieweit werden Sicherheitszonen für den Schutz von Informationswerten gemanagt? | I30: Sicherheitszonen dienen dem physischen Schutz von Informationswerten. Je sensibler die zu verarbeitenden Informationswerte sind, desto mehr Schutzmaßnahmen sind erforderlich. | J30: + Ein Sicherheitszonenkonzept einschließlich der zugehörigen Schutzmaßnahmen basierend auf den Anforderungen an den Umgang mit Informationswerten ist vorhanden.​Die folgenden Aspekte werden berücksichtigt: - Physische Bedingungen (z. B. Gelände/Gebäude/Räume) werden in der Definition von Sicherheitszonen berücksichtigt, - Dies schließt auch Anlieferungs- und Versandbereiche mit ein. + Die definierten Schutzmaßnahmen sind umgesetzt. + Die Verhaltensregeln für Sicherheitszonen sind allen beteiligten Personen bekannt. | K30: + Verfahren zur Vergabe und zum Entzug von Zutrittsberechtigungen sind etabliert. + Richtlinien für das Besuchermanagement (einschließlich Registrierung und Begleitung von Besuchern) sind definiert. + Richtlinien für Einbringen und Nutzung von mobilen IT-Geräten und mobilen Datenträgern (z. B. Registrierung vor Mitnahme, Kennzeichnungspflichten) sind definiert und umgesetzt. + Netzwerk-/Infrastrukturkomponenten (eigene oder Kundennetzwerke) sind vor unbefugtem Zugang geschützt. + Externe Liegenschaften zur Lagerung und Verarbeitung von Informationswerten sind im Rahmen des Sicherheitszonenkonzeptes berücksichtigt (z. B. Lagerräume, Garagen, Werkstätten, Teststrecken, Datenverarbeitungszentren). | L30: + Maßnahmen zum Schutz gegen einfaches Mithören und Einsichtnahme sind umgesetzt. (C) | M30: Keine | N30: Keine | O30: ISO 27001:2022: A.7.1 - A.7.6 ------ ISA/IEC 62443-2-1: 6.4.1 ------ NIST CSF 2.0: GV.OC-04, PR.AA-06, DE.CM-02, DE.CM-03 | P30: BSI IT-Grundschutz-Kompendium: ORP.1, INF.1, INF.2, INF.5, INF.6, INF.7, INF.8, INF.9, INF.10, OPS.2.1 ------ NIST SP800-53r5: PE-3, MA-5, MP-3, MP-4, PE-2, PE-6, PE-8, PE-9, PE-10, PE-11, PE-13, PE-14, PE-15, PE-18, PE-23 | V30: Einleitung: Das Sicherheitszonen-Konzept beschreibt im Wesentlichen unterschiedliche physische Bereiche mit unterschiedlichen Schutzanforderungen. Wie eine entsprechende Zone zu schützen ist, leitet sich von den Schutzanforderungen der dort befindlichen Assets ab. Je wichtiger die dort befindlichen Assets sind, desto höher sind die Schutzanforderungen der Sicherheitszone. Beispielsweise sind Personaldaten oder Prototyp-Daten und die Bereiche, in denen diese verarbeitet werden, sensibler als Bereiche der Kantine, in denen Speisekarten angezeigt werden. Grundsätzlich kann jedes Unternehmen frei über die Anzahl der vorhandenen Zonentypen entscheiden. Ein Ansatz wäre zum Beispiel, die Klassifizierungsebenen von „öffentlich“ bis beispielsweise „streng vertraulich“ zu verknüpfen und die analoge Definition von 4 Sicherheitszonen. Basisinformation: In einem effektiven Sicherheitszonenkonzept werden unterschiedliche Sicherheitszonen voneinander durch geeignete Maßnahmen getrennt. Diese Trennungen können unter anderem durch die folgenden Maßnahmen erfolgen: - Technische Maßnahmen wie Detektoren und Alarmüberwachung. - Physische Maßnahmen wie die Nutzung von Wänden, Türen, Verriegelungssystemen - Maßnahmen unter Einsatz von Personal wie Wachpersonal, Pförtner, Empfangsmitarbeiter - Organisatorische Maßnahmen wie Prozesse für die Zuweisung und den Entzug von Zugangsberechtigungen. Nur wenn eine Zone von den vorhergehenden Zonen mittels einer oder mehrerer Maßnahmen getrennt ist, kann diese als unabhängige Zone betrachtet werden. Wenn keine Schutzmaßnahme zwischen den jeweiligen Sicherheitszonen vorhanden ist, fällt die Sicherheitszone mit höherem Schutzgrad auf die Zone mit niedrigerem Schutzgrad zurück. Im Beispiel eines Großraumbüros ist es nicht möglich, einen Teil als hochsensible Zone beispielsweise für den Umgang mit streng vertraulichen Daten festzulegen, und den anderen Teil als interne Zone. Im Beispiel eines Serverraums fällt dieser auf den Schutzgrad des vorhandenen Bereichs wie z. B. Fluren zurück, wenn die Türen des Serverraums nicht verriegelt sind und keine Überwachung stattfindet. Sicherheitszonen sollten nach dem Zwiebelschalenprinzip aufgebaut sein. Eine Zone mit hohem Schutz grenzt gewöhnlich nicht an einen öffentlichen Bereich an (z. B. die Prototypen-Lagerhalle befindet sich direkt neben der öffentlich zugänglichen Kantine). Idealerweise liegt zwischen einem öffentlichen Bereich und einem hochsensiblen Bereich, wie der Prototypen-Lagerhalle, eine „interne“ Zone als Puffer, die nur von den eigenen Mitarbeitern des Unternehmens betreten werden kann. Eine direkte Ableitung von Schutzmaßnahmen von den Sicherheitszonen ist die Umsetzung des Need-to-know-Prinzips. Je sicherheitsrelevanter die Sicherheitszone ist, desto weniger Personen sollten den Bereich betreten können. Wenn beispielsweise die gesamte Belegschaft ein Großraumbüro betreten kann, benötigen gewöhnlich ausschließlich Administratoren Zugangsberechtigungen für den Serverraum. Daher ist für die Umsetzung eines Sicherheitszonenkonzepts stets die Umsetzung eines Zugangskonzepts erforderlich. Es sollte jedoch beachtet werden, dass die Verriegelungskonzepte nicht 1 zu 1 den Sicherheitszonen entsprechen, da beispielsweise ein Prototyp, der für die hochsensible Prototypschutz-Zone verantwortlich ist, nicht in die hochsensible Serverraum-Zone gelangen darf, oder der Administrator nicht unbedingt Prototyp-Bereiche betreten muss. Die Definition von Sicherheitszonen kann unter anderem die folgenden Bereiche betreffen: - Technische Maßnahmen: Nutzung von Alarmanlagen, Bewegungsmeldern, Videokameras + physische Maßnahmen: Wände, Stacheldraht, Umzäunungen, Widerstandsklassen von Türen & Fenstern - Maßnahmen unter Einsatz von Personal: Einsatz von Pförtnern, Sicherheitsdienste, die Kontrollgänge durchführen, Einsatz von organsiationsfremden Dienstleistern wie z. B. Reinigungsfirmen - Organisatorische Maßnahmen: Zuweisung von Zugangsberechtigungen (Need-to-know), Häufigkeit von Überprüfungen der Zugangsberechtigungen; Einführung von Tonaufzeichnungsgeräten; Verdeckung der Optik von Mitarbeiter-Smartphones und Unkenntlichmachung von Mitarbeitern; Anforderungen an Bildschirmsperren und an eine aufgeräumte Arbeitsumgebung; Anforderungen an die Besucherregistrierung; Abschluss von Geheimhaltungsvereinbarungen (GHV); Nutzung oder Verbot von Smart Devices (z. B. mit Mikrofonen) #####Technik mit organisatorischen Maßnahmen##### Ausführungshilfen zur Festlegung von Sicherheitszonen im Sicherheitszonenkonzept: Für Sicherheitszonen hat sich in der Praxis die Verwendung eines Zonenschemas auf der Grundlage der Klassifizierung von vier Zonentypen bewährt: öffentlicher Bereich, Bereich mit normalem Schutz, Bereich mit hohem Schutz und Bereich mit sehr hohem Schutz. Es ist insbesondere beim ersten Entwurf von Sicherheitszonen einfacher, die Schutzanforderungen der Assets in ein Zonenschema zu übertragen. Ebenfalls als hilfreich erwiesen hat sich die farbliche Kennzeichnung der Sicherheitszonen auf Lageplänen der Grundstücke und Gebäude, um dem Unternehmen selbst und möglichen Prüfern einen schnellen Überblick über die Lage der Sicherheitszonen zu geben. Eine Möglichkeit ist die Verwendung von klar definiterten und intuitiv erkennbaren Farben für jede Sicherheitszone. Beispielsweise könnte das folgende Farbschema gewählt werden: + Grautöne = öffentliche Bereiche + Grüntöne = interne Bereiche + Gelbtöne = Bereiche mit hohem Schutzbedarf (z. B. vertraulich) + Rottöne = Bereiche mit sehr hohem Schutzbedarf (z. B. streng vertraulich) | W30: Beispielsweise können Sicherheitszonen wie folgt dargestellt werden: - Öffentlich (typische Farbkennzeichnung im Sicherheitszonenplan: grau): Öffentliche Straße, Parkplatz ohne Umzäunungen, Firmengelände, wenn keine Umzäunung vorhanden ist, Treppenhaus in einem Gebäude mit mehreren Mietern. - Normale Schutzanforderungen (typische Farbkennzeichnung im Sicherheitszonenplan: grün) (z. B. interne Daten): Firmengelände, wenn eine vollständige Umzäunung vorhanden ist, Empfangsbereiche, Konferenzräume, Flure, allgemeine Bereiche, in denen sich alle Mitarbeiter aufhalten können, diese aber nicht von öffentlichen Bereichen aus betreten werden können. - Besondere Schutzanforderungen (typische Farbkennzeichnung im Sicherheitzonenplan: violett): Serverraum, Infrastruktur-Schalt- und Verteilungsräume, Chemikalienlager Beispiel für eine Zone mit normalen Schutzanforderungen: Das folgende Beispiel enthält ausgewählte Maßnahmen für ein Großraumbüro der Versandabteilung, in dem ausschließlich interne Informationen wie Versandinformationen, Lieferscheine und Verpackungsetiketten hergestellt und verarbeitet werden. Die Klassifizierung der dort befindlichen Assets ist höchstens „interner Natur“. - Beispiel für technische Maßnahmen: Das Großraumbüro hat keine gesonderten technischen Schutzmaßnahmen umgesetzt. - Beispiel für physische Maßnahmen: Die Fassade sowie Türen und Fenster sind in Massivbauweise gebaut und bieten somit einen Einbruchschutz entsprechend der Widerstandsklasse RC 2 nach DIN EN 1627. Die Türen zum Großraumbüro sind am Tage offen, so dass jeder Mitarbeiter des Unternehmens den Raum jederzeit betreten kann. Am Abend wird die Tür verriegelt. - Beispiel für Maßnahmen mit Einsatz von Personal: Nachts führt ein Sicherheitsdienst sporadisch Streifgänge durch. Eine organisationsfremde Reinigungsfirma reinigt das Großraumbüro, wenn dieses außerhalb der regulären Arbeitszeiten nicht besetzt ist, und nutzt ihre eigenen Schlüssel. - Beispiel für organisatorische Maßnahmen: Jeder Mitarbeiter des Großraumbüros hat seinen eigenen Schlüssel. Ein Verbot der Nutzung von firmeneigenen und privaten Smartphones wurde nicht ausgesprochen. Die Mitarbeiter können diese Geräte frei nutzen. Eine Überprüfung der zugewiesenen Zugangsberechtigungen findet sporadisch statt. Mitarbeiter dürfen Dokumente wie Lieferscheine nach der Arbeit auf den Tischen liegen lassen. Besucher (und Lieferanten) dürfen den Bereich nach einer Registrierung, und falls dies notwendig ist, allein betreten, und brauchen im Voraus keine explizite Vertraulichkeitsvereinbarung abzuschließen. | X30: Beispielsweise können Sicherheitszonen wie folgt dargestellt werden: - Hohe Schutzanforderungen (typische Farbkennzeichnung im Sicherheitszonenplan: gelb/orange) (z. B. vertrauliche Daten): Personalabteilung, Konstruktionsbüro, IT-Büro, Leitungsbüros Beispiel für eine Zone mit hohem Schutzbedarf: Das folgende Beispiel enthält ausgewählte Maßnahmen für Konstruktionsbüros, in denen Angebotsunterlagen, Spezifikationen und Berechnungen erstellt, bearbeitet und aufbewahrt werden. Die Klassifizierung der dort befindlichen Assets ist „vertraulicher Art“. - Beispiel für technische Maßnahmen: Das Konstruktionsbüro ist mit Bewegungsmeldern ausgestattet. Nach der täglichen Arbeitszeit wird die Alarmanlage für das gesamte Gebäude um 22:00 Uhr aktiviert und automatisch um 6:00 Uhr deaktiviert. - Beispiel für physische Maßnahmen: Die Fassade sowie Türen und Fenster sind in Massivbauweise gebaut und bieten somit einen Einbruchschutz entsprechend der Widerstandsklasse RC 2 nach DIN EN 1627. Die Türen zum Konstruktionsbüro sind am Tage offen, wenn die Konstruktionsmitarbeiter innerhalb der Zone arbeiten. Am Abend und bei Abwesenheit der MItarbeiter wird die Tür verriegelt. - Beispiel für Maßnahmen mit Einsatz von Personal: Nachts führt ein Sicherheitsdienst sporadisch Streifgänge durch. Eine organisationsfremde Reinigungsfirma reinigt das Konstruktionsbüro während der regulären Arbeitszeiten ausschließlich unter Aufsicht der anwesenden Mitarbeiter. Die Reinigungsfirma hat keine eigenen Schlüssel zum Konstruktionsbüro. - Beispiel für organisatorische Maßnahmen: Nur die Mitarbeiter der Konstruktion haben ihren eigenen Schlüssel. Ein Verbot der Nutzung von firmeneigenen und privaten Smartphones wurde nicht ausgesprochen. Mitarbeiter können diese Geräte frei benutzen, jedoch besteht ein Verbot für das Aufnehmen von Fotos im Raum. Eine Überprüfung der zugewiesenen Zugangsberechtigungen findet einmal im Jahr statt. Mitarbeiter der Konstruktion sind verpflichtet, vertrauliche Unterlagen nach der Arbeit in abgeschlossenen Schränken aufzubewahren. Besuchern (und Lieferanten) ist es nicht gestattet, den Bereich allein zu betreten, und diese werden in diesem Bereich jederzeit begleitet. | Y30: Beispielsweise können Sicherheitszonen wie folgt dargestellt werden: - Sehr hohe Schutzanforderungen (typische Farbkennzeichnung im Sicherheitszonenplan: rot) (z. B. streng vertrauliche Daten): Prototypenbereich, Projektbüros für Kundenprojekte. Beispiel für eine Zone mit sehr hohem Schutzbedarf: Das folgende Beispiel enthält ausgewählte Maßnahmen für ein Projektbüro mit speziellen Kundenprojekten. Die Klassifizierung der dort befindlichen Assets ist „streng vertraulich“. - Beispiel für technische Maßnahmen: Der Bereich ist mit Bewegungsmeldern ausgestattet. Beim Verlassen des Bereiches wird ein Alarm aktiviert. Bei einem Einbruchsversuch ertönt eine laute Sirene. Darüber hinaus ist die Alarmanlage zu einem Sicherheitsdienst aufgeschaltet. - Beispiel für physische Maßnahmen: Die Fassade sowie Türen und Fenster sind in Massivbauweise gebaut und bieten somit einen Einbruchschutz entsprechend der Widerstandsklasse RC 2 nach DIN EN 1627. Der Bereich verfügt über einen außen angebrachten Türknauf, so dass es nicht möglich ist zu vergessen, die Tür zu schließen. Somit muss immer ein Schlüssel zum Betreten des Raums verwendet werden. Darüber hinaus sind Türschließer angebracht, um sicherzustellen, dass die Tür nicht offen bleibt. - Beispiel für Maßnahmen mit Einsatz von Personal: Organisationsfremde Dienstleister dürfen den Bereich nur in Ausnahmefällen nach vorheriger Ankündigung und Registrierung unter Begleitung von Mitarbeitern des Bereichs betreten. Mitarbeiter werden, bevor sie projektbezogene Zugriffsrechte erhalten, geschult und sensibilisiert. - Beispiel für organisatorische Maßnahmen: Nur Mitarbeiter der Abteilung haben ihren eigenen Schlüssel. Eine Überprüfung der zugewiesenen Zugangsberechtigungen findet einmal im Jahr statt. | Z30: - Welche verschiedenen Sicherheitzonen gibt es? - Wie sind Ihre Sicherheitszonen ausgeführt? - Was sind die Gründe für die Wahl Ihrer Sicherheitszonen? - Wo befinden sich die Bereiche mit sehr hohem Schutzbedarf? - Was passiert im Falle eines Einbruchs? - Wieviel Personen haben Zugang zu Zone XYZ? - Wer weist die entsprechenden Zugangsberechtigungen für den Bereich XYZ zu? - Wann wurde die letzte Überprüfung der zugewiesenen Zugangsberechtigungen für ausgewählte Bereiche durchgeführt? - Wann haben Sie zum letzten Mal eine Zugangsberechtigung widerrufen? - Wie dokumentieren Sie die Anfrage, Genehmigung und Zuweisung von Zugangsberechtigungen? - Wie funktioniert der Prozess der Besucherregistrierung? | AA30: - Sicherheitszonenkonzept und -plan (Lageplan) - Schlüssellisten - Auszüge der zugewiesenen Berechtigungen aus einem elektronischen Zugangskontrollsystem - Zugriffsprotokolle ausgewählter Bereiche - Besucherrichtlinie - Leitlinie für den Umgang mit mobilen IT-Geräten - Protokolle von Überprüfungen - Fotos der entsprechenden Bereiche mit erkennbaren Sicherheitsmaßnahmen - Verträge mit Sicherheitsunternehmen
A31: =IF(AND($B31<>"",$C$3="1",NOT(ISBLANK($C31))),"header",IF(AND($B31<>"",$C$3<>"1",NOT(ISBLANK($C31))),"blank",IF(AND($B31<>"",#REF!="01",NOT(ISBLANK(#REF!))),"header",IF(AND($B31<>"",#REF!<>"01",NOT(ISBLANK(#REF!))),"blank",IF(AND($B31<>"",#REF!<>"01",NOT(ISBLANK(#REF!))),"blank",IF(AND($C$3="1",ISBLANK($C31),ISBLANK($B31)),"blank","")))))) -> #REF! | C31: 3.1.2 | H31: Superseded by 1.6.3, 5.2.8 and 5.2.9
A32: =IF(AND($B32<>"",$C$3="1",NOT(ISBLANK($C32))),"header",IF(AND($B32<>"",$C$3<>"1",NOT(ISBLANK($C32))),"blank",IF(AND($B32<>"",#REF!="01",NOT(ISBLANK(#REF!))),"header",IF(AND($B32<>"",#REF!<>"01",NOT(ISBLANK(#REF!))),"blank",IF(AND($B32<>"",#REF!<>"01",NOT(ISBLANK(#REF!))),"blank",IF(AND($C$3="1",ISBLANK($C32),ISBLANK($B32)),"blank","")))))) -> #REF! | C32: 3.1.3 | H32: Inwieweit ist der Umgang mit unterstützenden Assets gemanagt? | I32: Während ihres Lebenszyklus (z. B. Nutzung, Entsorgung) sind unterstützende Werte (Supporting Assets) Risiken wie Verlust, Diebstahl oder unbefugter Einsichtnahme ausgesetzt. | J32: + Die Anforderungen an den Umgang mit unterstützenden Werten (Supporting Assets) (z. B. Transport, Aufbewahrung, Reparatur, Verlust, Rückgabe, Entsorgung) sind ermittelt und erfüllt. | K32: Keine | L32: + Die Entsorgung von Informationsträgern erfolgt nach einer der einschlägigen Normen (z. B. ISO 21964, mindestens Sicherheitsstufe 4). (C) | M32: Keine | N32: Keine | O32: ISO 27001:2022: A.5.10, A.5.11 ------ ISA/IEC 62443-2-1: 9.2.2 | P32: BSI IT-Grundschutz-Kompendium:SYS.4.5, CON.6 ------ ISO/IEC 21964-1:2018-08 ------ NIST SP800-53r5:MP-6(2), PE-4, PE-5
A33: =IF(AND($B33<>"",$C$3="1",NOT(ISBLANK($C33))),"header",IF(AND($B33<>"",$C$3<>"1",NOT(ISBLANK($C33))),"blank",IF(AND($B33<>"",#REF!="01",NOT(ISBLANK(#REF!))),"header",IF(AND($B33<>"",#REF!<>"01",NOT(ISBLANK(#REF!))),"blank",IF(AND($B33<>"",#REF!<>"01",NOT(ISBLANK(#REF!))),"blank",IF(AND($C$3="1",ISBLANK($C33),ISBLANK($B33)),"blank","")))))) -> #REF! | C33: 3.1.4 | H33: Inwieweit ist der Umgang mit mobilen IT-Geräten und mobilen Datenträgern gemanagt? | I33: Mobile IT-Geräte (z. B. Notebooks, Tablets, Smartphones) und mobile Datenträger (z. B. SD-Cards, Festplatten) werden in der Regel nicht nur in den Räumlichkeiten einer Organisation verwendet, sondern auch mobil eingesetzt. Dies führt zu einem erhöhten Risiko in Bezug auf z. B. Verlust oder Diebstahl. | J33: + Die Anforderungen an mobile IT-Geräte und mobile Datenträger sind ermittelt und erfüllt. Die folgenden Aspekte werden berücksichtigt: - Verschlüsselung, - Zugangsschutz (z. B. PIN, Passwort), - Kennzeichnung (auch unter Berücksichtigung von Anforderungen. zur Nutzung in Gegenwart von Kunden). | K33: + Registrierung der IT-Geräte. | L33: + Allgemeine Verschlüsselung von mobilen Datenträgern oder der darauf gespeicherten Informationswerte. Wenn dies technisch nicht durchführbar ist, werden Informationen durch ähnlich wirksame Maßnahmen geschützt. (C, I) | M33: Keine | N33: Keine | O33: ISO 27001:2022: A.6.7, A.7.10, A.8.1 ------ ISA/IEC 62443-2-1: 9.2.2 | P33: BSI IT-Grundschutz-Kompendium: SYS.4.5, SYS.3.1, SYS.3.2.1, SYS.3.3 ------ NIST SP800-53r5: SC-41, SC-42
A34: =IF(AND($B34<>"",$C$3="1",NOT(ISBLANK($C34))),"header",IF(AND($B34<>"",$C$3<>"1",NOT(ISBLANK($C34))),"blank",IF(AND($B34<>"",#REF!="01",NOT(ISBLANK(#REF!))),"header",IF(AND($B34<>"",#REF!<>"01",NOT(ISBLANK(#REF!))),"blank",IF(AND($B34<>"",#REF!<>"01",NOT(ISBLANK(#REF!))),"blank",IF(AND($C$3="1",ISBLANK($C34),ISBLANK($B34)),"blank","")))))) -> header | B34: 1 | C34: 4 | H34: ​Identity and Access Management
A35: =IF(AND($B35<>"",$C$3="1",NOT(ISBLANK($C35))),"header",IF(AND($B35<>"",$C$3<>"1",NOT(ISBLANK($C35))),"blank",IF(AND($B35<>"",#REF!="01",NOT(ISBLANK(#REF!))),"header",IF(AND($B35<>"",#REF!<>"01",NOT(ISBLANK(#REF!))),"blank",IF(AND($B35<>"",#REF!<>"01",NOT(ISBLANK(#REF!))),"blank",IF(AND($C$3="1",ISBLANK($C35),ISBLANK($B35)),"blank","")))))) -> header | B35: 2 | C35: 4.1 | H35: Identity Management
A36: =IF(AND($B36<>"",$C$3="1",NOT(ISBLANK($C36))),"header",IF(AND($B36<>"",$C$3<>"1",NOT(ISBLANK($C36))),"blank",IF(AND($B36<>"",#REF!="01",NOT(ISBLANK(#REF!))),"header",IF(AND($B36<>"",#REF!<>"01",NOT(ISBLANK(#REF!))),"blank",IF(AND($B36<>"",#REF!<>"01",NOT(ISBLANK(#REF!))),"blank",IF(AND($C$3="1",ISBLANK($C36),ISBLANK($B36)),"blank","")))))) -> #REF! | C36: 4.1.1 | H36: Inwieweit ist der Umgang mit Identifikationsmitteln verwaltet? | I36: Um die Berechtigung sowohl für den physischen Zutritt als auch elektronischen Zugang zu überprüfen, werden oftmals Identifikationsmittel wie Schlüssel, Sichtausweise, weitere physische Zugriffsgeräte und auch kryptographische Tokens verwendet. Diese Schutzmerkmale sind nur dann verlässlich, wenn der Umgang mit solchen Identifikationsmitteln adäquat gehandhabt wird. | J36: + Die Anforderungen an den Umgang mit Identifikationsmitteln über den gesamten Lebenszyklus sind ermittelt und erfüllt. Die folgenden Aspekte werden berücksichtigt: - Erstellung, Übergabe, Rückgabe und Vernichtung, - Gültigkeitszeiträume, - Rückverfolgbarkeit, - Umgang mit Verlust. | K36: + Identifikationsmittel können nur unter kontrollierten Bedingungen hergestellt werden. | L36: + Ein Konzept zur Sperrung oder Ungültigmachung von Identifikationsmitteln bei Verlust ist erstellt und wird soweit möglich umgesetzt. (C, I, A) | M36: Keine | N36: Keine | O36: ISO 27001:2022: A.5.18 ------ NIST CSF 2.0: PR.AA-01 | P36: BSI IT-Grundschutz-Kompendium: SYS.4.5, SYS.3.1, SYS.3.2.1, SYS.3.3 ------ NIST SP800-53r5: SC-41, SC-42 | Z36: - Wo ist festgelegt, welche Informationsträger vorhanden sind und welche Informationswerte auf diesen gespeichert werden dürfen? - Wie werden Informationsträger mit hohen Schutzanforderungen geschützt? - Welche Verschlüsselungsverfahren werden angewendet? - Wo sind die Anforderungen an den Lebenszyklus der verschiedenen Informationsträger beschrieben? - Wie müssen Mitarbeiter mit Dokumenten verfahren, wenn sie den Arbeitsplatz verlassen? - Wie werden Festplatten z. B. von gekauften oder gemieteten Geräten entsorgt? - Wie werden Papierdokumente entsorgt? - Wo befinden sich die Aktenvernichter/Datenschutztonnen?
A37: =IF(AND($B37<>"",$C$3="1",NOT(ISBLANK($C37))),"header",IF(AND($B37<>"",$C$3<>"1",NOT(ISBLANK($C37))),"blank",IF(AND($B37<>"",#REF!="01",NOT(ISBLANK(#REF!))),"header",IF(AND($B37<>"",#REF!<>"01",NOT(ISBLANK(#REF!))),"blank",IF(AND($B37<>"",#REF!<>"01",NOT(ISBLANK(#REF!))),"blank",IF(AND($C$3="1",ISBLANK($C37),ISBLANK($B37)),"blank","")))))) -> #REF! | C37: 4.1.2 | H37: Inwieweit wird der Zugang von Benutzern zu IT-Diensten und IT-Systemen gesichert? | I37: Nur sicher identifizierte (authentifizierte) Benutzer sollen Zugriff auf IT-Systeme erhalten. Zu diesem Zweck wird die Identität eines Benutzers durch geeignete Verfahren sicher festgestellt. | J37: + Die Auswahl der Verfahren zur Benutzerauthentifizierung wird auf Basis einer Risikobewertung getroffen. Mögliche Angriffsszenarien werden berücksichtigt (z. B. direkte Zugänglichkeit über das Internet). + Die Authentifizierungsverfahren entsprechen den anerkannten Best Practices im Bereich Sicherheit. | K37: + Die Verfahren zur Benutzerauthentifizierung werden auf der Grundlage der geschäftsbezogenen und sicherheitsrelevanten Anforderungen festgelegt und umgesetzt. + Benutzer werden mindestens mittels starker Passwörter entsprechend dem aktuellen Stand der Technik authentifiziert. + Es werden höherwertige Verfahren zur Authentifizierung von privilegierten Benutzerkonten angewendet (z. B. Privilegiertes Zugangsmanagement, 2-Faktor-Authentifizierung). | L37: + Abhängig von der Risikobewertung werden die Authentifizierungsverfahren und die Zugriffskontrolle durch ergänzende Maßnahmen verstärkt (z. B. dauerhafte Zugriffsüberwachung hinsichtlich Unregelmäßigkeiten oder Einsatz einer starken Authentifizierung, automatische Abmeldung, Sperrung bei Inaktivität oder Schutz vor Brute-Force-Angriffen). (C, I, A) | M37: + Bevor Benutzer Zugriff auf Daten mit sehr hohem Schutzbedarf erhalten, werden sie durch starke Authentifizierung (z. B. 2-Faktor-Authentifizierung) authentifiziert. (C, I) | N37: Keine | O37: ISO 27001:2022: A.5.15, A.8.5 ------ NIST CSF 2.0: PR.AA-02, PR.AA-03 | P37: BSI IT-Grundschutz-Kompendium: ORP.4, OPS.1.1.2 ------ NIST SP800-53r5: AC-2(12), AC-3(14), IA-11, MA-4, AC-7, AC-10, AC-11, AC-12, AC-14, AC-17, AC-18, AC-20, AC-24, AC-25, IA-3, IA-5, IA-9 | Z37: - Welche Verfahren zur Benutzerauthentifizierung werden in der Organisation verwendet? - Welche Kriterien wurden für die Auswahl der Verfahren zur Benutzerauthentifizierung angewendet (Risikobewertung, Stand der Technik, geschäftliche Anforderungen und Sicherheitsanforderungen usw.)? - Welche Verfahren werden für die Authentifizierung von privilegierten Benutzerkonten angewendet? - Wie wird sichergestellt, dass der in der Organisation verwendete Passwort-Standard dem aktuellen Stand der Technik entspricht? - Wurden sensible Ressourcen identifiziert, und auf welche sensiblen Ressourcen und Systeme wird mittels 2-Faktor-Authentifizierung zugegriffen? - Wie wird sichergestellt, dass privilegierte Zugriffsrechte mittels höherwertiger Authentifizierungsverfahren beschränkt, kontrolliert und gesichert werden? - Wurden Informationen mit sehr hohem Schutzbedarf identifiziert und der damit verbundene Zugriff mit einem zweiten Faktor verwechselt?
A38: =IF(AND($B38<>"",$C$3="1",NOT(ISBLANK($C38))),"header",IF(AND($B38<>"",$C$3<>"1",NOT(ISBLANK($C38))),"blank",IF(AND($B38<>"",#REF!="01",NOT(ISBLANK(#REF!))),"header",IF(AND($B38<>"",#REF!<>"01",NOT(ISBLANK(#REF!))),"blank",IF(AND($B38<>"",#REF!<>"01",NOT(ISBLANK(#REF!))),"blank",IF(AND($C$3="1",ISBLANK($C38),ISBLANK($B38)),"blank","control")))))) -> #REF! | C38: 4.1.3 | H38: Inwieweit werden Benutzerkonten und Anmeldeinformationen sicher verwaltet und angewendet? | I38: Der Zugang zu Informationen und IT-Systemen erfolgt über validierte Benutzerkonten, welche einer Person zugeordnet sind. Es ist wichtig, dass Anmeldeinformationen geschützt werden und die Rückverfolgbarkeit von Transaktionen und Zugriffen sichergestellt wird. | J38: + Die Erstellung, Änderung und Löschung von Benutzerkonten wird durchgeführt. + Es werden eindeutige und personalisierte Benutzerkonten verwendet. + Die Nutzung von „Sammel-Konten“ ist geregelt (z. B. auf Fälle beschränkt, bei denen die Rückverfolgbarkeit von Aktionen verzichtbar ist). + Benutzerkonten werden unmittelbar nachdem der Benutzer aus der Organisation ausgeschieden ist oder diese verlassen hat (z. B. bei Beendigung des Arbeitsverhältnisses) gesperrt. + Benutzerkonten werden in regelmäßigen Abständen überprüft. + Es erfolgt eine sichere Zustellung der Anmeldeinformationen an den Benutzer. + Eine Richtlinie zum Umgang mit Anmeldeinformationen ist definiert und umgesetzt. Die folgenden Aspekte werden berücksichtigt: - Keine Weitergabe von Anmeldedaten, auch nicht an Personen in leitender Position, im Rahmen der geltenden Gesetze, - kein Notieren von Anmeldeinformationen oder unverschlüsselte Speicherung - sofortige Änderung der Anmeldeinformation bei Verdacht auf mögliche Kompromittierung - keine Verwendung von identischen Anmeldeinformationen für geschäftliche und nicht-geschäftliche Nutzung - Änderung von temporären oder Initial-Anmeldeinformationen nach dem 1. Login - Vorgaben für die Qualität von Anmeldeinformationen (z. B. Passwort-Länge, zu verwendende Zeichenarten). | K38: + Ein Basis-Benutzerprofil mit minimalen Zugriffsrechten und Funktionalitäten ist vorhanden und wird angewendet. + Herstellerseitig vorgegebene Standardkonten und -Passwörter werden deaktiviert (z. B. durch Sperrung oder Änderung des Passworts). + Die Einrichtung von Benutzerkonten erfolgt durch die verantwortliche Stelle oder wird durch diese autorisiert. + Die Einrichtung von Benutzerkonten unterliegt einem Genehmigungsprozess (4-Augen-Prinzip). + Benutzerkonten von Dienstleistern werden nach Abschluss von deren Aufgabe gesperrt. + Sperr- und Löschfristen für Benutzerkonten sind definiert. + Die Verwendung von Standard-Passworten wird technisch verhindert. + Beim Einsatz einer starken Authentifizierung wird das Medium (z. B. Faktor Besitz) sicher verwendet. + Es findet eine Überprüfung der Benutzerkonten in regelmäßigen Abständen statt. Dazu gehören auch Benutzerkonten in IT-Systemen von Kunden. + Die interaktive Anmeldung bei Dienstkonten (technischen Konten) wird technisch verhindert. | L38: Keine | M38: Keine | N38: Keine | O38: ISO 27001:2022: A.5.16, A.5.17, A.5.18, A.8.9 ------ NIST CSF 2.0: PR.AA-04 | P38: BSI IT-Grundschutz-Kompendium: ORP.4, OPS.1.1.2 ------ NIST SP800-53r5: AC-2(2), IA-5(13), IA-11, AC-16, AC-20, CA-9, IA-2, IA-4, IA-6, IA-7, IA-8, SC-2 | Z38: - Wie werden Benutzerkonten eingerichtet, geändert, gesperrt und gelöscht? Werden eindeutige und personalisierte Benutzerkonten verwendet? - Welche Sicherheitsmaßnahmen wurden bei der Nutzung von „Sammelkonten“ umgesetzt? - Werden Benutzerkonten in regelmäßigen Abständen überprüft? Können Sie die letzte Überprüfung zeigen? - Wie werden Benutzer-Zugangsdaten bereitgestellt? - Welche Regelungen wurden für den Umgang mit Anmeldeinformationen festgelegt und umgesetzt? - Welche Schulungen haben die Mitarbeiter bezüglich Umgang mit Zugangsdaten absolviert? - Welche Sicherheitsmaßnahmen haben Sie getroffen, um sicherzustellen dass Zugangsdaten nicht kompromittiert werden? - Welche Netzwerkfreigaben werden für die Einrichtung von Benutzerkonten genutzt?
A39: =IF(AND($B39<>"",$C$3="1",NOT(ISBLANK($C39))),"header",IF(AND($B39<>"",$C$3<>"1",NOT(ISBLANK($C39))),"blank",IF(AND($B39<>"",#REF!="01",NOT(ISBLANK(#REF!))),"header",IF(AND($B39<>"",#REF!<>"01",NOT(ISBLANK(#REF!))),"blank",IF(AND($B39<>"",#REF!<>"01",NOT(ISBLANK(#REF!))),"blank",IF(AND($C$3="1",ISBLANK($C39),ISBLANK($B39)),"blank","")))))) -> header | B39: 2 | C39: 4.2 | H39: Zugriffsverwaltung
A40: =IF(AND($B40<>"",$C$3="1",NOT(ISBLANK($C40))),"header",IF(AND($B40<>"",$C$3<>"1",NOT(ISBLANK($C40))),"blank",IF(AND($B40<>"",#REF!="01",NOT(ISBLANK(#REF!))),"header",IF(AND($B40<>"",#REF!<>"01",NOT(ISBLANK(#REF!))),"blank",IF(AND($B40<>"",#REF!<>"01",NOT(ISBLANK(#REF!))),"blank",IF(AND($C$3="1",ISBLANK($C40),ISBLANK($B40)),"blank","")))))) -> #REF! | C40: 4.2.1 | H40: Inwieweit werden Zugriffsrechte vergeben und verwaltet? | I40: Das Management von Zugriffsrechten stellt sicher, dass nur berechtigte (autorisierte) Benutzer Zugriff auf Informationen und IT-Services haben. Zu diesem Zweck werden den Benutzerkonten Zugriffsrechte zugewiesen. | J40: + Die Anforderungen an das Management von Zugriffsrechten (Autorisierung) sind ermittelt und erfüllt. Die folgenden Aspekte werden berücksichtigt: - Verfahren zur Beantragung, Verifizierung und Genehmigung, - Anwendung des Minimal- („Need-to-know" / “Least-Privilege“)-Prinzips. - Zugriffsrechte werden widerrufen, wenn sie nicht mehr benötigt werden + Die erteilten Zugriffsrechte für normale und privilegierte Benutzerkonten sowie technische Konten werden in regelmäßigen Abständen auch in IT-Systemen von Kunden überprüft. | K40: + Berechtigungskonzepte für den Zugriff auf Informationen sind erstellt. + Berechtigungs-Rollen werden verwendet. + Die Vergabe von Rechten erfolgt bedarfsorientiert und entsprechend der Rolle und/oder dem Verantwortungsbereich. + Normalen Benutzerkonten werden keine privilegierten Zugriffsrechte erteilt. + Die Zugriffsrechte eines Benutzers werden aktualisiert, sobald sich dessen Aufgabenbereich geändert hat (z. B. Wechsel in einen anderen Zuständigkeitsbereich). | L40: + Die Zugriffsrechte sind durch den internen Informationsverantwortlichen freigegeben. (C, I, A) | M40: + Informationen werden auf Inhaltsebene (z. B. auf Dateiebene) in verschlüsselter Form gespeichert, um zu verhindern, dass Unbefugte Zugriff auf die Informationen erhalten (privilegierte Benutzer). Ist eine Verschlüsselung nicht möglich, sind die Informationen durch gleichwertige Maßnahmen zu schützen. (C) + Bestehende Zugriffsrechte werden in kürzeren Abständen regelmäßig überprüft (z. B. vierteljährlich) (C) | N40: Keine | O40: ISO 27001:2022: A.5.18 ------ ISA/IEC 62443-2-1: 11.2.4, 11.3.1, 11.3.4 ------ NIST CSF 2.0: PR.AA-05 | P40: BSI IT-Grundschutz-Kompendium: ORP.4, OPS.1.1.2 ------ NIST SP800-53r5: AC-2(7), AC-3, IA-11, AC-2(3), AC-4, AC-6, AC-19, CA-3(6), CA-6, MP-2, PS-4, PS-5 | V40: + Bei externem Betrieb der IT-Infrastruktur (z. B. Server) und/oder Cloud-Lösungen ist sichergestellt, dass die Anforderungen an die Verschlüsselung entsprechend Kontrollfrage 5.1.1 eingehalten werden.
A41: =IF(AND($B41<>"",$C$3="1",NOT(ISBLANK($C41))),"header",IF(AND($B41<>"",$C$3<>"1",NOT(ISBLANK($C41))),"blank",IF(AND($B41<>"",#REF!="01",NOT(ISBLANK(#REF!))),"header",IF(AND($B41<>"",#REF!<>"01",NOT(ISBLANK(#REF!))),"blank",IF(AND($B41<>"",#REF!<>"01",NOT(ISBLANK(#REF!))),"blank",IF(AND($C$3="1",ISBLANK($C41),ISBLANK($B41)),"blank","")))))) -> header | B41: 1 | C41: 5 | H41: IT-Sicherheit/ Cybersicherheit
A42: =IF(AND($B42<>"",$C$3="1",NOT(ISBLANK($C42))),"header",IF(AND($B42<>"",$C$3<>"1",NOT(ISBLANK($C42))),"blank",IF(AND($B42<>"",#REF!="01",NOT(ISBLANK(#REF!))),"header",IF(AND($B42<>"",#REF!<>"01",NOT(ISBLANK(#REF!))),"blank",IF(AND($B42<>"",#REF!<>"01",NOT(ISBLANK(#REF!))),"blank",IF(AND($C$3="1",ISBLANK($C42),ISBLANK($B42)),"blank","")))))) -> header | B42: 2 | C42: 5.1 | H42: Kryptografie
A43: =IF(AND($B43<>"",$C$3="1",NOT(ISBLANK($C43))),"header",IF(AND($B43<>"",$C$3<>"1",NOT(ISBLANK($C43))),"blank",IF(AND($B43<>"",#REF!="01",NOT(ISBLANK(#REF!))),"header",IF(AND($B43<>"",#REF!<>"01",NOT(ISBLANK(#REF!))),"blank",IF(AND($B43<>"",#REF!<>"01",NOT(ISBLANK(#REF!))),"blank",IF(AND($C$3="1",ISBLANK($C43),ISBLANK($B43)),"blank","")))))) -> #REF! | C43: 5.1.1 | H43: Inwieweit wird die Nutzung kryptografischer Verfahren verwaltet? | I43: Beim Einsatz von kryptografischen Verfahren ist es wichtig, Risiken im Bereich Verfügbarkeit (verlorenes Schlüsselmaterial) wie auch Risiken durch falsch angewendete Verfahren im Bereich Integrität und Vertraulichkeit (schlechte Algorithmen/ Protokolle oder unzureichende Schlüsselstärken) zu berücksichtigen. | J43: + Alle angewendeten kryptografischen Verfahren (z. B. Verschlüsselung, Signatur und Hash-Algorithmen, Protokolle) bieten die für das jeweilige Anwendungsgebiet notwendige Sicherheit entsprechend der anerkannten Industrienorm, soweit rechtlich möglich. | K43: + Ein Konzept für den Einsatz von Kryptografie ist definiert und umgesetzt. Die folgenden Aspekte werden berücksichtigt: - Kryptografische Verfahren, - Schlüsselstärken, - Verfahren für den vollständigen Lebenszyklus von kryptografischen Schlüsseln einschließlich Erzeugung, Speicherung, Archivierung, Abruf, Verteilung, Deaktivierung, Erneuerung und Löschung. | L43: + Anforderungen an die Schlüsselhoheit (insbesondere bei organisationsfremder Verarbeitung) werden festgelegt und erfüllt. (C, I) | M43: Keine | N43: Keine | O43: ISO 27001:2022: A.8.24 ------ ISA/IEC 62443-2-1: 10.2.8 | P43: BSI IT-Grundschutz-Kompendium: CON.1, ORP.5 ------ NIST SP800-53r5: CM-3(6), SC-12, SC-13, SC-17, SC-28
A44: =IF(AND($B44<>"",$C$3="1",NOT(ISBLANK($C44))),"header",IF(AND($B44<>"",$C$3<>"1",NOT(ISBLANK($C44))),"blank",IF(AND($B44<>"",#REF!="01",NOT(ISBLANK(#REF!))),"header",IF(AND($B44<>"",#REF!<>"01",NOT(ISBLANK(#REF!))),"blank",IF(AND($B44<>"",#REF!<>"01",NOT(ISBLANK(#REF!))),"blank",IF(AND($C$3="1",ISBLANK($C44),ISBLANK($B44)),"blank","")))))) -> #REF! | C44: 5.1.2 | H44: Inwieweit werden Informationen während der Übertragung geschützt? | I44: Werden Informationen über öffentliche oder private Netzwerke übertragen, können diese unter Umständen von unberechtigten Dritten mitgelesen oder verändert werden. Daher müssen Anforderungen an den Schutzbedarf der Informationen festgelegt und durch geeignete Maßnahmen während einer solchen Übertragung umgesetzt werden. | J44: + Die zur Übertragung von Informationen genutzten Netzwerkdienste sind identifiziert und dokumentiert. + Richtlinien und Verfahren entsprechend den Klassifizierungsvorgaben zur Nutzung von Netzwerkdiensten sind definiert und umgesetzt. + Maßnahmen zum Schutz von übertragenen Inhalten vor unberechtigtem Zugriff sind umgesetzt. | K44: + Maßnahmen zur Sicherstellung der korrekten Adressierung und des korrekten Transports von Informationen sind umgesetzt. + Der elektronische Informationsaustausch erfolgt entsprechend der jeweiligen Klassifizierung durch Inhalts- oder Transportverschlüsselung. + Fernzugriffsverbindungen zum Unternehmensnetzwerk verfügen über angemessene Sicherheitsfunktionen. Die folgenden Aspekte werden berücksichtigt: - Verschlüsselung, - Authentifizierungsstärke, - Gewähren und Beenden des Zugriffs, - Nutzung einer sicheren Verbindung (z. B. VPN). | L44: + Informationen werden in verschlüsselter Form (mindestens Transportverschlüsselung) übertragen oder durch gleichwertige Maßnahmen geschützt. (C) | M44: + Informationen werden inhaltsverschlüsselt transportiert oder übertragen. (C) | N44: Keine | O44: ISO 27001:2022: A.5.14 ------ NIST CSF 2.0: PR.DS-02, PR.IR-01 | P44: BSI IT-Grundschutz-Kompendium: NET.1.1, CON.1, CON.9, OPS.1.1.7 ------ NIST SP800-53r5: SC-8, SC-23, SC-37 | X44: - E-Mail-Verschlüsselung mittels TLS - Zugriff auf Webseiten mittels https:// | Y44: - E-Mail-Verschlüsselung mittels S/MIME, PGP - verschlüsselte PDF-Dateien, verschlüsselte ZIP-Dateien
A45: =IF(AND($B45<>"",$C$3="1",NOT(ISBLANK($C45))),"header",IF(AND($B45<>"",$C$3<>"1",NOT(ISBLANK($C45))),"blank",IF(AND($B45<>"",#REF!="01",NOT(ISBLANK(#REF!))),"header",IF(AND($B45<>"",#REF!<>"01",NOT(ISBLANK(#REF!))),"blank",IF(AND($B45<>"",#REF!<>"01",NOT(ISBLANK(#REF!))),"blank",IF(AND($C$3="1",ISBLANK($C45),ISBLANK($B45)),"blank","")))))) -> header | B45: 2 | C45: 5.2 | H45: Operations Security
A46: =IF(AND($B46<>"",$C$3="1",NOT(ISBLANK($C46))),"header",IF(AND($B46<>"",$C$3<>"1",NOT(ISBLANK($C46))),"blank",IF(AND($B46<>"",#REF!="01",NOT(ISBLANK(#REF!))),"header",IF(AND($B46<>"",#REF!<>"01",NOT(ISBLANK(#REF!))),"blank",IF(AND($B46<>"",#REF!<>"01",NOT(ISBLANK(#REF!))),"blank",IF(AND($C$3="1",ISBLANK($C46),ISBLANK($B46)),"blank","")))))) -> #REF! | C46: 5.2.1 | H46: Inwieweit werden Änderungen verwaltet? | I46: Das Ziel ist es sicherzustellen, dass bei allen Änderungen in der Organisation, an Geschäftsprozessen und an IT-Systemen (Änderungsmanagement) Aspekte der Informationssicherheit berücksichtigt werden, damit diese Änderungen nicht zu einer ungeregelten Verringerung des Informationssicherheitsniveaus führen. | J46: + Anforderungen an die Informationssicherheit bei Änderungen von Organisation, Geschäftsprozessen, IT-Systemen werden festgelegt und erfüllt. | K46: + Ein formales Genehmigungsverfahren ist etabliert. + Änderungen werden bezüglich möglicher Auswirkungen auf die Informationssicherheit verifiziert und bewertet. + Änderungen mit Auswirkung auf die Informationssicherheit werden geplant und geprüft. + Notfallverfahren im Falle von Fehlern sind berücksichtigt. | L46: + Die Einhaltung der Anforderungen an die Informationssicherheit wird während und nach der Umsetzung der Änderungen verifiziert. (C, I, A) | M46: Keine | N46: Keine | O46: ISO 27001:2022: A.8.32 ------ ISA/IEC 62443-2-1: 7.2.4 ------ NIST CSF 2.0: PR.PS-01, PR.PS-04 | P46: BSI IT-Grundschutz-Kompendium: ORP.5, OPS.1.1.2, OPS.1.1.3 ------ NIST SP800-53r5: CM-2, CM-3, CM-9, SA-10
A47: =IF(AND($B47<>"",$C$3="1",NOT(ISBLANK($C47))),"header",IF(AND($B47<>"",$C$3<>"1",NOT(ISBLANK($C47))),"blank",IF(AND($B47<>"",#REF!="01",NOT(ISBLANK(#REF!))),"header",IF(AND($B47<>"",#REF!<>"01",NOT(ISBLANK(#REF!))),"blank",IF(AND($B47<>"",#REF!<>"01",NOT(ISBLANK(#REF!))),"blank",IF(AND($C$3="1",ISBLANK($C47),ISBLANK($B47)),"blank","")))))) -> #REF! | C47: 5.2.2 | H47: Inwieweit sind Entwicklungs- und Testumgebungen von Produktivumgebungen getrennt? | I47: Das Ziel einer Trennung der Entwicklungs-, Test- und Produktivumgebungen ist es sicherzustellen, dass die Verfügbarkeit, Vertraulichkeit und Integrität von produktiven Daten aufrechterhalten werden. | J47: + Die IT-Systeme wurden einer Risikobewertung unterzogen, um zu ermitteln, inwiefern deren Trennung in Entwicklungs-, Test- und Produktivsysteme notwendig ist. + Eine Segmentierung ist auf Basis der Ergebnisse der Risikoanalyse umgesetzt. | K47: + Die Anforderungen an Entwicklungs- und Testumgebungen sind ermittelt und erfüllt. Die folgenden Aspekte werden berücksichtigt: - Trennung von Entwicklungs-, Test- und Produktivsystemen, - Keine Entwicklungs- und Systemwerkzeuge auf Produktivsystemen (mit Ausnahme der für den Betrieb erforderlichen), - Verwendung von unterschiedlichen Benutzerprofilen für Entwicklungs-, Test- und Produktivsysteme. | L47: Keine | M47: Keine | N47: Keine | O47: ISO 27001:2022: A.8.31 ------ ISA/IEC 62443-2-1: 6.3.3 | P47: BSI IT-Grundschutz-Kompendium: CON.8, CON.10 ------ NIST SP800-53r5: CM-4(1), SA-17(6)
A48: =IF(AND($B48<>"",$C$3="1",NOT(ISBLANK($C48))),"header",IF(AND($B48<>"",$C$3<>"1",NOT(ISBLANK($C48))),"blank",IF(AND($B48<>"",#REF!="01",NOT(ISBLANK(#REF!))),"header",IF(AND($B48<>"",#REF!<>"01",NOT(ISBLANK(#REF!))),"blank",IF(AND($B48<>"",#REF!<>"01",NOT(ISBLANK(#REF!))),"blank",IF(AND($C$3="1",ISBLANK($C48),ISBLANK($B48)),"blank","")))))) -> #REF! | C48: 5.2.3 | H48: Inwieweit werden IT-Systeme vor Schadsoftware geschützt? | I48: Das Ziel ist es, den Schutz von IT-Systemen vor Schadsoftware sowohl technisch als auch organisatorisch sicherzustellen. | J48: + Anforderungen an den Schutz vor Schadsoftware sind ermittelt. + Technische und organisatorische Maßnahmen zum Schutz vor Schadsoftware sind definiert und umgesetzt. | K48: + Nicht benötigte Netzwerkdienste sind deaktiviert. + Zugriff auf Netzwerkdienste ist mit geeigneten Schutzmaßnahmen (siehe Beispiele) auf die benötigten Zugriffe eingeschränkt. + Eine Software zum Schutz vor Schadsoftware ist installiert und wird in regelmäßigen Abständen automatisch aktualisiert (z. B. Virenscanner). + Empfangene Dateien und empfangene Software werden vor ihrer Ausführung automatisch auf Schadsoftware überprüft (On-Access-Scan). + Der gesamte Datenbestand aller Systeme wird regelmäßig auf Schadsoftware überprüft. + Von zentralen Gateways übertragene Daten (z. B. E-Mail, Internet, Netze von Dritten) werden automatisch mittels einer Schutzsoftware überprüft. ​Die folgenden Aspekte werden berücksichtigt: - Verschlüsselte Verbindungen, - Verschlüsselte Inhalte. + Maßnahmen zur Verhinderung, dass Schutzsoftware durch Benutzer deaktiviert oder verändert wird, sind definiert und umgesetzt. + Für IT-Systeme, die ohne Software zum Schutz vor Schadsoftware betrieben werden, sind alternative Maßnahmen (z. B. spezielle Resilienz-Maßnahmen, wenig Dienste, keine aktiven User, Netzwerkisolierung) umgesetzt. | L48: Keine | M48: Keine | N48: Keine | O48: ISO 27001:2022: A.8.1 ------ ISA/IEC 62443-2-1: 9.2.1, 9.3.1, 9.3.2, 9.3.3 | P48: BSI IT-Grundschutz-Kompendium: OPS.1.1.4, DER.1, OPS.1.1.2 ------ NIST SP800-53r5: CM-7(2), RA-10, SC-35, SI-3
A49: =IF(AND($B49<>"",$C$3="1",NOT(ISBLANK($C49))),"header",IF(AND($B49<>"",$C$3<>"1",NOT(ISBLANK($C49))),"blank",IF(AND($B49<>"",#REF!="01",NOT(ISBLANK(#REF!))),"header",IF(AND($B49<>"",#REF!<>"01",NOT(ISBLANK(#REF!))),"blank",IF(AND($B49<>"",#REF!<>"01",NOT(ISBLANK(#REF!))),"blank",IF(AND($C$3="1",ISBLANK($C49),ISBLANK($B49)),"blank","")))))) -> #REF! | C49: 5.2.4 | H49: Inwieweit werden Ereignisprotokolle aufgezeichnet und analysiert? | I49: Ereignisprotokolle unterstützen die Rückverfolgbarkeit von Ereignissen im Falle eines Sicherheitsvorfalls. Dies setzt voraus, dass Ereignisse, die zur Ermittlung der Ursachen notwendig sind, aufgezeichnet und gespeichert werden. Darüber hinaus ist die Protokollierung und Analyse von Aktivitäten entsprechend der geltenden Gesetzgebung (z. B. Datenschutz- oder Betriebsverfassungsgesetz) erforderlich, um festzustellen, welches Benutzerkonto Änderungen an IT-Systemen vorgenommen hat. | J49: + Anforderungen an die Informationssicherheit bezüglich der Handhabung von Ereignisprotokollen sind ermittelt und erfüllt. + Sicherheitsrelevante Anforderungen an die Protokollierung der Aktivitäten von Systemadministratoren und Nutzern sind ermittelt, festgelegt und erfüllt. + Die eingesetzten IT-Systeme werden hinsichtlich der Notwendigkeit der Protokollierung bewertet. + Bei der Nutzung organisationsfremder IT-Dienste werden Informationen zu den Überwachungsmöglichkeiten eingeholt und in der Bewertungberücksichtigt. + Ereignisprotokolle werden, soweit im Einklang mit den zulässigen gesetzlichen und betrieblichen Bestimmungen, regelmäßig auf Regelverstöße und Auffälligkeiten überprüft. | K49: + Ein Verfahren zur Eskalation von relevanten Ereignissen an die zuständige Stelle (z. B. Sicherheitsvorfall-Meldung, Datenschutz, Unternehmenssicherheit, IT-Sicherheit) ist definiert und etabliert. + Ereignisprotokolle (Inhalte und Metadaten) sind gegen Änderungen geschützt. (z. B. durch eine dedizierte Umgebung). + Eine angemessene Überwachung und Aufzeichnung aller informationssicherheitsrelevanten Aktionen im Netzwerk sind etabliert. | L49: + Informationssicherheitsanforderungen, die für die Sicherheit während der Handhabung von Ereignisprotokollen relevant sind, z. B. vertragliche Anforderungen, sind ermittelt und umgesetzt. (C, I, A) + Zugriffe beim Auf- und Abbau von organisationsfremden Netzwerkverbindungen (z. B. Fernwartung) werden protokolliert. (C, I, A) | M49: + Zugriffe auf Daten mit sehr hohem Schutzbedarf werden protokolliert, soweit dies technisch möglich und im Rahmen der gesetzlichen und betrieblichen Bestimmungen zulässig ist. (C, I) | N49: Keine | O49: ISO 27001:2022: A.5.17, A.8.15 ------ ISA/IEC 62443-2-1: 10.2.5, 12.2.4, 12.2.5 ------ NIST CSF 2.0: PR.PS-04, DE.AE-02, DE.AE-03, DE.AE-04, DE-AE-08, DE.CM-01, DE.CM-09, DE.AE-06 | P49: BSI IT-Grundschutz-Kompendium: OPS.1.1.5, DER.2.2, DER.2.3 ------ NIST SP800-53r5: AC-2(4), AC-2(7), AC-2(12), AC-6(9), PE-8, AU-2, AU-3, AU-4, AU-5, AU-6, AU-7, AU-8, AU-11, AU-12, SC-43, SI-4, SI-11
A50: =IF(AND($B50<>"",$C$3="1",NOT(ISBLANK($C50))),"header",IF(AND($B50<>"",$C$3<>"1",NOT(ISBLANK($C50))),"blank",IF(AND($B50<>"",#REF!="01",NOT(ISBLANK(#REF!))),"header",IF(AND($B50<>"",#REF!<>"01",NOT(ISBLANK(#REF!))),"blank",IF(AND($B50<>"",#REF!<>"01",NOT(ISBLANK(#REF!))),"blank",IF(AND($C$3="1",ISBLANK($C50),ISBLANK($B50)),"blank","")))))) -> #REF! | C50: 5.2.5 | H50: Inwieweit werden Schwachstellen erkannt und behandelt? | I50: Schwachstellen erhöhen das Risiko von IT-Systemen, Anforderungen an Vertraulichkeit, Verfügbarkeit und Integrität nicht erfüllen zu können. Zu den Möglichkeiten für Angreifer, sich Zugriff zum IT-System zu verschaffen oder dessen Betriebsstabilität zu gefährden, gehört die Ausnutzung von Schwachstellen. | J50: + Es werden Informationen zu technischen Schwachstellen der eingesetzten IT-Systeme gesammelt (z. B. Informationen des Herstellers, Systemaudits, CVE-Datenbank) und bewertet (z. B. Allgemeines Bewertungssystem für Schwachstellen, en: Common Vulnerability Scoring System, CVSS) + Potenziell betroffene IT-Systeme und Software werden identifiziert und bewertet. + Aus Schwachstellen resultierende Risiken werden behandelt. | K50: + Ein angemessenes Patch-Management ist definiert und umgesetzt (z. B. Prüfung und Installation von Patches). + Bei Bedarf werden Maßnahmen zur Risikominimierung umgesetzt. + Die erfolgreiche Installation von Patches ist in geeigneter Weise verifiziert. | L50: Keine | M50: Keine | N50: Keine | O50: ISO 27001:2022: A.8.8, A.8.19 ------ ISA/IEC 62443-2-1: 9.4.2, 12.2.9 ------ NIST CSF 2.0: ID.RA-01, ID.RA-08 | P50: BSI IT-Grundschutz-Kompendium: OPS.1.1.2, OPS.1.1.3, IND.1 ------ NIST SP800-53r5: RA-5, CM-8, RA-10, SA-11, SC-31, SI-2, SI-4, SI-5 | V50: Einleitung: Das grundlegende Ziel dieser Maßnahme besteht darin, sich kontinuierlich mit den aktuellen Schwachstellen in IT-Systemen jeglicher Art zu befassen, um bekannte Lücken möglichst schnell zu schließen, bevor sie ausgenutzt werden können. Begründung: Angreifer können Schwachstellen in IT-Systemen ausnutzen, beispielsweise um sich Zugang zum Netzwerk und somit zu Informationsträgern und Informationswerten zu verschaffen. Die Erkennung von Schwachstellen spielt daher in der Informationssicherheit eine zentrale Rolle. Sie bildet die Grundlage für das notwendige Schwachstellenmanagement und somit auch für die anschließenden Risikoanalysen und die Ableitung von Maßnahmen. Basisinformationen: Da ausgenutzte Schwachstellen äußerst weitreichende Auswirkungen haben können, insbesondere wenn der Angriff überhaupt nicht erkannt wird (z. B. „Abhören“ ohne direkten Schaden), ergibt ein systematischer Ansatz Sinn. Es ist wichtig, so viel Informationen wie möglich über die in Ihrer eigenen Organisation und organisationsfremden Systemen verwendeten IT-Systeme zu gewinnen, wie z. B.: - Betriebssysteme - Firmware - Apps - Cloud-Dienste Ein ISMS kann hierbei im Allgemeinen seine Stärken voll ausspielen. Maßnahmen, die hierbei helfen können, sind zum Beispiel: - Festlegung von Verantwortlichkeiten (siehe 1.2.2 und 1.2.4) - Identifizierung relevanter Systeme (siehe auch 1.3.1) - Identifizierung von Risiken (siehe 1.4.1) - Schulung und Sensibilisierung der Mitarbeiter (siehe 2.1.3) - Vorbereitung auf Ausnahmesituationen (siehe 1.6.3) - Änderungsmanagement (siehe 5.2.1) - Überprüfung von Informationssystemen (siehe 5.2.6) | Z50: - Welche Informationen über technische Schwachstellen können ermittelt werden? - Welche Scores haben Sie? - Wo werden Hardware und Software aufgelistet? - Wie gleichen Sie diese Informationen mit Ihren IT-Systemen ab? - Welche Schwachstellen können auf der Grundlage von Risikobewertungen identifiziert werden? - Wann reagieren Sie auf identifizierte Schwachstellen? - Wie ist der Prozess von der Identifizierung bis zur Beseitigung der Schwachstelle festgelegt?
A51: =IF(AND($B51<>"",$C$3="1",NOT(ISBLANK($C51))),"header",IF(AND($B51<>"",$C$3<>"1",NOT(ISBLANK($C51))),"blank",IF(AND($B51<>"",#REF!="01",NOT(ISBLANK(#REF!))),"header",IF(AND($B51<>"",#REF!<>"01",NOT(ISBLANK(#REF!))),"blank",IF(AND($B51<>"",#REF!<>"01",NOT(ISBLANK(#REF!))),"blank",IF(AND($C$3="1",ISBLANK($C51),ISBLANK($B51)),"blank","")))))) -> #REF! | C51: 5.2.6 | H51: Inwieweit werden IT-Systeme und -Dienste technisch überprüft (System- und Dienst-Audit)? | I51: Das Ziel von technischen Überprüfungen ist die Erkennung von Zuständen, die zu einer Gefährdung der Vertraulichkeit, Integrität oder Verfügbarkeit, von IT-Systemen und -Diensten führen können. | J51: + Anforderungen an die Auditierung von IT-Systemen oder -Diensten sind ermittelt. + Der Umfang des Systemaudits ist rechtzeitig festgelegt. + System- oder Dienst-Audits sind mit dem Betreiber und den Nutzern der IT-Systeme oder -Dienste abgestimmt. + Die Ergebnisse von System- oder Dienst-Audits werden rückverfolgbar gespeichert und an das zuständige Management berichtet. + Aus den Ergebnissen werden Maßnahmen abgeleitet und innerhalb eines angemessenen Zeitrahmens umgesetzt. | K51: + System- und Dienstprüfungen werden unter Berücksichtigung möglicher Sicherheitsrisiken (z. B. Störungen) geplant. + Es werden regelmäßige System- oder Dienst-Audits durchgeführt. ​Die folgenden Aspekte werden berücksichtigt: - Prüfungen werden von qualifiziertem Personal durchgeführt, - Es werden geeignete Werkzeuge (z. B. Schwachstellen-Scanner) eingesetzt, - Prüfungen werden sowohl über das Internet als auch im internen Netzwerk durchgeführt. + Innerhalb eines angemessenen Zeitraums nach Abschluss des Audits wird ein Bericht erstellt. | L51: + Für kritische IT-Systeme oder -Dienste wurden zusätzliche Anforderungen an das System- oder Dienst-Audit identifiziert, die erfüllt werden (z. B. dienstspezifische Tests und Werkzeuge und/ oder Penetrationstests, risikobasierte Zeitintervalle). (A) | M51: + IT-Systeme und -Dienste werden regelmäßig auf Schwachstellen gescannt. Bei Systemen und Diensten, die nicht gescannt werden können, müssen geeignete Schutzmaßnahmen umgesetzt werden. (A) | N51: Keine | O51: ISO 27001:2022: A.5.36, A.8.34, A.8.8 ------ ISA/IEC 62443-2-1: 6.3.2 ------ NIST CSF 2.0: ID.IM-02, DE.CM-09, IR.RA-09 | P51: NIST SP800-53r5: RA-5, AU-5, AU-6, CA-7, CM-4, PL-10, PL-11, RA-6, SI-6, SI-7, SI-15, SR-10, SR-11
A52: =IF(AND($B52<>"",$C$3="1",NOT(ISBLANK($C52))),"header",IF(AND($B52<>"",$C$3<>"1",NOT(ISBLANK($C52))),"blank",IF(AND($B52<>"",#REF!="01",NOT(ISBLANK(#REF!))),"header",IF(AND($B52<>"",#REF!<>"01",NOT(ISBLANK(#REF!))),"blank",IF(AND($B52<>"",#REF!<>"01",NOT(ISBLANK(#REF!))),"blank",IF(AND($C$3="1",ISBLANK($C52),ISBLANK($B52)),"blank","")))))) -> #REF! | C52: 5.2.7 | H52: Inwieweit wird das Netzwerk der Organisation verwaltet? | I52: IT-Systeme in einem Netzwerk sind unterschiedlichen Risiken ausgesetzt oder haben einen unterschiedlichen Schutzbedarf. Um einen ungewollten Datenaustausch oder -Zugriff zwischen diesen IT-Systemen zu erkennen oder zu unterbinden, werden diese in geeignete Segmente unterteilt und der Zugriff wird durch Sicherheitstechnologien gesteuert und überwacht. | J52: + Anforderungen zur Verwaltung und Steuerung von Netzwerken sind ermittelt und erfüllt. + Anforderungen an eine Segmentierung des Netzwerkes sind ermittelt, festgelegt und erfüllt. | K52: + Verfahren zur Verwaltung und Steuerung der Netzwerke sind definiert. + Für eine risikobasierte Segmentierung des Netzwerks werden die folgenden Aspekte berücksichtigt: - Beschränkungen bei der Anbindung von IT-Systemen an das Netzwerk, - Anwendung von Sicherheitstechnologien, - Betrachtungen hinsichtlich Leistung, Vertrauenswürdigkeit, Verfügbarkeit, Informationssicherheit und Funktionssicherheit, - Begrenzung der Auswirkungen im Falle kompromittierter IT-Systeme, - Erkennung möglicher Angriffe und der lateralen Bewegung von Angreifern, - Trennung von Netzwerken mit unterschiedlichen Betriebszwecken (z. B. Test- und Entwicklungsnetzwerke, Büronetzwerk, Produktionsnetzwerke), - Das erhöhte Risiko aufgrund von Netzwerkdiensten, die über das Internet zugänglich sind, - Technologiespezifische Trennungsmöglichkeit bei Nutzung externer IT-Dienste, - Angemessene Trennung zwischen den eigenen Netzwerken und Kundennetzwerken unter Berücksichtigung der Kundenanforderungen, - Erkennung und Verhinderung von Datenverlust/ Datenlecks. | L52: + Erweiterte Anforderungen an die Verwaltung und Steuerung von Netzwerken sind ermittelt und umgesetzt. Die folgenden Aspekte werden berücksichtigt: (C, I, A) - Authentifizierung von IT-Systemen im Netzwerk, - Der Zugriff auf die Managementschnittstellen von IT-Systemen ist eingeschränkt, - Spezielle Risiken (z. B. drahtloser Zugriff und Fernzugriff). | M52: Keine | N52: Keine | O52: ISO 27001:2022: A.8.20, A.8.22 ------ ISA/IEC 62443-2-1: 6.3.2, 8.2.1, 8.2.2, 8.2.6, 8.2.8 ------ NIST CSF 2.0: ID.AM-03, PR.IR-01, PR.IR-03 | P52: BSI IT-Grundschutz-Kompendium:NET.1.1, NET.1.2 ------ NIST SP800-53r5:SC-5, SC-6, SC-7, SC-10, SC-11, SC-20, SC-21, SC-22, SC-24, SC-25, SC-26, SC-27, SC-29, SC-30, SC-32, SC-36, SC-38, SC-39, SC-40, SC-44, SC-48, SI-23 | W52: Mögliche Maßnahmen: - Einsatz von Sicherheitstechnologien wie z. B. Firewall-Systemen, Intrusion-Detection- und -Prevention-Systemen (IDS/IPS), Netzwerkverwaltungswerkzeugen, Sicherheitssoftware für Netzwerke zur Verhinderung eines unbeabsichtigten Datenaustauschs. | Z52: - Welche Anforderungen haben Sie für die Verwaltung und Steuerung Ihres Netzwerkes festgelegt? - Wie überprüfen Sie, dass diese Anforderungen eingehalten oder erfüllt werden? - Wie haben sie die Segmentierung Ihres Netzwerkes beurteilt? - Wie wird der Übergang von einem Teilnetzwerk in ein anderes verhindert? - Welche Beurteilungsergebnisse haben Sie dokumentiert? - Welche Anforderungen an Ihr Netzwerk haben Sie festgelegt und aufgezeichnet? - Wer verwaltet, steuert und wartet Ihr Netzwerk? - Wie identifizieren Sie neue IT-Systeme im Netzwerk, die nicht von der IT installiert wurden? - Welche Zugriffsrechte haben die Administratoren hinsichtlich aller Einrichtungen wie Firewalls, Switches und Router? - Welche Protokolle nutzen Sie und welche nicht? - Wer hat Zugriff auf Netzwerkkomponenten und wie erfolgt der Zugriff? - Wer hat Zugriff auf die Dienste im Netzwerk und wie erfolgt der Zugriff? - Welche Schutzmechanismen sollten im Netzwerk angewendet werden (z. B. Firewall, IDS/IPS)? - Welche Anforderungen gibt es bezüglich Verfügbarkeit? - Wie wird das Netzwerk dokumentiert? - Welche Anforderungen gibt es für die Nutzung von Cloud-Diensten/extern gehosteten Systemen?
A53: =IF(AND($B53<>"",$C$3="1",NOT(ISBLANK($C53))),"header",IF(AND($B53<>"",$C$3<>"1",NOT(ISBLANK($C53))),"blank",IF(AND($B53<>"",#REF!="01",NOT(ISBLANK(#REF!))),"header",IF(AND($B53<>"",#REF!<>"01",NOT(ISBLANK(#REF!))),"blank",IF(AND($B53<>"",#REF!<>"01",NOT(ISBLANK(#REF!))),"blank",IF(AND($C$3="1",ISBLANK($C53),ISBLANK($B53)),"blank","")))))) -> #REF! | C53: 5.2.8 | H53: Inwieweit ist eine Kontinuitätsplanung für IT-Dienste vorhanden? | I53: Daten und IT-Dienste können durch Ereignisse wie Hardwareausfälle, Softwarefehler, Bedienungsfehler oder Angriffe ausfallen. Durch Datensicherung und Wiederherstellung sind Unternehmen in der Lage, solche Situationen zu bewältigen und den potenziellen Schaden für das Unternehmen auf ein vertretbares Maß zu begrenzen. | J53: + Kritische IT-Dienste werden identifiziert, und die geschäftlichen Auswirkungen werden betrachtet. + Anforderungen und Verantwortlichkeiten für die Kontinuität und Wiederherstellung dieser IT-Dienste sind den maßgeblichen Beteiligten bekannt und werden erfüllt. | K53: + Kritische IT-Systeme werden identifiziert. Die folgenden Aspekte werden berücksichtigt: - Einstufung der relevanten Systeme zur Ermittlung des erforderlichen Schutzbedarfs, - Umsetzung angemessener und geeigneter Sicherheitsmaßnahmen. + Es liegt eine Kontinuitätsplanung vor, die regelmäßig überprüft und aktualisiert wird. Die folgenden Aspekte werden berücksichtigt: - Alternative Kommunikationsstrategien für den Fall, dass die primären Kommunikationsmittel nicht verfügbar sind, - Alternative Speicherstrategien für den Fall, dass die primären Speichermedien nicht verfügbar sind, - Alternative Energieversorgung und alternative Netzwerkanbindung. + Die Kontinuitätsplanung umfasst mindestens (verteilte) Denial-of-Service-Angriffe, erfolgreiche Ransomware-Angriffe und andere Sabotageaktivitäten, Systemausfallszenarien sowie Naturkatastrophenszenarien, die kritische IT-Systeme betreffen. | L53: + Kontinuitätsplanung schließt vordefinierte Zeitvorgaben für die Wiederherstellung (Recovery Time Objective) für die Wiederaufnahme des Betriebs in Übereinstimmung mit den Anforderungen ein. (A) + Es sind angemessene SLAs mit externen Dienstleistern entsprechend der Kontinuitätsplanung vorhanden. (A) + Kontinuitätspläne schließen die Abstimmung der vertraglich vereinbarten Kommunikation mit Geschäftspartnern ein. (A) + Die Kontinuitätsplanung wird regelmäßig einschließlich einer vollständigen Wiederherstellung und Rückversetzung des Systems in einen bekannten Zustand und der Übereinstimmung mit festgelegten Zeitvorgaben geprüft. (A) + Eine Sicherungs- und Wiederherstellungsstrategie für kritische IT-Dienste und Informationen ist definiert und umgesetzt. (C,I, A) + Backups sind vor unbefugter Änderung oder Löschung durch Schadsoftware geschützt. (I, A) + Backups sind vor unbefugtem Zugriff durch Schadsoftware oder Administratoren geschützt. (C, I) | M53: + Die Kontinuitätsplanung wird mit den Kontinuitätsplänen der maßgeblichen organisationsfremden Dienstleister abgestimmt. (A) + Die Aufrechterhaltung wesentlicher Aufgaben- und Geschäftsfunktionen mit minimalem oder keinem Verlust der Betriebskontinuität ist sichergestellt. Die folgenden Aspekte werden berücksichtigt: - Alternative betriebliche Strategien und notwendige separate Standby-Systeme, um den Betrieb im möglichen Umfang aufrechtzuerhalten und/oder wiederaufzunehmen, falls kritische IT-Dienste nicht verfügbar werden, (A) - Alternative Speicher- und Backup-Orte (sofern vorhanden), müssen Kontrollmaßnahmen bieten, die denen des Primärstandorts gleichwertig sind. (C, I, A) + Die Kontinuitätsplanung wird regelmäßig geprüft. Testszenarien, Ergebnisse und gewonnene Erkenntnisse werden dokumentiert. (I, A) | N53: Keine | O53: ISO 27001:2022: A.5.30 ------ ISA/IEC 62443-2-1: 13.2.1 ------ NIST CSF 2.0: PR.IR-02 | P53: BSI IT-Grundschutz-Kompendium: DER.4, INF.1 ------ NIST SP800-53r5: CP-2, CP-9, CP-9(3), PE-8, PE-13(2)
A54: =IF(AND($B54<>"",$C$3="1",NOT(ISBLANK($C54))),"header",IF(AND($B54<>"",$C$3<>"1",NOT(ISBLANK($C54))),"blank",IF(AND($B54<>"",#REF!="01",NOT(ISBLANK(#REF!))),"header",IF(AND($B54<>"",#REF!<>"01",NOT(ISBLANK(#REF!))),"blank",IF(AND($B54<>"",#REF!<>"01",NOT(ISBLANK(#REF!))),"blank",IF(AND($C$3="1",ISBLANK($C54),ISBLANK($B54)),"blank","")))))) -> #REF! | C54: 5.2.9 | H54: Inwieweit wird die Sicherung und Wiederherstellung von Daten und IT-Diensten sichergestellt? | I54: Daten und IT-Dienste können durch Ereignisse wie Hardwareausfälle, Softwarefehler, Fehler des Betreibers oder Angriffe nicht verfügbar sein. Die Sicherung und Wiederherstellung ermöglichen es Organisationen, sich von entsprechenden Situationen zu erholen und den möglichen Schaden für die Organisation auf ein hinnehmbares Maß zu begrenzen. | J54: + Für die maßgeblichen IT-Systeme sind Datensicherungs-Konzepte vorhanden. Es werden geeignete Schutzmaßnahmen zur Gewährleistung der Vertraulichkeit, Integrität und Verfügbarkeit der Datensicherungen berücksichtigt. + Für die maßgeblichen IT-Dienste liegen Wiederherstellungs-Konzepte vor. | K54: + Für jeden maßgeblichen IT-Dienst ist ein Sicherungs- und Wiederherstellungs-Konzept vorhanden. Dabei werden die Abhängigkeiten zwischen den IT-Diensten sowie die Reihenfolge der Wiederherstellung berücksichtigt. | L54: + Sicherungs- und Wiederherstellungskonzepte werden in regelmäßigen Abständen methodisch überprüft. (A) + Die allgemeine Wiederherstellungskapazität wird berücksichtigt und geprüft (z. B. Stichprobenprüfung, Testsysteme). (I, A) + Es liegen Konzepte für Datensicherung und Wiederherstellung vor. (A) Die folgenden Aspekte werden berücksichtigt: - Recovery Point Objective (RPO), - Recovery Time Objective (RTO), - Erforderliche Ressourcen für die Wiederherstellung (unter Berücksichtigung von Kapazität und Leistung, einschließlich Personal und Hardware), - Vermeidung von Überlastungsszenarien während der Wiederherstellung, - Angemessene räumliche Redundanz (z. B. separater Raum, separater Brandabschnitt, separates Rechenzentrum, separater Standort). | M54: + (Zusätzliche) Sicherungen werden über Offline-Verfahren, unveränderliche Sicherungen (immutable backups) oder durch Anwendung einer isolierten IAM-Lösung durchgeführt. (I, A) + Wiederherstellungsverfahren werden in regelmäßigen Abständen systematisch technisch geprüft. (I, A) + Geografische Redundanz wird in Daten-Backup- und Wiederherstellungskonzepten berücksichtigt. (A) | N54: Keine | O54: ISO 27001:2022: A.8.13 ------ ISA/IEC 62443-2-1: 13.3.1, 13.3.2, 13.3.3, 13.3.4, 13.3.5 ------ NIST CSF 2.0: PR.DS-11, RC.RP-03 | P54: BSI IT-Grundschutz-Kompendium: CON.3, OPS.1.2.2 ------ NIST SP800-53r5: CP-2, CP-9, CP-9(3), PE-8, PE-13(2)
A55: =IF(AND($B55<>"",$C$3="1",NOT(ISBLANK($C55))),"header",IF(AND($B55<>"",$C$3<>"1",NOT(ISBLANK($C55))),"blank",IF(AND($B55<>"",#REF!="01",NOT(ISBLANK(#REF!))),"header",IF(AND($B55<>"",#REF!<>"01",NOT(ISBLANK(#REF!))),"blank",IF(AND($B55<>"",#REF!<>"01",NOT(ISBLANK(#REF!))),"blank",IF(AND($C$3="1",ISBLANK($C55),ISBLANK($B55)),"blank","")))))) -> header | B55: 2 | C55: 5.3 | H55: Systemanschaffung, Anforderungsmanagement und Entwicklung
A56: =IF(AND($B56<>"",$C$3="1",NOT(ISBLANK($C56))),"header",IF(AND($B56<>"",$C$3<>"1",NOT(ISBLANK($C56))),"blank",IF(AND($B56<>"",#REF!="01",NOT(ISBLANK(#REF!))),"header",IF(AND($B56<>"",#REF!<>"01",NOT(ISBLANK(#REF!))),"blank",IF(AND($B56<>"",#REF!<>"01",NOT(ISBLANK(#REF!))),"blank",IF(AND($C$3="1",ISBLANK($C56),ISBLANK($B56)),"blank","")))))) -> #REF! | C56: 5.3.1 | H56: Inwieweit wird Informationssicherheit bei neuen oder weiterentwickelten IT-Diensten berücksichtigt? | I56: Informationssicherheit ist ein fester Bestandteil über den gesamten Lebenszyklus von IT-Diensten. Dies umfasst insbesondere die Berücksichtigung von Anforderungen an die Informationssicherheit bei der Entwicklung oder Anschaffung von IT-Diensten. | J56: + Die Anforderungen an die Informationssicherheit bei der Planung und Entwicklung von IT-Diensten sind ermittelt und werden berücksichtigt. + Die Anforderungen an die Informationssicherheit bei der Beschaffung oder Erweiterung von IT-Diensten und IT-Komponenten sind ermittelt und werden berücksichtigt. + Anforderungen an die Informationssicherheit bei Änderungen in entwickelten IT-Diensten sind berücksichtigt. + Systemabnahmetests werden unter Berücksichtigung der Anforderungen an die Informationssicherheit durchgeführt. | K56: + Anforderungsspezifikationen sind erstellt. Die folgenden Aspekte werden berücksichtigt: - Anforderungen an die Informationssicherheit, - Empfehlungen der Anbieter und bewährte Verfahren für eine sichere Konfiguration und Implementierung, - Bewährte Verfahren und Sicherheitsleitlinien, - Ausfallsicher (so konzipiert, dass im Falle eines Ausfalls oder einer Fehlfunktion eine Rückkehr in einen sicheren Zustand erfolgt). + Anforderungsspezifikationen werden gegen die Anforderungen an die Informationssicherheit geprüft. + Eine Prüfung des IT-Systems auf Einhaltung der Vorgaben vor dem produktiven Einsatz wird durchgeführt. + Die Verwendung von Produktivdaten zu Testzwecken wird so weit wie möglich vermieden (ggf. Anonymisierung oder Pseudonymisierung). Die folgenden Aspekte werden berücksichtigt: - Anforderungen an den Lebenszyklus von Testdaten (z. B. Löschung, maximale Verweildauer im IT-Dienst), - Es werden fallbezogene Spezifikationen für die Generierung von Testdaten definiert. + Testsysteme werden mit Schutzmaßnahmen ausgestattet, die mit denen in der Betriebsumgebung vergleichbar sind, in der Produktivdaten zu Testzwecken verwendet werden. | L56: Keine | M56: + Die Sicherheit von speziell entwickelter oder in erheblichem Umfang angepasster Software wird bei der Inbetriebnahme, bei wesentlichen Änderungen oder in regelmäßigen Abständen geprüft (z. B. durch Penetrationstests). (C, I, A) | N56: Keine | O56: ISO 27001:2022: A.5.8, A.8.25 ------ NIST CSF 2.0: PR.PS-01, PR.PS-06 | P56: BSI IT-Grundschutz-Kompendium: CON.8, CON.10, OPS.1.1.2, OPS.1.1.6 ------ NIST SP800-53r5: SA-3, SA-4, SA-5, SA-8, SA-20, SI-13, SR-5 | Z56: - Wie werden die Anforderungen an die Informationssicherheit bei der Entwicklung von IT-Diensten ermittelt? - Wie werden gesetzliche oder regulatorische Anforderungen an die IT-System-Entwicklung berücksichtigt? - Gibt es einen Standard/eine Leitlinie/einen Rahmen, der/die für die Entwicklung von IT-Diensten angewendet wird? - Wie werden die Design-Änderungen des IT-Dienstes gesteuert? - Wie wird der Prozess der organisationsfremden Entwicklung des IT-Systems (Entwicklung durch Dritte) gesteuert? - Wie wird das Entwicklungsumfeld gemanagt? (Inbetriebnahme, Konfiguration, Zugriff, Außerbetriebnahme) Wie werden Risiken im Zusammenhang mit der IT-System-Entwicklung bewertet und dokumentiert? - Wie wird die Einhaltung von Anforderungen an die Informationssicherheit während der IT-Dienst-Entwicklung verifiziert? - Wie werden reale Testdatensätze, falls vorhanden, während der IT-Dienst-Entwicklung gesteuert?
A57: =IF(AND($B57<>"",$C$3="1",NOT(ISBLANK($C57))),"header",IF(AND($B57<>"",$C$3<>"1",NOT(ISBLANK($C57))),"blank",IF(AND($B57<>"",#REF!="01",NOT(ISBLANK(#REF!))),"header",IF(AND($B57<>"",#REF!<>"01",NOT(ISBLANK(#REF!))),"blank",IF(AND($B57<>"",#REF!<>"01",NOT(ISBLANK(#REF!))),"blank",IF(AND($C$3="1",ISBLANK($C57),ISBLANK($B57)),"blank","")))))) -> #REF! | C57: 5.3.2 | H57: Inwieweit sind Anforderungen an Netzwerkdienste definiert? | I57: Netzwerkdienste haben unterschiedliche Anforderungen an die Informationssicherheit, Qualität der Datenübertragung oder Verwaltung. Es ist wichtig, diese Kriterien und den Anwendungsbereich der unterschiedlichen Netzwerkdienste zu kennen. | J57: + Anforderungen an die Informationssicherheit von Netzwerkdiensten sind ermittelt und erfüllt. | K57: + Ein Verfahren für die Absicherung und Nutzung von Netzwerkdiensten ist definiert und umgesetzt. + Die Anforderungen werden in Form von SLAs vereinbart. + Angemessene Redundanzlösungen sind umgesetzt. | L57: + Verfahren zur Überwachung der Qualität des Netzwerkverkehrs (z. B. Daten-Verkehrsflussanalysen, Verfügbarkeitsmessungen) sind definiert und werden durchgeführt. (A) | M57: Keine | N57: Keine | O57: ISO 27001:2022: A.8.21 ------ NIST CSF 2.0: PR.IR-04 | P57: BSI IT-Grundschutz-Kompendium: NET.1.1, NET.1.2 ------ NIST SP800-53r5: SA-3, SA-4, SA-17
A58: =IF(AND($B58<>"",$C$3="1",NOT(ISBLANK($C58))),"header",IF(AND($B58<>"",$C$3<>"1",NOT(ISBLANK($C58))),"blank",IF(AND($B58<>"",#REF!="01",NOT(ISBLANK(#REF!))),"header",IF(AND($B58<>"",#REF!<>"01",NOT(ISBLANK(#REF!))),"blank",IF(AND($B58<>"",#REF!<>"01",NOT(ISBLANK(#REF!))),"blank",IF(AND($C$3="1",ISBLANK($C58),ISBLANK($B58)),"blank","")))))) -> #REF! | C58: 5.3.3 | H58: Inwieweit ist die Rückgabe und das sichere Entfernen von Informationswerten aus organisationsfremden IT-Diensten geregelt? | I58: Um als Informationseigentümer die Hoheit über die Informationswerte sicherzustellen, ist es erforderlich, dass im Falle einer Beendigung des IT-Dienstes die Informationswerte wieder sicher entfernt werden können oder bei Bedarf zurückgegeben werden. | J58: + Ein Verfahren zur Rückgabe und sicheren Entfernung von Informationswerten aus jedem organisationsfremden IT-Dienst ist definiert und umgesetzt. | K58: + Eine Beschreibung des Terminierungsprozesses für organisationsfremde IT-Dienste liegt vor, wird bei Änderungen angepasst und ist vertraglich geregelt. | L58: Keine | M58: Keine | N58: Keine | O58: ISO 27001:2022: A.5.23 ------ ISO 27017: CLD.8.1.5 ISA/IEC 62443-2-1: 10.2.6 NIST CSF 2.0: ID.AM-08, GV.RR-04, PR.PS-03 | P58: BSI IT-Grundschutz-Kompendium:ORP.5, CON.2, CON.6, CON.9, ORP.2NIST SP800-53r5:MP-6, MP-8, SR-12
A59: =IF(AND($B59<>"",$C$3="1",NOT(ISBLANK($C59))),"header",IF(AND($B59<>"",$C$3<>"1",NOT(ISBLANK($C59))),"blank",IF(AND($B59<>"",#REF!="01",NOT(ISBLANK(#REF!))),"header",IF(AND($B59<>"",#REF!<>"01",NOT(ISBLANK(#REF!))),"blank",IF(AND($B59<>"",#REF!<>"01",NOT(ISBLANK(#REF!))),"blank",IF(AND($C$3="1",ISBLANK($C59),ISBLANK($B59)),"blank","")))))) -> #REF! | C59: 5.3.4 | H59: Inwieweit sind Informationen in gemeinsam genutzten organisationsfremden IT-Diensten geschützt? | I59: Eine klare Trennung zwischen den einzelnen Mandanten muss sichergestellt sein, so dass die eigenen Informationen in organisationsfremden IT-Diensten jederzeit geschützt werden und ein unbefugter Zugriff durch andere Mandanten verhindert wird. | J59: + Eine wirksame Trennung (z. B. Mandantentrennung) ist umgesetzt und verhindert unbefugten Zugriff von Nutzern anderer Organisationen auf die eigenen Informationen. | K59: + Das Mandantentrennungskonzept des Anbieters ist dokumentiert und wird bei Änderungen angepasst. Die folgenden Aspekte werden berücksichtigt: - Separierung von Daten, Funktionen, kundenspezifischer Software, Betriebssystem, Speichersystem und Netzwerk, - Risikobewertung für den Betrieb von Fremdsoftware innerhalb der gemeinsam genutzten Umgebung. | L59: Keine | M59: Keine | N59: Keine | O59: ISO 27017: CLD.9.5.1, CLD.9.5.2 ------ NIST CSF 2.0: DE.CM-06, PR.IR-01, GV.SC-07 | P59: BSI IT-Grundschutz-Kompendium: OPS.2.1, OPS.2.2, OPS.3.1 ------ NIST SP800-53r5: SA-9, SC-4, SC-46
A60: =IF(AND($B60<>"",$C$3="1",NOT(ISBLANK($C60))),"header",IF(AND($B60<>"",$C$3<>"1",NOT(ISBLANK($C60))),"blank",IF(AND($B60<>"",#REF!="01",NOT(ISBLANK(#REF!))),"header",IF(AND($B60<>"",#REF!<>"01",NOT(ISBLANK(#REF!))),"blank",IF(AND($B60<>"",#REF!<>"01",NOT(ISBLANK(#REF!))),"blank",IF(AND($C$3="1",ISBLANK($C60),ISBLANK($B60)),"blank","")))))) -> header | B60: 1 | C60: 6 | H60: Lieferantenbeziehungen
A61: =IF(AND($B61<>"",$C$3="1",NOT(ISBLANK($C61))),"header",IF(AND($B61<>"",$C$3<>"1",NOT(ISBLANK($C61))),"blank",IF(AND($B61<>"",#REF!="01",NOT(ISBLANK(#REF!))),"header",IF(AND($B61<>"",#REF!<>"01",NOT(ISBLANK(#REF!))),"blank",IF(AND($B61<>"",#REF!<>"01",NOT(ISBLANK(#REF!))),"blank",IF(AND($C$3="1",ISBLANK($C61),ISBLANK($B61)),"blank","")))))) -> #REF! | C61: 6.1.1 | H61: Inwieweit wird die Informationssicherheit bei Auftragnehmern und Kooperationspartnern sichergestellt? | I61: Es wird auch in der Zusammenarbeit mit Kooperationspartnern und Auftragnehmern ein angemessenes Informationssicherheitsniveau beibehalten. | J61: + Auftragnehmer und Kooperationspartner werden einer Risikobewertung bezüglich der Informationssicherheit unterzogen. + Mit Auftragnehmern und Kooperationspartnern wird durch vertragliche Vereinbarungen ein angemessenes Informationssicherheitsniveau sichergestellt. + Vertragliche Vereinbarungen mit Auftraggebern werden, soweit zutreffend, an Auftragnehmer und Kooperationspartner weitergegeben. | K61: + Auftragnehmer und Kooperationspartner werden vertraglich verpflichtet, alle Anforderungen an ein angemessenes Informationssicherheitsniveau an ihre Unterauftragnehmer weiterzugeben. + Serviceberichte und Dokumente von Auftragnehmern und Kooperationspartnern werden überprüft. | L61: + Es wird nachgewiesen, dass das Informationssicherheitsniveau des Lieferanten dem Schutzbedarf der Informationen entspricht (z. B. ausgefüllter Fragebogen/Selbstbewertung, Bescheinigung, Zertifikat, Lieferantenaudit). (C, I, A) + Der Grad der Einhaltung der geforderten Nachweise durch den Lieferanten wird dokumentiert und regelmäßig sowie bei Änderungen (z. B. Änderungen der Anforderungen, Änderung des Lieferantenstatus oder der Lieferkettenstruktur) überprüft und überwacht. (C, I, A) + Die Einhaltung der vertraglichen Vereinbarungen durch den Lieferanten wird überprüft, dokumentiert sowie regelmäßig und bei Änderungen (z. B. Änderungen der Anforderungen, Änderung des Lieferantenstatus oder der Lieferkettenstruktur) überprüft und überwacht. (C, I, A) | M61: + Das angemessene Niveau der Informationssicherheit sollte durch ein Audit durch eine unabhängige Stelle (ein entsprechendes TISAX-Zertifikat oder ein gleichwertiges Zertifikat) oder durch ein angemessenes Lieferantenaudit nachgewiesen werden, das die vereinbarten und anwendbaren Kundenanforderungen abdeckt. Falls kein Audit durchgeführt wurde, muss die Geschäftsleitung der Organisation eine risikobasierte Entscheidung darüber treffen, ob die Geschäftsbeziehung mit dem Lieferanten fortgesetzt wird. Über diese Entscheidung liegt eine Aufzeichnung vor. (C, I, A) + Vertragliche Verpflichtungen gegenüber Kunden bezüglich der Transparenz von Lieferkettenrisiken werden erfüllt. (C, I, A) | N61: Keine | O61: ISO 27001:2022: A.5.19 - A.5.22 ------ NIST CSF 2.0: GV.SC-02, GV.SC-03, GV.SC-04, GV.SC-05, GV.SC-06 | P61: BSI IT-Grundschutz-Kompendium: OPS.2.1, OPS.2.2, OPS.3.1, ORP.2 ------ NIST SP800-53r5: MA-4, CA-3, CA-6, PM-16, PM-30, SR-2, SR-3, SR-6, SR-7, SR-8 | V61: Im Zusammenhang mit der ISA schließt der Begriff „Auftragnehmer“ sowohl klassische Lieferanten und Unterauftragnehmer, als auch klassische Dienstleistungsunternehmen, Freiberufler oder sonstige Partnerfirmen ein. Darüber hinaus zählen dazu auch Kooperationspartner (z. B. Hochschulen, Institute). Die nachstehenden Erläuterungen beschreiben eine mögliche Vorgehensweise, um die Anforderungen zu erfüllen: Identifizierung von Auftragnehmern und Festlegung des Schutzbedarfs und der Sicherheitsanforderungen: Zunächst müssen alle Auftragnehmer identifiziert werden (z. B. über die Kreditorenliste der Buchhaltung), um einen ersten Überblick zu erhalten. Für alle Auftragnehmer sollten abhängig von deren Tätigkeiten und der Relevanz für eigene und Kundenprozesse, der jeweilige Schutzbedarf festgelegt und die Informationssicherheitsanforderungen abgeleitet werden. Das Ergebnis ist in der Regel, dass es bei einer großen Zahl von Auftragnehmern nicht erforderlich ist, einen entsprechenden Schutzbedarf zuzuordnen, und dass für diese daher auch keine Sicherheitsanforderungen bestehen (z. B. Lieferanten von Büromaterialien). Sicherstellung der Umsetzung durch den Auftragnehmer: Im nächsten Schritt müssen die zutreffenden Anforderungen allen sicherheitsrelevanten Auftragnehmern in geeigneter Weise bekannt gemacht werden und (vertraglich) als verbindlich fixiert werden. Zuletzt sollte entschieden werden, wie die Umsetzung der Sicherheitsanforderungen in geeigneter Weise verifizert werden kann. Zu diesem Zweck sollten in Abhängigkeit vom jeweiligen Risiko (und dem damit verbundenen Schutzbedarf) angemessene Verifizierungsprozesse und -verfahren definiert werden. Deren Ziel ist es sicherzustellen, dass die Auftragnehmer die notwendigen Anforderungen umsetzen. Verankerung in Standardprozessen: Die gewonnenen Erkenntnisse sollten genutzt werden, um eine nachvollziehbare Vorgehensweise zu entwickeln und in die bestehenden Prozesse des B2B-/Lieferantenmanagements zu integrieren. Dies beginnt mit der Auswahl des Auftragnehmers, wobei bereits Aspekte der Informationssicherheit neben solchen Kriterien wie Qualität, Termintreue, Bonität usw. berücksichtigt werden sollten. Der Auftragsvergabeprozess sollte so gestaltet sein, dass die Relevanz der Informationssicherheit bereits im Vorfeld berücksichtigt wurde (in Bezug auf die Vergabeentscheidung; Vertragsgestaltung; Prüfanforderungen). Des Weiteren wird empfohlen, bestehende Prozesse zur Lieferantenbeurteilung, welche z. B. durch ein bestehendes Qualitätsmanagementsystem bereits etabliert sind, um Aspekte der Informationssicherheit zu erweitern. Vertraglich festgelegte Leistungen (z. B. Verfügbarkeitsanforderungen) sollten in regelmäßigen Abständen verifiziert werden. Dies kann z. B. durch regelmäßige Auswertungen von Serviceberichten und SLAs erfolgen. | W61: Identifizierung von Auftragnehmern und Festlegung des Schutzbedarfs und der Sicherheitsanforderungen: Entscheidend für diese Einschätzung ist, ob der Auftragnehmer im Rahmen seiner Tätigkeit 1) Zugriff auf Informationen oder Sicherheitszonen des Unternehmens mit normalem Schutzbedarf in Bezug auf Vertraulichkeit erhält; oder 2) relevante Informationen liefert oder verändern kann, bei denen der Schutzbedarf in Bezug auf Integrität normal ist; oder 3) einen maßgeblichen Einfluss auf Prozesse oder IT-Systeme hat, deren Schutzbedarf in Bezug auf Verfügbarkeit normal ist (vergl. interne oder kundenbezogene SLAs). Typische Auftragnehmer mit normalem Schutzbedarf sind z. B. Reinigungsdienste für allgemeine Bereiche, klassische Logistikunternehmen oder Wartungspersonal. Die Mindestanforderungen an die Informationssicherheit (in Bezug auf das jeweilige Schutzziel) sollten in einer Richtlinie (z. B. Informationssicherheitsrichtlinie für Dienstleister) definiert werden. Als Grundlage für diese Anforderungen können neben unternehmensspezifischen Anforderungen auch die Anforderungen der in diesem Dokument beschriebenen ISA genutzt werden. Diese Richtlinie kann auftragsspezifisch ergänzt werden. Sicherstellung der Umsetzung durch den Auftragnehmer: Die Sicherheitsanforderungen sollten z. B. bei Auftragsvergabe, in Briefings (Projektmeetings), mit entsprechenden Dokumenten (z. B. Informationssicherheitsrichtlinie für Dienstleister) oder bei Betreten des Geländes (bei Auftragnehmern, die ihre Leistungen vor Ort erbringen) dem Auftragnehmer bekannt gemacht werden. Die Einhaltung der Informationssicherheitsvorgaben sollte vertraglich festgeschrieben sein. An diesem Punkt sollten, soweit relevant, bereits auch mögliche weitere Unterauftragnehmer des Auftragnehmers berücksichtigt werden. Dies kann durch individuelle Vereinbarungen, wie z. B. allgemeine Einkaufsbedingungen, erfolgen. In vielen Fällen sichern Lieferanten (z. B. IT-Dienstleister) die Einhaltung von Sicherheitsanforderungen bereits in ihren Standardverträgen zu. Um die Einhaltung der Anforderungen in geeigneter Weise sicherzustellen, sollten einfache Mechanismen etabliert werden. Dies kann zum Beispiel Folgendes einschließen: - Die Vorlage von zumindest einer von der Unternehmensleitung bestätigten Selbstauskunft (z. B. ISA) oder einer entsprechenden Bescheinigung/Zertifikat - Das Recht auf und die Durchführung von unregelmäßigen stichprobenartigen und ereignisbezogenen Überprüfungen. | X61: Identifizierung von Auftragnehmern und Festlegung des Schutzbedarfs und der Sicherheitsanforderungen: Entscheidend für diese Einschätzung ist, ob der Auftragnehmer im Rahmen seiner Tätigkeit 1) Zugriff auf Informationen oder Sicherheitszonen des Unternehmens mit hohem Schutzbedarf in Bezug auf Vertraulichkeit erhält; oder 2) relevante Informationen liefert oder verändern kann, bei denen der Schutzbedarf in Bezug auf Integrität hoch ist; oder 3) einen maßgeblichen Einfluss auf Prozesse oder IT-Systeme hat, deren Schutzbedarf in Bezug auf Verfügbarkeit mindestens hoch ist (vergl. interne oder kundenbezogene SLAs). Typische Auftragnehmer mit hohem Schutzbedarf sind z. B. Reinigungsdienstleister, die eigenständig entsprechende Sicherheitsbereiche säubern, IT-Dienstleister (z. B. Datenbank-Administratoren), Consultants, Agenturen und Unterauftragnehmer (z. B. Werkzeugbauer, denen Projektdaten weitergegeben werden müssen). Für Auftragnehmer mit hohem Schutzbedarf gelten natürlich die Mindestanforderungen an die Informationssicherheit in Bezug auf das jeweilige Schutzziel. Diese Anforderungen sollten insbesondere durch notwendige allgemeine (siehe z. B. ISA hoher Schutzbedarf) und auftragsspezifische Anforderungen ergänzt werden. Sicherstellung der Umsetzung durch den Auftragnehmer: Hier kann als Orientierung die für normalen Schutzbedarf beschriebene Vorgehensweise genutzt werden. Neben der Verpflichtung zur Umsetzung eines angemessenen Informationssicherheitsniveaus und der Verpflichtung zur Geheimhaltung sollte ein Auditrecht vertraglich festgeschrieben werden oder angemessene Kontrollen (regelmäßige Auditierung des Auftragnehmers) sollten sichergestellt werden. Dies darf auch eine Verpflichtung zur Teilnahme am TISAX beinhalten. Um die Einhaltung der Anforderungen in geeigneter Weise sicherzustellen, sollten einfache Mechanismen etabliert werden. Dies kann zum Beispiel Folgendes beinhalten: - Auftragnehmer benötigt TISAX-Label für hohen Schutzbedarf oder gleichwertig (z. B. Zertifikat nach ISO 27001 mit entsprechendem Geltungsbereich) - Recht auf und Durchführung von regelmäßigen stichprobenartigen und ereignisbezogenen Überprüfungen. | Y61: Identifizierung von Auftragnehmern und Festlegung des Schutzbedarfs und der Sicherheitsanforderungen: Entscheidend für diese Einschätzung ist, ob der Auftragnehmer im Rahmen seiner Tätigkeit 1) Zugriff auf Informationen oder Sicherheitszonen des Unternehmens mit sehr hohem Schutzbedarf in Bezug auf Vertraulichkeit erhält; oder 2) relevante Informationen liefert oder verändern kann, bei denen der Schutzbedarf in Bezug auf Integrität sehr hoch ist; oder 3) einen maßgeblichen Einfluss auf Prozesse oder IT-Systeme hat, deren Schutzbedarf in Bezug auf Verfügbarkeit mindestens sehr hoch ist (vergl. interne oder kundenbezogene SLAs). Typische Lieferanten mit sehr hohem Schutzbedarf sind IT-Dienstleister (z. B. Domain-Administratoren), Consultants, Agenturen, Unterauftragnehmer (z. B. CAD-Konstrukteure, denen umfassende Projektdaten mit sehr hohem Schutzbedarf weitergegeben werden müssen) und Prototypenhersteller. Für Auftragnehmer mit sehr hohem Schutzbedarf gelten natürlich die Mindestanforderungen an die Informationssicherheit in Bezug auf den jeweiligen Schutzbedarf. Diese Anforderungen sollten insbesondere durch notwendige allgemeine (siehe z. B. ISA sehr hoher Schutzbedarf) und auftragsspezifische Anforderungen ergänzt werden. Der Unterschied zum hohen Schutzbedarf ist im Wesentlichen die Anzahl und Qualität der notwendigen Zusatzanforderungen. Sicherstellung der Umsetzung durch den Auftragnehmer: Hier kann zur ersten Orientierung die für hohen Schutzbedarf beschriebene Vorgehensweise genutzt werden. Neben der Verpflichtung zur Umsetzung eines angemessenen Informationssicherheitsniveaus und der Verpflichtung zur Geheimhaltung sollte ein Auditrecht vertraglich festgeschrieben werden oder angemessene Kontrollen (regelmäßige Auditierung des Auftragnehmers) sollten sichergestellt werden. Dies sollte auch eine Verpflichtung zur Teilnahme am TISAX beinhalten. Um die Einhaltung der Anforderungen in geeigneter Weise sicherzustellen, sollten einfache Mechanismen etabliert werden. Dies kann zum Beispiel Folgendes beinhalten: - Auftragnehmer benötigt TISAX-Label für sehr hohen Schutzbedarf - Recht auf und Durchführung von regelmäßigen und ereignisbezogenen gründlichen Prüfungen (gegebenenfalls ergänzt durch unterstützende Zertifikate). | Z61: + Welche Auftragnehmer/Dienstleister erhalten oder verarbeiten schutzbedürftige Daten? + Welchen Auftragnehmern/Dienstleistern wird der Zugang zu Sicherheitszonen gewährt? + Sind neben der Geheimhaltungsvereinbarung weitere vertragliche Vereinbarungen in Bezug auf die Informationssicherheit in Kraft? + Wie erfolgt die Verifizierung der Einhaltung vertraglicher Vereinbarungen durch den Auftragnehmer/Dienstleister? + An welchen Stellen im Unternehmen erfolgen Risikobewertungen in Bezug auf den Einsatz von Auftragnehmern/Dienstleistern? + Gibt es eine Informationssicherheitsrichtlinie für Auftragnehmer/Dienstleister? + Wie erfolgt der Nachweis der Einhaltung der Richtlinien durch die Auftragnehmer/Dienstleister? + Welche Auftragnehmer/Dienstleister wurden/werden überprüft? + Wie wird die Überprüfung dokumentiert? + Welche Kriterien lösen einen Assessmentprozess aus? + Wie erfolgt die Überprüfung der von Auftragnehmern/Dienstleistern erbrachten Leistungen? + Werden Netzwerke/IT-Systeme durch Auftragnehmer/Dienstleister betreut? + Wie verhindern Sie, dass Auftragnehmer/Dienstleister unbefugt Zugriff auf Informationen mit hohem/sehr hohem Schutzbedarf erhalten können? | AA61: - Vorlage für eine Geheimhaltungsvereinbarung (NDA, en: Non-Disclosure Agreement) mit dem Auftragnehmer - Beispiel für eine unterzeichnete NDA - Beispiel für eine Risikobewertung (Schwerpunkt: Informationssicherheitsaspekte) - Informationssicherheitsrichtlinie für Dienstleister/Vertragsklauseln bezüglich Informationssicherheit - Prozessbeschreibung B2B-/Lieferantenmanagement (z. B. Lieferantenauswahl, Lieferantenbewertung, Lieferantenqualifizierung) - Sichtung von Selbstauskünften - Sichtung von Bescheinigungen/Zertifikaten ausgewählter Lieferanten (z. B. TISAX-Label; Zertifikat nach ISO 27001) + Beispiel für eine durchgeführte Lieferantenbewertung (Schwerpunkt auf Informationssicherheitsaspekten) + Sichtung von Auditberichten + Liste freigegebener Auftragnehmer + Sichtung des SLA-Reportings
A62: =IF(AND($B62<>"",$C$3="1",NOT(ISBLANK($C62))),"header",IF(AND($B62<>"",$C$3<>"1",NOT(ISBLANK($C62))),"blank",IF(AND($B62<>"",#REF!="01",NOT(ISBLANK(#REF!))),"header",IF(AND($B62<>"",#REF!<>"01",NOT(ISBLANK(#REF!))),"blank",IF(AND($B62<>"",#REF!<>"01",NOT(ISBLANK(#REF!))),"blank",IF(AND($C$3="1",ISBLANK($C62),ISBLANK($B62)),"blank","")))))) -> #REF! | C62: 6.1.2 | H62: Inwieweit ist Geheimhaltung beim Austausch von Informationen vertraglich vereinbart? | I62: Geheimhaltungsvereinbarungen dienen dem rechtlichen Schutz von Informationen einer Organisation, insbesondere wenn diese über die Organisationsgrenzen hinaus ausgetauscht werden. | J62: + Die Anforderungen an die Geheimhaltung sind ermittelt und erfüllt. + Anforderungen und Verfahren zum Einsatz von Geheimhaltungsvereinbarungen sind allen Personen bekannt, die schutzbedürftige Informationen weitergeben. + Vor der Weitergabe von sensiblen Informationen werden gültige Geheimhaltungsvereinbarungen abgeschlossen. + Die Anforderungen und Verfahren für die Anwendung von Geheimhaltungsvereinbarungen und den Umgang mit schutzbedürftigen Informationen werden in regelmäßigen Abständen überprüft. | K62: + Vorlagen für Geheimhaltungsvereinbarungen sind vorhanden und auf rechtliche Anwendbarkeit geprüft. + Geheimhaltungsvereinbarungen umfassen die beteiligten Personen/Organisationen, die Art der von der Vereinbarung erfassten Informationen, den Gegenstand der Vereinbarung, die Laufzeit der Vereinbarung und die Verantwortlichkeiten der verpflichteten Partei. + Geheimhaltungsvereinbarungen enthalten Bestimmungen zum Umgang mit sensiblen Informationen über das Vertragsverhältnis hinaus. + Mögliche Nachweise zur Einhaltung von Vorgaben (z. B. Prüfung durch einen unabhängigen Dritten oder Auditrechte) sind definiert. + Ein Prozess, mit dem die Gültigkeitsdauer von befristeten Geheimhaltungsvereinbarungen überwacht und rechtzeitig eine Verlängerung der Geheimhaltungsvereinbarungen angestoßen wird, ist definiert und umgesetzt. | L62: Keine | M62: Keine | N62: Keine | O62: ISO 27001:2022: A.5.14, A.6.6 | P62: BSI IT-Grundschutz-Kompendium: OPS.2.1, OPS.2.2, OPS.3.1, ORP.5, CON.2
A63: =IF(AND($B63<>"",$C$3="1",NOT(ISBLANK($C63))),"header",IF(AND($B63<>"",$C$3<>"1",NOT(ISBLANK($C63))),"blank",IF(AND($B63<>"",#REF!="01",NOT(ISBLANK(#REF!))),"header",IF(AND($B63<>"",#REF!<>"01",NOT(ISBLANK(#REF!))),"blank",IF(AND($B63<>"",#REF!<>"01",NOT(ISBLANK(#REF!))),"blank",IF(AND($C$3="1",ISBLANK($C63),ISBLANK($B63)),"blank","")))))) -> #REF! | C63: 6.1.3 | H63: Inwieweit sind die Verantwortlichkeiten zwischen organisationsfremden IT-Dienstleistern und der eigenen Organisation definiert? | I63: Es ist wichtig, dass ein gemeinsames Verständnis der Verantwortungsaufteilung existiert und dass alle Sicherheitsanforderungen erfüllt sind. Bei der Nutzung von organisationsfremden IT-Dienstleistern und IT-Diensten sind deshalb die Verantwortlichkeiten bezüglich der Umsetzung von Maßnahmen zur Informationssicherheit festzulegen und nachweisbar zu dokumentieren. | J63: + Eingesetzte betroffene IT-Dienste und IT-Dienstleistungen (z. B. Support) sind identifiziert. + Die für den IT-Dienst relevanten Sicherheitsanforderungen sind ermittelt. + Die für die Umsetzung der Anforderung verantwortliche Organisation ist definiert und sich ihrer Verantwortung bewusst. + Für gemeinsame Verantwortlichkeiten sind Mechanismen festgelegt und umgesetzt. + Die verantwortliche Organisation wird ihren jeweiligen Verantwortlichkeiten gerecht. | K63: + Bei IT-Diensten wurde die Konfiguration anhand der notwendigen Sicherheitsanforderungen konzipiert, umgesetzt und dokumentiert. + Das verantwortliche Personal ist entsprechend geschult. | L63: + Es existiert ein Verzeichnis der betroffenen IT-Dienstleistungen und IT-Dienste und der jeweils verantwortlichen IT-Dienstleister. (C, I, A) + Die Anwendbarkeit der Controls des ISA wurde geprüft und dokumentiert. (C, I, A) + Die Dienstkonfiguration ist in die regelmäßigen Sicherheitsbewertungen einbezogen. (C, I, A) + Es liegen Nachweise vor, dass die IT-Dienstleister ihrer Verantwortung gerecht werden. (C, I, A) + Die Integration in lokale Schutzmaßnahmen (wie z. B. sichere Authentifizierungsverfahren) ist etabliert und dokumentiert. (C, I, A) | M63: Keine | N63: Keine | O63: ISO 27001:2022: A.5.23 ISO 27001:2022: A.8.9 ------ ISO 27017: CLD.6.3.1 ------ ISA/IEC 62443-2-1: 6.2.3 ------ NIST CSF 2.0: GV.OC-05, GV.SC-01, GV.SC-02 | P63: BSI-Standard 200-2: 8.1, 8.2, 8.4 BSI IT-Grundschutz-Kompendium: OPS.2.1, OPS.2.2 , OPS.3.1, ORP.2 ------ NIST SP800-53r5: MA-4, PT-1, PL-2
A64: =IF(AND($B64<>"",$C$3="1",NOT(ISBLANK($C64))),"header",IF(AND($B64<>"",$C$3<>"1",NOT(ISBLANK($C64))),"blank",IF(AND($B64<>"",#REF!="01",NOT(ISBLANK(#REF!))),"header",IF(AND($B64<>"",#REF!<>"01",NOT(ISBLANK(#REF!))),"blank",IF(AND($B64<>"",#REF!<>"01",NOT(ISBLANK(#REF!))),"blank",IF(AND($C$3="1",ISBLANK($C64),ISBLANK($B64)),"blank","")))))) -> header | B64: 1 | C64: 7 | H64: Compliance
