Workbook
Name Classification_level: #REF!
Name Classification_level: #REF!
Name Classification_level: #REF!
Name Classification_level: #REF!
Name Classification_level: #REF!
Name Classification_level: #REF!
Name Classification_level: #REF!
Name Control1.1: #REF!
Name Control1.2: #REF!
Name Control1.3: #REF!
Name Control10.1: #REF!
Name Control11.1: #REF!
Name Control11.2: #REF!
Name Control11.3: #REF!
Name Control11.4: #REF!
Name Control12.1: #REF!
Name Control12.2: #REF!
Name Control12.3: #REF!
Name Control12.4: #REF!
Name Control12.5: #REF!
Name Control12.6: #REF!
Name Control12.7: #REF!
Name Control12.8: #REF!
Name Control12.9: #REF!
Name Control13.1: #REF!
Name Control13.2: #REF!
Name Control13.3: #REF!
Name Control13.4: #REF!
Name Control13.5: #REF!
Name Control14.1: #REF!
Name Control14.2: #REF!
Name Control14.3: #REF!
Name Control14.4: #REF!
Name Control15.1: #REF!
Name Control15.2: #REF!
Name Control16.1: #REF!
Name Control16.2: #REF!
Name Control17.1: #REF!
Name Control18.1: #REF!
Name Control18.2: #REF!
Name Control18.3: #REF!
Name Control18.4: #REF!
Name Control23.11.1: #REF!
Name Control23.11.1: #REF!
Name Control23.11.1: #REF!
Name Control23.11.1: #REF!
Name Control23.11.1: #REF!
Name Control23.11.1: #REF!
Name Control23.11.1: #REF!
Name Control23.11.1: #REF!
Name Control23.13.3: #REF!
Name Control23.13.3: #REF!
Name Control23.13.3: #REF!
Name Control23.13.3: #REF!
Name Control23.13.3: #REF!
Name Control23.13.3: #REF!
Name Control23.13.3: #REF!
Name Control23.13.3: #REF!
Name Control23.7.2: #REF!
Name Control23.7.2: #REF!

Sheet Willkommen
B1: Information Security Assessment
B3: Das ISA dient als Basis für - eine Selbstbewertung zur Bestimmung des Zustandes der Informationssicherheit in einer Organisation (z. B. Unternehmen) - Audits durch interne Fachabteilungen (z. B. interne Revision, Informationssicherheit) - Prüfungen nach TISAXⓇ (Trusted Information Security Assessment Exchange, https://enx.com/tisax/)
B5: Das ISA besteht aus mehreren Tabellenblättern, deren Inhalt und Funktion im Tabellenblatt „Definitionen“ erklärt wird. Die entsprechenden eigentlichen Anforderungen können den Tabellenblättern „Informationssicherheit“, „Prototypenschutz“ und „Datenschutz“ entnommen werden.
B7: Wir empfehlen, sich durch Nutzung des Tabellenblatts „Definitionen“ zunächst einen Überblick über die einzelnen ISA-Tabellenblätter zu verschaffen. Anschließend mit dem Tabellenblatt „Informationssicherheit“ beginnen. Die Verfasser dieses Dokuments wünschen Ihnen dabei viel Erfolg.
B8: Herausgeber: Verband der Automobilindustrie e. V. (VDA); Behrenstr. 35; 10117 Berlin; www.vda.de
B9: Möchten Sie Feedback zu bestimmten Themen im ISA-Katalog geben? Bitte nutzen Sie dazu unser Feedback-Formular hier:
B10: ENX ISA-Feedback
B11: Ihre Anmerkungen werden der ENX-Arbeitsgruppe ISA zur weiteren Diskussion vorgelegt.
B13: Hinweis: Zur besseren Orientierung sind die Arbeitsblätter wie folgt farblich gekennzeichnet.

Sheet Deckblatt
B1: Information Security Assessment
B3: Firma / Organisation:*
B5: Anschrift:*
B7: Geltungsbereich/TISAX Scope-ID*
B9: D&B D-U-N-S® Nr.
B11: Datum des Assessments:*
B13: Ansprechpartner:*
B15: Telefon-Nr.:
B17: E-Mail-Adresse:*
B19: Ersteller:*
B21: Unterschrift:
B23: Version: 2027.1 | 2026-09-30

Sheet Reifegrade
B1: Information Security Assessment Reifegrade Die Antwort auf die Kontrollfragen ist ein Reifegrad in einem generischen Reifegrad-Modell, mit dem die Reife der dahinterstehenden Prozesse quantifiziert wird. Um den Reifegrad zu bestimmen, muss während des Assessments objektiv nachweisbar sein, dass die Anforderungen der entsprechenden Stufe erfüllt werden. Dies erfolgt zum Beispiel anhand von Arbeitsprodukten, welche als Ergebnisse aus den Prozessen der Kontrollfragen hervorgehen, oder durch Aussagen der fachlichen Prozessausführenden in Interviews.
C2: Reifegrad 0 | D2: Reifegrad 1 | E2: Reifegrad 2 | F2: Reifegrad 3 | G2: Reifegrad 4 | H2: Reifegrad 5
B3: Name | C3: Unvollständig | D3: Durchgeführt | E3: Gesteuert | F3: Etabliert | G3: Vorhersagbar | H3: Optimierend
B4: Kurzbeschreibung | C4: Es gibt keinen Prozess, es wird keinem Prozess gefolgt oder der Prozess ist nicht geeignet, um das Ziel zu erreichen. | D4: Es wird einem nicht oder unvollständig dokumentierten Prozess gefolgt ("informeller Prozess") und es gibt Anzeichen, dass er sein Ziel erreicht. | E4: Es wird einem Prozess gefolgt, der seine Ziele erreicht. Prozessdokumentation und Prozessdurchführungsnachweise sind vorhanden. | F4: Es wird einem Standardprozess gefolgt, der in das Gesamtsystem integriert ist. Abhängigkeiten von anderen Prozessen sind dokumentiert und geeignete Schnittstellen geschaffen. Es existieren Nachweise, dass der Prozess über einen längeren Zeitraum nachhaltig und aktiv genutzt wurde. | G4: Es wird einem etablierten Prozess gefolgt. Die Wirksamkeit des Prozesses wird durch Erheben von Kennzahlen kontinuierlich überwacht. Es sind Grenzwerte definiert, bei denen der Prozess als nicht hinreichend wirksam angesehen wird und angepasst werden muss. (Key Performance Indicators) | H4: Es wird einem vorhersagbaren Prozess gefolgt, bei dem die kontinuierliche Verbesserung ein wesentliches Ziel ist. Die Verbesserung wird von dedizierten Ressourcen aktiv vorangetrieben.
B5: Definition | C5: Ein Prozess ist nicht implementiert oder der Prozesszweck wird nicht erreicht. Es gibt nur geringe oder keine Anzeichen dafür, dass der Prozesszweck systematisch erreicht wird. | D5: - Der realisierte Prozess erfüllt seinen (Prozess-) Zweck. - Die beabsichtigten Basispraktiken werden nachweisbar durchgeführt. | E5: Steuerung der Prozessdurchführung (PA 2.1): - Die Leistungsziele des Prozesses sind identifiziert. - Die Durchführung des Prozesses wird geplant und überwacht. - Die Durchführung des Prozesses wird zur Erfüllung der Planungen angepasst. - Verantwortlichkeiten und Befugnisse zur Durchführung des Prozesses sind definiert, zugewiesen und kommuniziert. - Für die Durchführung des Prozesses notwendige Ressourcen und Informationen sind ermittelt, bereitgestellt, zugewiesen und werden genutzt. - Schnittstellen zwischen den betroffenen Einheiten werden gemanagt, um eine effektive Kommunikation und eine klare Zuweisung von Verantwortlichkeiten sicherzustellen. Management der Arbeitsergebnisse (PA 2.2): - Anforderungen an die Arbeitsergebnisse des Prozesses sind definiert - Anforderungen an die Dokumentation und die Steuerung der Arbeitsergebnisse sind definiert. - Arbeitsergebnisse werden angemessen identifiziert, dokumentiert und gesteuert. - Arbeitsergebnisse werden in Übereinstimmung mit geplanten Maßnahmen überprüft und nötigenfalls angepasst, um die Anforderungen zu erfüllen. | F5: Prozessdefinition (PA 3.1): - Ein Standardprozess einschließlich in geeigneter Weise angepasste Vorgaben ist definiert, der die grundlegenden Elemente beschreibt, die ein definierter Prozess enthalten muss. - Die Reihenfolge und das Zusammenspiel des Standardprozesses mit anderen Prozessen sind bestimmt. - Kompetenzen und Rollen, die zur Durchführung des Prozesses erforderlich sind, sind als Teil des Standardprozesses identifiziert. - Infrastruktur und Arbeitsumgebung, die zur Durchführung eines Prozesses erforderlich sind, sind als Teil des Standardprozesses identifiziert. - Geeignete Methoden sind bestimmt, um die Wirksamkeit und Angemessenheit des Prozesses zu überwachen. Ausbringung/Verbreitung/Verteilung des Prozesses (PA 3.2): - Ein definierter Prozess, der auf einem geeignet ausgewählten und/oder zugeschnittenen Standardprozess basiert, ist ausgebracht/verbreitet. - Benötigte Rollen, Verantwortlichkeiten und Befugnisse zur Durchführung des definierten Prozesses sind zugewiesen und kommuniziert. - Das Personal, welches den definierten Prozess durchführt, ist kompetent bzw. fachkundig, was auf einer geeigneten Ausbildung, Training und Erfahrung beruht. - Erforderliche Ressourcen und Informationen, die zur Durchführung des definierten Prozesses erforderlich sind, sind verfügbar, zugewiesen und werden genutzt. - Erforderliche Infrastruktur und eine Arbeitsumgebung, die zur Durchführung des definierten Prozesses erforderlich sind, sind verfügbar, werden gemanagt und gewartet. - Geeignete Daten werden gesammelt und analysiert, um ein grundlegendes Verständnis für das Verhalten des Prozesses zu gewinnen, seine Angemessenheit und Wirksamkeit zu zeigen und zu bewerten, wo eine kontinuierliche Prozessverbesserung (KVP) gemacht werden kann. | G5: Prozessmessung (PA 4.1): - Anforderungen an Prozessinformationen zur Unterstützung von relevanten, definierten Geschäftszielen sind etabliert. - Ziele zur Prozessmessung sind aus den Anforderungen an Prozessinformationen abgeleitet. - Quantitative Ziele bezüglich der Prozessdurchführung zur Unterstützung von relevanten, definierten Geschäftszielen sind etabliert. - Kennzahlen und die Häufigkeit von Messungen sind identifiziert und sind in Übereinstimmung mit den Zielen zur Prozessmessung und den quantitativen Zielen bezüglich der Prozessdurchführung definiert. - Messergebnisse sind gesammelt, analysiert und werden berichtet, um den Grad der quantitativen Zielerreichung bezüglich der Prozessdurchführung zu überwachen. - Messergebnisse werden genutzt, um die Durchführung des Prozesses zu charakterisieren. Prozesssteuerung (PA 4.2): - Analyse- und Steuerungstechniken sind bestimmt und werden, wie jeweils zutreffend, angewendet. - Variable Steuerungsgrenzen sind zur gewöhnlichen Durchführung des Prozesses etabliert. - Messdaten für spezielle Varianten werden analysiert. - Korrekturmaßnahmen werden durchgeführt, um spezielle Varianten zu berücksichtigen. - Steuerungsgrenzen werden (falls erforderlich) im Anschluss an Korrekturmaßnahmen erneut etabliert. | H5: Prozessinnovation (PA 5.1) - Ziele zur Prozessverbesserung sind für den jeweiligen Prozess definiert, welcher die relevanten Geschäftsziele unterstützt. - Geeignete Daten werden analysiert, um die allgemeinen Ursachen für Variationen bei der Durchführung von Prozessen zu identifizieren. - Geeignete Daten werden analysiert, um Möglichkeiten für die Anwendung von Best Practices und Innovation zu identifizieren. - Möglichkeiten zur Verbesserung, die aus neuen Technologien und neuen Prozesskonzepten abgeleitet werden, sind identifiziert. - Eine Umsetzungsstrategie ist etabliert, um die Ziele einer Prozessverbesserung zu erreichen. - Kontinuierliche Optimierung (PA 5.2): - Die Auswirkung aller vorgeschlagenen Änderungen wird in Bezug auf die Ziele des definierten und des Standardprozesses bewertet. - Die Umsetzung aller beschlossenen Änderungen wird gemanagt, um sicherzustellen, dass jegliche Unterbrechung der Durchführung eines Prozesses begriffen und darauf eingewirkt wird. - Die Wirksamkeit einer Prozessänderung wird auf Grundlage der tatsächlichen Leistung gegenüber definierten Prozessanforderungen und Prozesszielen beurteilt, um zu bestimmen, ob Ergebnisse mit allgemeinen oder speziellen Fällen übereinstimmen.
B6: Mögliche Nachweise (GWP) | D6: + Arbeitsergebnisse, die einen Nachweis für Prozessergebnisse liefern. | E6: + Prozessdokumentation + Prozessplan + Qualitätsplan, -aufzeichnungen + Prozessdurchführungsaufzeichnungen | F6: + Prozessdokumentation + Prozessplan + Qualitätsaufzeichnungen + Richtlinien und Standards + Prozessdurchführungsaufzeichnungen | G6: + Prozessdokumentation + Prozesssteuerungsplan + Prozessverbesserungsplan + Prozessmessplan + Prozessdurchführungsaufzeichnungen | H6: + Prozessverbesserungsplan + Prozessmessplan + Prozessdurchführungsaufzeichnungen
B7: Beispiel

Sheet Definitionen
B1: Information Security Assessment Definitionen
B2: Tabellenblätter
B3: Tabellenblatt | D3: Beschreibung | E3: Verwendungszweck des Tabellenblattes
B4: Wilkommen | D4: Willkommensseite. | E4: Information
B5: Deckblatt | D5: Das Deckblatt enthält Felder für Angaben zur durchführenden Organisation, dem Geltungsbereich von Prüfungen, dem Prüfer und dem Ansprechpartner der geprüften Organisation. | E5: Zur eigenen Verwendung
B6: Reifegrade | D6: Die VDA-ISA sieht vor, dass die Umsetzung mittels eines 5-stufigen Reifegrad-Modells bewertet wird, das in diesem Tabellenblatt definiert wird. Die Reifegrade umfassen unvollständig, durchgeführt, gesteuert, etabliert und vorhersagbar. Der Zielreifegrad für alle Kontrollfragen liegt bei dieser Version der VDA-ISA durchgängig bei 3 (etabliert). | E6: Information
B7: Definitionen | D7: In den Definitionen werden die Schlüsselbegriffe für die zu erfüllenden Anforderungen beschrieben. Anforderungen können dabei in die Kategorien „muss“, „sollte“, zusätzlich bei „hohem Schutzbedarf“ und zusätzlich bei „sehr hohem Schutzbedarf“ eingestuft werden. Diese Unterteilung ist nötig, da Informationen mit hohem und sehr hohem Schutzbedarf besondere Schutzmaßnahmen erfordern. Zusätzlich werden in diesem Tabellenblatt Schlüsselbegriffe und Abkürzungen aufgeführt und erläutert. | E7: Information
B8: Informationssicherheit | D8: Das Tabellenblatt „Informationssicherheit“ enthält alle Basis-Maßnahmen basierend auf der Norm ISO/IEC 27001. Die Maßnahmen selbst sind als Fragen formuliert. Das Ziel der jeweiligen Maßnahme und die Anforderungen zur Erreichung des Ziels sind in den entsprechend benannten Spalten aufgeführt. Jede Maßnahme muss hierbei immer anhand des Grades der Erreichung des Ziels bewertet werden. Die Bewertung der Reifegrade (wie im Tabellenblatt „Reifegrade“ beschrieben) jeder Maßnahme wird in dem Feld (Spalte D) festgehalten und automatisch in das Tabellenblatt „Ergebnisse“ übertragen. Weitere Spalten geben mit Beispielen Hilfestellung zu einer möglichen Umsetzung. Anforderungen beziehen sich dabei immer auf das eigene Unternehmen mit seiner Organisation, seinen Prozessen und seiner Infrastruktur. Anforderungen beziehen sich niemals auf Produkte, welche Ihr Unternehmen in Verkehr bringt. Anforderungen an eine sichere Produktentwicklung sind nicht Teil dieses Moduls. | E8: Umsetzungsanforderungen
B9: Prototypenschutz | D9: Das Tabellenblatt „Prototypenschutz“ enthält Maßnahmen, um sicherzustellen, dass geeignete Maßnahmen für den Umgang mit Prototypen vorhanden sind, welche einen besonderen Schutz erfordern. Jede Maßnahme muss hierbei immer anhand des Grades der Erreichung des Ziels bewertet werden. Die Bewertung der Reifegrade (wie im Tabellenblatt „Reifegrade“ beschrieben) jeder Maßnahme wird in dem Feld (Spalte D) festgehalten und automatisch in das Tabellenblatt „Ergebnisse“ übertragen. Weitere Spalten geben mit Beispielen Hilfestellung zu einer möglichen Umsetzung. Anforderungen beziehen sich dabei immer auf das eigene Unternehmen mit seiner Organisation, seinen Prozessen und seiner Infrastruktur. Anforderungen beziehen sich niemals auf Produkte, welche Ihr Unternehmen in Verkehr bringt. Anforderungen an eine sichere Produktentwicklung sind nicht Teil dieses Moduls. | E9: Umsetzungsanforderungen
B10: Datenschutz | D10: Dieses Tabellenblatt ist zusätzlich bei einer Auftragsverarbeitung im Sinne von Art. 28 der Allgemeinen Datenschutzgrundverordnung der EU zu bearbeiten und enthält Maßnahmen, die nur mit Ja/Nein zu beantworten sind. | E10: Umsetzungsanforderungen
B11: Ergebnisse | D11: Hier werden die Ergebnisse der einzelnen Tabellenblätter (Prüfkatalogseiten) zusammengefasst und im Druckformat dargestellt. Für Darstellungszwecke wird die vereinfachte Form nach ISA genutzt. Das Spinnennetz-Diagramm bietet eine Übersicht über alle Maßnahmen. Die Liste aller Maßnahmen zeigt die anzustrebenden Zielreifegrade. Bei der Berechnung des Gesamtergebnisses werden die Ergebnisse von Maßnahmen, die den Zielreifegrad übererfüllen, gekürzt und der Durchschnitt ermittelt. Dies stellt sicher, dass die Anforderungen themenübergreifend erfüllt werden und kein Ausgleich von über- und untererfüllten Maßnahmen stattfindet. | E11: Ergebnispräsentation
B12: Beispiele für KPI | D12: Dieses Tabellenblatt zeigt Beispiele für Key Performance Indicators (KPI) zum Messen von Prozessergebnissen. Der Inhalt des Tabellenblattes dient als Hilfestellung zur Identifizierung eigener geeigneter KPIs. Er stellt keine verbindlichen Vorgaben zum Erreichen des Reifegrads der Stufe 4 vor. Die Definition von KPIs ist nicht verbindlich vorgeschrieben, kann aber für ein zentrales Management der Informationssicherheit an vielen Standorten hilfreich sein. | E12: Beispiele und Hilfestellungen
B13: Lizenz | D13: Lizenzbedingungen, unter denen die VDA-ISA veröffentlicht wird. | E13: Information
B14: Änderungshistorie | D14: Liste der Änderungen über den Lebenszyklus der VDA-ISA. | E14: Information
B15: Schlüsselbegriffe
B16: Begriff | D16: Erläuterung | E16: Beispiele
B17: Schutzklasse "normal", normaler Schutzbedarf | D17: Der potenzielle Schaden für die Organisation ist begrenzt und überschaubar. | E17: Vertraulichkeitsklassifizierung "intern"
B18: Schutzklasse "hoch", hoher Schutzbedarf | D18: Der potenzielle Schaden für die Organisation kann beträchtlich sein. | E18: Vertraulichkeitsklassifizierung "vertraulich"
B19: Schutzklasse "sehr hoch", sehr hoher Schutzbedarf | D19: Der potenzielle Schaden kann ein für die Organisation existenziell bedrohliches oder katastrophales Ausmaß erreichen. | E19: Vertraulichkeitsklassifizierung "streng vertraulich"
B20: Anforderungen (muss) | D20: Die Anforderungen in dieser Spalte sind strenge Anforderungen, für die es keine Ausnahmen gibt.
B21: Anforderungen (sollte) | D21: Die Anforderungen in dieser Spalte müssen grundsätzlich von der Organisation umgesetzt werden. Es kann jedoch unter bestimmten Umständen eine valide Begründung geben, diese Anforderungen nicht zu erfüllen. Die Auswirkungen von Abweichungen müssen durch die Organisation verstanden werden, und die Abweichung muss nachvollziehbar begründet werden.
B22: Zusatzanforderungen bei hohem Schutzbedarf | D22: Die Anforderungen in dieser Spalte müssen zusätzlich erfüllt werden, wenn das geprüfte Subjekt einen hohen Schutzbedarf hat.
B23: Zusatzanforderungen bei sehr hohem Schutzbedarf | D23: Die Anforderungen in dieser Spalte müssen zusätzlich erfüllt sein, wenn das geprüfte Subjekt einen sehr hohen Schutzbedarf hat.
B24: Ergebnis (Reifegrad) | D24: Im Ergebnis-Tabellenblatt ISA (Spinnennetz-Diagramm) werden alle Ergebnisse wie bewertet dargestellt. Die Linie für den Zielreifegrad berücksichtigt Maßnahmen, die als „n. a.“ gekennzeichnet wurden, nicht. Bei der Berechnung des Durchschnitts wird hingegen der höchste erreichbare Zielereifegrad berücksichtigt.
B25: Phrase “Die folgenden Aspekte werden berücksichtigt:” | D25: Der Ausdruck „Die folgenden Aspekte werden berücksichtigt“ bedeutet, dass für jeden aufgeführten Aspekt eine bewusste und fundierte Entscheidung darüber getroffen worden sein sollte, ob, in welchem Umfang und auf welche Weise eine Maßnahme umgesetzt wird. Im Rahmen eines Assessments sollte der Auditierte in der Lage sein, die zugrunde liegende Argumentation und die daraus resultierende Entscheidung zu erläutern.
B26: Schutzziele | D26: Bestimmte zusätzliche Anforderungen für hohen und sehr hohen Schutzbedarf hängen von den Sicherheitszielen ab und sind entsprechend gekennzeichnet: - Vertraulichkeit (C) - Integrität (I) - Verfügbarkeit (A) | E26: Registerkarte „Informationssicherheit“, Spalte L/M (C, I, A)
B28: Glossar
B29: Begriff | D29: Erläuterung | E29: Beispiele
B30: Prüfscope / Geltungsbereich | D30: Legt fest, was während der Prüfung bewertet wird und was nicht („außerhalb des Anwendungsbereiches“) Der Prüfscope ist mit dem Geltungsbereich des bewerteten Managementsystems verbunden. Bei ISO-Zertifizierungen ist der Prüfscope stets identisch mit dem Geltungsbereich des Managementsystems. Bei TISAX-Prüfungen kann der Prüfscope als Teilmenge des Geltungsbereiches des Managementsystems definiert werden, solange alle erforderlichen Komponenten des Managementsystems vom Prüfscopes abgedeckt werden. Um ein Prüfergebnis zu verstehen, ist es erforderlich, den Prüfscope zu verstehen.
B31: Business Continuity Management (BCM) | D31: BCM dient dazu sicherzustellen, dass die geschäftskritischen Prozesse in der Organisation in und nach einer Krisensituation funktionieren.
B32: Klassifizierung von Informationen | D32: Der Wert der Information für die Organisation wird auf der Grundlage der relevanten Schutzziele der Informationssicherheit (Vertraulichkeit, Integrität und Verfügbarkeit) ermittelt. Auf dieser Grundlage werden die Informationen in das Klassifizierungsschema eingeordnet. Dies ermöglicht der Organisation die Umsetzung angemessener Schutzmaßnahmen.
B33: Cloud / externe IT-Dienste | D33: Ein externer Dienst ist die Verarbeitung von Firmen-Informationen außerhalb des Anwendungsbereiches des Audits. (Z. B. externes Hosting, Cloud-Dienst, Webdienste wie z. B. Anti-Virus-Dashboards im Internet, von externen Unternehmen bereitgestellte SIEM-Dienste usw.) Wichtig für das Ablehnen nicht relevanter Webdienste: • Cloud-Dienst: ein Schaden kann sich direkt auf das Unternehmen auswirken [CIA, en: Confidentiality (Vertraulichkeit), Integrity (Integrität), Availability (Verfügbarkeit)] • Daten werden extern vertraulich/streng vertraulich verarbeitet (z. B. nicht durch Übersetzung einzelner Wörter)
B34: Coworking Space | D34: Ein Coworking Space ist eine gemeinsam genutzte Büroumgebung, in der Personen aus verschiedenen Unternehmen, Teams oder Berufsgruppen arbeiten. Diese Räume bieten eine Vielzahl von Annehmlichkeiten, die denen herkömmlicher Büros ähneln, wie beispielsweise Schreibtische, Besprechungsräume und Internetzugang. Der Coworking Space wird von einem Dritten bereitgestellt, der nicht Teil des ISMS ist. Coworking Spaces sind darauf ausgelegt, Zusammenarbeit und Gemeinschaft zu fördern. Sie bieten eine flexible und kostengünstige Alternative zur Anmietung eines eigenen Büros und sind daher bei Freiberuflern, Start-ups und sogar größeren Unternehmen beliebt, die ihre Gemeinkosten senken möchten. Das Konzept entstand Anfang der 2000er Jahre und hat sich seitdem zu einem globalen Phänomen entwickelt.
B35: Kritischer IT-Dienst | D35: Kritische IT-Dienste sind für das Geschäft oder die Organisation unverzichtbar. Wenn ein derartiger Dienst versagt oder unterbrochen wird, werden Geschäftsabläufe schwer beeinträchtigt. | E35: Aktives Verzeichnis, Firmennetzwerk, ERP, Firmen-Telefonanlage
B36: Kritische IT-Systeme | D36: Kritische IT-Systeme sind unverzichtbar, um kritische IT-Dienste zu betreiben.
B37: Ereignis | D37: Erkanntes Auftreten eines IT-System-, -Dienst- oder Netzwerk-Zustands, der auf eine mögliche Verletzung der Informationssicherheit, -Richtlinie oder auf ein Versagen von Maßnahmen hindeutet, oder eine zuvor unbekannte Situation, die sicherheitsrelevant sein kann.
B38: Generisches Arbeitsprodukt (GWP, en: Generic work product) | D38: Beliebiges Arbeitsergebnis, welches sich aus der Ausführung eines Prozesses ergibt.
B39: IAM-Technologie | D39: Identitäts- und Zugriffsverwaltungs- (IAM- oder IdAM)-Technologie ist ein Rahmen von Technologien zur Sicherstellung, dass die richtigen Anwender (die Teil des mit einem Unternehmen verbundenen Ökosystems oder des Ökosystems innerhalb eines Unternehmens sind) angemessenen Zugang zu Technologie-Ressourcen haben. Identitäts- und Zugriffsverwaltungssysteme identifizieren, authentifizieren und steuern nicht nur den Zugang für Einzelne, die IT-Ressourcen nutzen, sondern auch die Hardware und Anwendungen, auf die Mitarbeiter zugreifen müssen.
B40: Office-less | D40: Der Begriff office-less bezieht sich im Allgemeinen auf ein Arbeitsumfeld, in dem herkömmliche Büroräume auf ein Minimum reduziert oder ganz abgeschafft werden. Dieses Konzept umfasst häufig Remote-Arbeit, flexible Arbeitsorte und den Einsatz von Technologie, um in Verbindung zu bleiben und produktiv zu arbeiten, ohne an einen bestimmten physischen Bürostandort gebunden zu sein.
B41: Vorfall | D41: Einzelnes unerwünschtes oder unerwartetes Informationssicherheits-Ereignis oder eine Reihe unerwünschter oder unerwarteter Informationssicherheits-Ereignisse, bei dem/denen eine beträchtliche Wahrscheinlichkeit besteht, dass es/sie Geschäftsabläufe beeinträchtigt/beeinträchtigen und die Informationssicherheit bedroht/bedrohen
...

Sheet Informationssicherheit
C1: Information Security Assessment Fragebogen
A2: Row_Format | B2: Is_Title? | C2: Kontrollnummer | D2: Reife-grad | E2: Beschreibung der Umsetzung | F2: Referenz Dokumentation | G2: Feststellungen / Auditergebnis | H2: Kontrollfrage | I2: Ziel | J2: Anforderungen (muss) | K2: Anforderungen (sollte) | L2: Zusatzanforderungen bei hohem Schutzbedarf | M2: Zusatzanforderungen bei sehr hohem Schutzbedarf | N2: Zusätzliche Anforderungen für das vereinfachte Gruppen Assessment (SGA, en: Simplified Group Assessments) | O2: Verweisung auf andere Normen | P2: Verweisung auf Implementierungsanleitung | Q2: Maßnahmen/Empfehlungen | R2: Datum der Prüfung | S2: Datum des Abschlusses | T2: Verantwortliche Abteilung | U2: Kontakt | V2: Weitere Informationen | W2: Hilfestellung: Beispiele „Normaler Schutzbedarf“ | X2: Hilfestellung: Beispiele „Hoher Schutzbedarf“ | Y2: Hilfestellung: Beispiele „Sehr hoher Schutzbedarf“ | Z2: Mögliche Fragestellungen (Beispiele, nicht verbindlich) | AA2: Mögliche Nachweise (nicht verbindlich)
A3: =IF(AND($B3<>"",$C$3="1",NOT(ISBLANK($C3))),"header",IF(AND($B3<>"",$C$3<>"1",NOT(ISBLANK($C3))),"blank",IF(AND($B3<>"",#REF!="01",NOT(ISBLANK(#REF!))),"header",IF(AND($B3<>"",#REF!<>"01",NOT(ISBLANK(#REF!))),"blank",IF(AND($B3<>"",#REF!<>"01",NOT(ISBLANK(#REF!))),"blank",IF(AND($C$3="1",ISBLANK($C3),ISBLANK($B3)),"blank","")))))) -> header | B3: 1 | C3: 1 | H3: Richtlinien und Organisation der Informationssicherheit | J3: Dies ist absichtlich unsichtbarer Text aus technischen Gründen. Diesen Text bitte nicht entfernen. Dies ist absichtlich unsichtbarer Text aus technischen Gründen. Diesen Text bitte nicht entfernen. Dies ist absichtlich unsichtbarer Text aus technischen Gründen. Diesen Text bitte nicht entfernen. Dies ist absichtlich unsichtbarer Text aus technischen Gründen. Diesen Text bitte nicht entfernen. Dies ist absichtlich unsichtbarer Text aus technischen Gründen. Diesen Text bitte nicht entfernen. | K3: Dies ist absichtlich unsichtbarer Text aus technischen Gründen. Diesen Text bitte nicht entfernen. Dies ist absichtlich unsichtbarer Text aus technischen Gründen. Diesen Text bitte nicht entfernen. Dies ist absichtlich unsichtbarer Text aus technischen Gründen. Diesen Text bitte nicht entfernen. Dies ist absichtlich unsichtbarer Text aus technischen Gründen. Diesen Text bitte nicht entfernen. Dies ist absichtlich unsichtbarer Text aus technischen Gründen. Diesen Text bitte nicht entfernen. | L3: Dies ist absichtlich unsichtbarer Text aus technischen Gründen. Diesen Text bitte nicht entfernen. Dies ist absichtlich unsichtbarer Text aus technischen Gründen. Diesen Text bitte nicht entfernen. Dies ist absichtlich unsichtbarer Text aus technischen Gründen. Diesen Text bitte nicht entfernen. Dies ist absichtlich unsichtbarer Text aus technischen Gründen. Diesen Text bitte nicht entfernen. Dies ist absichtlich unsichtbarer Text aus technischen Gründen. Diesen Text bitte nicht entfernen. | M3: Dies ist absichtlich unsichtbarer Text aus technischen Gründen. Diesen Text bitte nicht entfernen. Dies ist absichtlich unsichtbarer Text aus technischen Gründen. Diesen Text bitte nicht entfernen. Dies ist absichtlich unsichtbarer Text aus technischen Gründen. Diesen Text bitte nicht entfernen. Dies ist absichtlich unsichtbarer Text aus technischen Gründen. Diesen Text bitte nicht entfernen. Dies ist absichtlich unsichtbarer Text aus technischen Gründen. Diesen Text bitte nicht entfernen.
A4: =IF(AND($B4<>"",$C$3="1",NOT(ISBLANK($C4))),"header",IF(AND($B4<>"",$C$3<>"1",NOT(ISBLANK($C4))),"blank",IF(AND($B4<>"",#REF!="01",NOT(ISBLANK(#REF!))),"header",IF(AND($B4<>"",#REF!<>"01",NOT(ISBLANK(#REF!))),"blank",IF(AND($B4<>"",#REF!<>"01",NOT(ISBLANK(#REF!))),"blank",IF(AND($C$3="1",ISBLANK($C4),ISBLANK($B4)),"blank","")))))) -> header | B4: 2 | C4: 1.1 | H4: Richtlinien zur Informationssicherheit
A5: =IF(AND($B5<>"",$C$3="1",NOT(ISBLANK($C5))),"header",IF(AND($B5<>"",$C$3<>"1",NOT(ISBLANK($C5))),"blank",IF(AND($B5<>"",#REF!="01",NOT(ISBLANK(#REF!))),"header",IF(AND($B5<>"",#REF!<>"01",NOT(ISBLANK(#REF!))),"blank",IF(AND($B5<>"",#REF!<>"01",NOT(ISBLANK(#REF!))),"blank",IF(AND($C$3="1",ISBLANK($C5),ISBLANK($B5)),"blank","")))))) -> #REF! | C5: 1.1.1 | H5: Inwieweit sind Richtlinien zur Informationssicherheit vorhanden? | I5: Die Organisation benötigt mindestens eine Richtlinie für Informationssicherheit. Diese spiegelt die Wichtigkeit und Bedeutung der Informationssicherheit wider und ist an die Organisation angepasst. Zusätzliche Richtlinien können je nach Größe und Aufbau der Organisation sinnvoll sein. | J5: + Die Anforderungen an die Informationssicherheit wurden festgelegt, dokumentiert und an die Ziele der Organisation angepasst. + Es gibt eine Richtlinie, die von der Geschäftsleitung der Organisation genehmigt wurde. + Die Richtlinie enthält Ziele und beschreibt die Bedeutung der Informationssicherheit innerhalb der Organisation. + Die Richtlinien werden den Mitarbeitern in geeigneter Form (z. B. über das Intranet) zur Verfügung gestellt. + Mitarbeiter und externe Geschäftspartner werden über alle für sie relevanten Änderungen informiert. | K5: + Die Anforderungen an die Informationssicherheit auf der Grundlage der Organisationsstrategie, Gesetzen und Verträgen sind in der Richtlinie berücksichtigt. + Die Richtlinie weist auf Konsequenzen bei Nichtbeachtung hin. + Weitere relevante Sicherheitsrichtlinien sind erstellt. + Eine regelmäßige Prüfung und, falls notwendig, Überarbeitung der Richtlinien sind etabliert. | L5: Keine | M5: Keine | N5: + Richtlinien werden im gesamten Assessment Scope veröffentlicht und umgesetzt. | O5: ISO 27001:2022: A.5.1 ------ ISA/IEC 62443-2-1: 6.2.1 ------ NIST CSF 2.0: GV.PO-01, GV.PO-02 | P5: BSI-Standard 200-2: 3.2, 3.4 BSI IT-Grundschutz-Kompendium: ISMS.1, ORP.1 ------ NIST SP800-53r5: PT-1, AC-1, AT-1, AU-1, CA-1, CM-1, CP-1, IA-1, IR-1, MA-1, MP-1, PE-1, PL-1, PM-1, PM-17, PM-18, PM-20, PS-1, RA-1, SA-1, SA-15, SC-1, SI-1, SR-1 | V5: Einleitung: Die von der Informationssicherheitsstrategie und vom Kontext der Organisation abgeleiteten Anforderungen führen zu Informationssicherheits-Leitlinien, die in einer mehrstufigen Dokumentenpyramide je nach Größe des Unternehmens abgebildet werden können. Der Kontext der Organisation ergibt sich unter anderem aus der Unternehmenskultur, den Kundenanforderungen oder gesetzlichen Bestimmungen. Eine übergeordnete Leitlinie ist üblicherweise das Hauptdokument, auf dessen Grundlage weitere Leitlinien und Regelungen abgeleitet werden. Begründung: Leitlinien und Regelungen bilden die Grundlage für gemeinsames Handeln, um die strategischen Unternehmensziele zu erreichen. Ohne zentrale Regelungen, die für relevante Personen sichtbar sind, kann es im Hinblick auf die Informationssicherheit zu Missverständnissen kommen und es können unterschiedliche Entscheidungen getroffen werden, die in der Folge zu unkalkulierbaren Risiken für die Informationssicherheit führen. Darüber hinaus bilden Regelungen die Grundlage für einen Vergleich der tatsächlichen Umsetzung mit den schriftlichen Anforderungen bei regelmäßigen Wirksamkeitsprüfungen und für die Feststellung von Verbesserungsmöglichkeiten. Basisinformation: Es ist wichtig, die Informationssicherheitsvorgaben bei Geschäftsprozessen zu berücksichtigen. Mit Vorgaben für die Informationssicherheit ist der Grad an Sicherheit gemeint, der den sicheren Umgang mit Informationen sicherstellt. Die Vorgaben können von außen in die Organisation eingetragen werden oder innerhalb der Organisation selbst entstehen. Die Vorgaben der einzelnen „Beteiligten“ müssen mit den Zielen der Organisation abgestimmt werden, und es muss eine Strategie festgelegt werden, um die Vorgaben und Ziele zu erreichen. Mitarbeiter finden in den Leitlinien auch detaillierte Erläuterungen der Folgen einer Nichteinhaltung von Leitlinien. Die Organisation untersucht von ihrem Standpunkt aus den Bedarf an Leitlinien zum Erreichen der Ziele und zum Betrieb eines ISMS und erstellt entsprechende Leitlinien. Da sich Rahmenbedingungen ändern können, ergibt es Sinn, die Leitlinien regelmäßig, z. B. jährlich, hinsichtlich ihrer Eignung und Richtigkeit zu überprüfen. Mitarbeiter müssen Zugang zu den Richtlinien haben. Ein zentraler Ort, wie z. B. das Intranet, wird empfohlen um sicherzustellen, dass stets auf die neueste Version einer Richtline zugegriffen werden kann. Diesbezüglich haben gedruckte Leitlinien beträchtliche Nachteile. Ein Geschäftspartner benötigt möglicherweise ebenfalls Zugang zu den Leitlinien, beispielsweise weil er im Rahmen des Geltungsbereiches des ISMS Personal zuweist oder entsendet. Der Bedarf an vertraglichen Vereinbarungen wird von der Organisation bewertet. „Sonstige relevante Sicherheitsrichtlinien“ bezeichnet alle sicherheitsrelevanten Richtlinien, die nicht Teil des ISMS sind und für die Informationssicherheit relevant sind. | Z5: - Welche Informationssicherheitsvorgaben wurden festgelegt? - Was sind die Leitlinien für die Informationssicherheit? - Wer gibt diese frei? - Sind die Anforderungen mit den Zielen der Organisation abgestimmt? - Was sind die Ziele der Organisation bezüglich des ISMS und wie sind diese zu erreichen? - Wer ist für die Umsetzung verantwortlich? - Welche Folgen hat die Nichteinhaltung der Leitlinien? - Wer überprüft die Leitlinien regelmäßig und wann? - Wie werden die Leitlinien den Mitarbeitern vermittelt?
A6: =IF(AND($B6<>"",$C$3="1",NOT(ISBLANK($C6))),"header",IF(AND($B6<>"",$C$3<>"1",NOT(ISBLANK($C6))),"blank",IF(AND($B6<>"",#REF!="01",NOT(ISBLANK(#REF!))),"header",IF(AND($B6<>"",#REF!<>"01",NOT(ISBLANK(#REF!))),"blank",IF(AND($B6<>"",#REF!<>"01",NOT(ISBLANK(#REF!))),"blank",IF(AND($C$3="1",ISBLANK($C6),ISBLANK($B6)),"blank","")))))) -> header | B6: 2 | C6: 1.2 | H6: Organisation der Informationssicherheit
A7: =IF(AND($B7<>"",$C$3="1",NOT(ISBLANK($C7))),"header",IF(AND($B7<>"",$C$3<>"1",NOT(ISBLANK($C7))),"blank",IF(AND($B7<>"",#REF!="01",NOT(ISBLANK(#REF!))),"header",IF(AND($B7<>"",#REF!<>"01",NOT(ISBLANK(#REF!))),"blank",IF(AND($B7<>"",#REF!<>"01",NOT(ISBLANK(#REF!))),"blank",IF(AND($C$3="1",ISBLANK($C7),ISBLANK($B7)),"blank","")))))) -> #REF! | C7: 1.2.1 | H7: Inwieweit wird in der Organisation Informationssicherheit gemanagt? | I7: Nur wenn Informationssicherheit in den strategischen Zielen einer Organisation verankert ist, kann Informationssicherheit nachhaltig in einer Organisation umgesetzt werden. Das Informationssicherheitsmanagementsystem (ISMS) ist ein Steuerungsinstrument für die Organisationsleitung, mit dem diese sicherstellt, dass Informationssicherheit nicht nur ein Ergebnis von Zufällen und individuellem Engagement, sondern von nachhaltigem Management ist. | J7: + Der Geltungsbereich (Scope) des ISMS (die vom ISMS gemanagte Organisation) ist festgelegt. + Die Anforderungen der Organisation an das ISMS sind ermittelt. + Die Organisationsleitung hat das ISMS beauftragt und freigegeben. + Das ISMS stellt der Organisationsleitung geeignete Kontroll- und Steuerungsmittel zur Verfügung (z. B. Management-Review). + Anwendbare Kontrollen wurden ermittelt (z. B. ISO 27001 Statement of Applicability, ausgefüllter VDA ISA Katalog). + Die Wirksamkeit des ISMS wird regelmäßig durch das Management überprüft. | K7: Keine | L7: Keine | M7: Keine | N7: + Das Managementsystem ist von einer Stelle genehmigt, die über die erforderliche Befugnis für den gesamten Bewertungsumfang (d. h. alle Standorte innerhalb des Assessment Scopes) verfügt. | O7: ISO 27001:2022: 4, 9.3 ------ NIST CSF 2.0: GV.OC-01, GV.OC-02, GV.OV-01, GV.OV-02, GV.OV-03, GV.RM-01, ID.IM-01, ID.IM-03, ID.IM-04 | P7: BSI-Standard 200-2: 3.1, 3.2.1, 3.2.2, 3.2.3, 3.3.4, 3.4.4, 10.1, 10.2 BSI IT-Grundschutz-Kompendium: ISMS.1, ORP.1 ------ NIST SP800-53r5: PT-1, PL-7, PL-8, PL-9, PM-3, PM-23, PM-24, PM-26, PM-27, SA-2
A8: =IF(AND($B8<>"",$C$3="1",NOT(ISBLANK($C8))),"header",IF(AND($B8<>"",$C$3<>"1",NOT(ISBLANK($C8))),"blank",IF(AND($B8<>"",#REF!="01",NOT(ISBLANK(#REF!))),"header",IF(AND($B8<>"",#REF!<>"01",NOT(ISBLANK(#REF!))),"blank",IF(AND($B8<>"",#REF!<>"01",NOT(ISBLANK(#REF!))),"blank",IF(AND($C$3="1",ISBLANK($C8),ISBLANK($B8)),"blank","")))))) -> #REF! | C8: 1.2.2 | H8: Inwieweit sind die Verantwortlichkeiten für Informationssicherheit organisiert? | I8: Ein erfolgreiches ISMS benötigt klare Verantwortlichkeiten in der Organisation. | J8: + Die Zuständigkeiten für die Informationssicherheit innerhalb der Organisation sind definiert, dokumentiert und zugewiesen. + Die zuständigen Mitarbeiter sind benannt, qualifiziert und für ihre Aufgaben befugt. + Die erforderlichen Ressourcen stehen zur Verfügung. + Die Ansprechpartner sind innerhalb der Organisation und bei den relevanten Geschäftspartnern bekannt. | K8: + Es liegt eine Definition und Dokumentation einer angemessenen Informationssicherheitsstruktur innerhalb der Organisation vor. + Sicherheitsrelevante Rollen, die nicht Teil des ISMS sind und für die Informationssicherheit von Bedeutung sind, werden berücksichtigt. | L8: + Es sollte eine angemessene organisatorische Trennung der Zuständigkeiten etabliert sein, um Interessenkonflikte zu vermeiden (Funktionstrennung). (C, I, A) | M8: Keine | N8: + Es gibt eine benannte Person, die die Gesamtverantwortung für das Managementsystem trägt und erreichbar ist. | O8: ISO 27001:2022: A.5.2, A.5.3 ------ ISA/IEC 62443-2-1: 6.2.3, 6.2.5 ------ NIST CSF 2.0: GV.RR-02, GV.RR-03 | P8: BSI-Standard 200-2: 4 BSI IT-Grundschutz-Kompendium: ISMS.1, ORP.1 ------ NIST SP800-53r5: CP-2, AC-5, PL-7, PM-2, PM-10, PM-19, PM-29, PT-2 | V8: Basisinformation: „Weitere relevante Sicherheitsrollen“ bezeichnet alle sicherheitsrelevanten Rollen, die nicht Teil des ISMS sind aber für die Informationssicherheit relevant sind.
A9: =IF(AND($B9<>"",$C$3="1",NOT(ISBLANK($C9))),"header",IF(AND($B9<>"",$C$3<>"1",NOT(ISBLANK($C9))),"blank",IF(AND($B9<>"",#REF!="01",NOT(ISBLANK(#REF!))),"header",IF(AND($B9<>"",#REF!<>"01",NOT(ISBLANK(#REF!))),"blank",IF(AND($B9<>"",#REF!<>"01",NOT(ISBLANK(#REF!))),"blank",IF(AND($C$3="1",ISBLANK($C9),ISBLANK($B9)),"blank","")))))) -> #REF! | C9: 1.2.3 | H9: Inwieweit werden Anforderungen an die Informationssicherheit in Projekten berücksichtigt? | I9: Bei der Projektumsetzung ist es wichtig, die Anforderungen an die Informationssicherheit zu berücksichtigen. Dies gilt für alle Projekte innerhalb der Organisation, unabhängig von ihrer Art. Durch eine geeignete Verankerung des Informationssicherheitsprozesses in den Projektmanagementverfahren der Organisation wird sichergestellt, dass keine Anforderungen übersehen werden. | J9: + Projekte sind unter Berücksichtigung der Anforderungen an die Informationssicherheit klassifiziert. | K9: + Die Vorgehensweise und Kriterien zur Klassifizierung von Projekten sind dokumentiert. + In einer frühen Phase des Projektes wird eine Risikobewertung auf Basis der definierten Vorgehensweise durchgeführt und bei Änderungen des Projektes wiederholt. + Für identifizierte Informationssicherheitsrisiken werden Maßnahmen abgeleitet und im Projekt berücksichtigt. | L9: + Abgeleitete Maßnahmen werden im Verlauf des Projektes regelmäßig überprüft und bei Änderungen der Bewertungskriterien neu bewertet. (C, I, A) | M9: Keine | N9: Keine | O9: ISO 27001:2022: A.5.8 ------ NIST CSF 2.0: GV.OC-04 | P9: BSI-Standard 200-2: 4.1, 4.6, 4.8 ------ NIST SP800-53r5: PT-1, PL-2, PM-11 | W9: Projekte lassen sich wie folgt klassifizieren: - CIAA (Vertraulichkeit, Integrität, Verfügbarkeit, Authentizität) - CIA (Vertraulichkeit, Integrität, Verfügbarkeit) | Z9: - Welche Projekte wurden in Bezug auf Informationssicherheit durchgeführt? - Welche Risiken wurden in diesem Zusammenhang für das einzelne Projekt identifiziert? - Welche Kriterien werden für die Bewertung des Risikos von Projekten angewendet? - Welche Maßnahmen wurden abgeleitet? - Wurden die Maßnahmen dokumentiert? - Wurde das Risiko während des Projektverlaufs auf Änderungen überprüft?
A10: =IF(AND($B10<>"",$C$3="1",NOT(ISBLANK($C10))),"header",IF(AND($B10<>"",$C$3<>"1",NOT(ISBLANK($C10))),"blank",IF(AND($B10<>"",#REF!="01",NOT(ISBLANK(#REF!))),"header",IF(AND($B10<>"",#REF!<>"01",NOT(ISBLANK(#REF!))),"blank",IF(AND($B10<>"",#REF!<>"01",NOT(ISBLANK(#REF!))),"blank",IF(AND($C$3="1",ISBLANK($C10),ISBLANK($B10)),"blank","")))))) -> header | B10: 2 | C10: 1.3 | H10: Asset-Management
A11: =IF(AND($B11<>"",$C$3="1",NOT(ISBLANK($C11))),"header",IF(AND($B11<>"",$C$3<>"1",NOT(ISBLANK($C11))),"blank",IF(AND($B11<>"",#REF!="01",NOT(ISBLANK(#REF!))),"header",IF(AND($B11<>"",#REF!<>"01",NOT(ISBLANK(#REF!))),"blank",IF(AND($B11<>"",#REF!<>"01",NOT(ISBLANK(#REF!))),"blank",IF(AND($C$3="1",ISBLANK($C11),ISBLANK($B11)),"blank","")))))) -> #REF! | C11: 1.3.1 | H11: Inwieweit werden Informationswerte (Assets) identifiziert und erfasst? | I11: Für jede Organisation ist es wichtig zu wissen, welche Informationen kritisch für das Geschäft sind (z. B. Geschäftsgeheimisse, kritische Geschäftsprozesse, Know-How, Patente). Diese werden als Informationswerte bezeichnet. Um diese Informationen nachhaltig zu schützen ist es wesentlich, über ein adäquates Verzeichnis von Informationswerten und dazugehörigen unterstützenden Werten (Supporting Assets) (z. B. IT-Systeme, Services/IT-Dienste, Mitarbeiter) zu verfügen. | J11: + Informationswerte und andere Assets, deren Sicherheit für die Organisation relevant ist, sind identifiziert und erfasst + Die unterstützenden Werte (Supporting Assets), die die Informationswerte verarbeiten, sind identifiziert und erfasst. | K11: + Ein Verzeichnis der relevanten Informationswerte existiert: Die folgenden Aspekte werden berücksichtigt: - Jedem relevanten Informationswert sind die entsprechenden unterstützenden Werte (Supporting Assets) zugeordnet, - Jedem Informationswert ist ein Verantwortlicher zugeordnet, - Eine regelmäßige Überprüfung des Verzeichnisses findet statt. | L11: Keine | M11: Keine | N11: Keine | O11: ISO27001:2022: A.5.9 ------ ISA/IEC 62443-2-1: 7.2.1 ------ NIST CSF 2.0: ID.AM-01, ID.AM-07 | P11: BSI-Standard 200-2: 8.1 BSI IT-Grundschutz-Kompendium: ISMS.1, ORP.1, CON.9 ------ NIST SP800-53r5: CP-2, PT-1, CM-8, MA-2, MP-7, PE-16, PE-20, PE-22, PM-5, SA-5, SR-4 | V11: Für jede Organisation ist es wichtig zu wissen, welche Informationen für sie von Wert sind (z. B. Geschäftsgeheimnisse, kritische Geschäftsprozesse, Know-how, Patente). Diese werden als Informationsvermögen (auch als Primärvermögen bezeichnet) bezeichnet. Der Wert von Informationen ergibt sich unter anderem aus dem wirtschaftlichen Nutzen oder der rechtlichen Notwendigkeit (z. B. durch Gesetze, Kundenverträge), die die Informationen in einer bestimmten Situation schaffen, sowie aus den Kosten, die dafür anfallen. Darüber hinaus erstreckt sich die Notwendigkeit, diese Informationsressourcen zu schützen, auch auf damit verbundene Informationsträger (auch als sekundäre oder unterstützende Ressourcen bezeichnet) (z. B. IT-Systeme, Dienste/IT-Dienste, Mitarbeiter). (Siehe auch „Klassifizierung von Informationen“ in Kontrollmaßnahme 1.3.2). Begründung: Eine Bestandsaufnahme der Informationsressourcen und der daraus abgeleiteten Informationsträger stellt sicher, dass die Organisation einen Überblick über ihre Informationsressourcen hat und den Schutzbedarf hinsichtlich Vertraulichkeit, Integrität und Verfügbarkeit ermitteln kann. Auf dieser Grundlage kann eine Organisation grundlegende Schutzmaßnahmen festlegen, um sich selbst und die Informationsressourcen bzw. -träger zu schützen. Grundlegende Anforderungen: Informationsressourcen, Informationsträger und Schutzanforderungen ändern sich regelmäßig (z. B. bei Änderungen in der Organisation, der IT-Landschaft oder den Prozessen). Eine Aufgabe der Organisation besteht darin, das Verzeichnis der identifizierten Informationsressourcen und Informationsträger auf dem neuesten Stand zu halten. Ein zentraler Prozess ist hilfreich, um eine vollständige Einleitung: Für jede Organisation ist es wichtig, die Informationen zu kennen, die einen Wert für sie darstellen (z. B. Geschäftsgeheimisse, kritische Geschäftsprozesse, Know-How, Patente). Diese werden als Informationswerte (auch primäre Assets) bezeichnet. Der Wert von Informationen ergibt sich unter anderem aus dem wirtschaftlichen Nutzen, welchen die Informationen in einer bestimmten Situation erbringen, oder aus der gesetzlichen Notwendigkeit (z. B. durch Gesetze, Kundenverträge), sowie aus den anfallenden Kosten. Darüber hinaus wird die Notwendigkeit, diese Informationswerte zu schützen, von Informationsträgern übernommen (auch als sekundäre Assets bezeichnet) (z. B. IT-Systeme, IT-Dienste, Mitarbeiter), die mit den Informationswerten verbunden sind. (Siehe auch Klassifizierung von Informationen in Maßnahme 1.3.2) Begründung: Ein Verzeichnis der Informationswerte und der abgeleiteten Informationsträger stellt sicher, dass die Organisation einen Überblick über ihre Informationswerte hat und den Schutzbedarf hinsichtlich Vertraulichkeit, Integrität und Verfügbarkeit ermitteln kann. Auf dieser Grundlage kann eine Organisation grundlegende Schutzmaßnahmen festlegen, um sich selbst und die Informationswerte/-träger zu schützen. Grundlegende Anforderungen: Informationswerte, Informationsträger und Schutzanforderungen ändern sich regelmäßig (z. B. bei Änderungen der Organisation, der IT-Landschaft oder von Prozessen). Eine Aufgabe der Organisation besteht darin, identifizierte Informationswerte und Informationsträger auf dem aktuellen Stand zu halten. Ein zentraler Prozess ist hilfreich, um einen vollständigen Überblick über diese Informationswerte und -träger während des gesamten Lebenszyklus von der Erzeugung/Inbetriebnahme, über die Nutzung bis zur Vernichtung/Löschung zu erhalten. Übersichten über diese Informationswerte und Informationsträger sowie die Schutzanforderungen sind ein unterstützendes Instrument, um einen umfassenden Überblick zu erhalten und aufrechtzuerhalten. Für eine umfassende Analyse dieser Informationswerte ist es hilfreich, die wesentlichen Geschäftsprozesse und die in diesem Prozess verarbeiteten Informationswerte zu betrachten, da die Schutzanforderungen auch vom Prozess abhängen. In einem weiteren Schritt sind weitere Informationen relevant, deren Verlust oder Offenlegung zu finanziellem Schaden führen oder sich rufschädigend auswirken würde (z. B. Patente, geschäftliche Unterlagen, Kundenkarteien, Kundenverträge, Personalakten usw.). Assets, deren Sicherheit von Bedeutung ist, sind alle Assets, bei denen sich Informations- oder Cybersicherheitsbedrohungen maßgeblich auf die Organisation oder deren Geschäft auswirken. Dies schließt IT-Systeme, IT-Dienste, OT-Systeme, IOT-Geräte ein. | W11: Es ist nicht erforderlich, alle Informationswerte einzeln aufzuführen; stattdessen können Kategorien gebildet werden (z. B. Stammdaten der Mitarbeiter — verantwortliche Stelle: Personalabteilung). | Z11: - Welche Kernprozesse sind erforderlich, um die Aufgabe des Unternehmens auszuführen? - Welche sensiblen Informationen erhalten Sie von ihren Kunden? - Welche Informationen sind in Ihrem Unternehmen vorhanden, die schützenswert sind? - Wie wird der Prozess der Identifizierung, Erfassung und Aufrechterhaltung von Informationswerten durchgeführt? - Wie werden die Verantwortlichkeiten für Informationswerte bestimmt? - Wie wird der Umgang mit Informationswerten beschrieben? - Wie werden die Verantwortlichkeiten für die Bestimmung von Unternehmenswerten in der Organisation dokumentiert? - Welche Informationsverzeichnisse werden zur Dokumentation der Informationswerte verwendet? - Wie wird sichergestellt und wer sorgt dafür, dass die Verzeichnisse auf dem aktuellen Stand sind? - Wie wird überprüft, dass die Vorschriften auf dem aktuellen Stand sind? - Welche Nachweise (z. B. Auswirkungsanalysen usw.) stehen zur Verfügung? - Wie werden die verwendeten primären und unterstützenden Informationswerte ermittelt, klassifiziert und dokumentiert? - Wie und wann werden die Verzeichnisse auf Vollständigkeit, Aktualität und Rückführbarkeit überprüft? - Wie werden die am wenigsten kritischen Informationswerte beurteilt und dokumentiert?
A12: =IF(AND($B12<>"",$C$3="1",NOT(ISBLANK($C12))),"header",IF(AND($B12<>"",$C$3<>"1",NOT(ISBLANK($C12))),"blank",IF(AND($B12<>"",#REF!="01",NOT(ISBLANK(#REF!))),"header",IF(AND($B12<>"",#REF!<>"01",NOT(ISBLANK(#REF!))),"blank",IF(AND($B12<>"",#REF!<>"01",NOT(ISBLANK(#REF!))),"blank",IF(AND($C$3="1",ISBLANK($C12),ISBLANK($B12)),"blank","")))))) -> #REF! | C12: 1.3.2 | H12: Inwieweit werden Informationswerte hinsichtlich ihres Schutzbedarfs klassifiziert und gemanagt? | I12: Das Ziel einer Klassifizierung von Informationswerten ist die konsistente Ermittlung ihres Schutzbedarfs. Sobald eine Organisation den Wert einer Information und deren Schutzbedarf bestimmt hat, kann diese entsprechend der Schutzziele (Vertraulichkeit, Integrität und Verfügbarkeit) klassifiziert werden. Dies ermöglicht der Organisation die Umsetzung von angemessenen Schutzmaßnahmen. | J12: + Ein einheitliches Schema zur Klassifizierung von Informationswerten hinsichtlich des Schutzziels „Vertraulichkeit“ ist verfügbar. + Es wird eine Beurteilung der identifizierten Informationswerte entsprechend den definierten Kriterien vorgenommen und dem vorhandenen Klassifizierungsschema zugeordnet. + Vorgaben für den Umgang mit Informationsträgern (z. B. Kennzeichnung, korrekte Handhabung, Transport, Speicherung, Rückgabe, Löschung/Entsorgung) in Abhängigkeit von der Klassifizierung der Informationswerte sind vorhanden und werden umgesetzt. | K12: + Die Schutzziele „Integrität“ und „Verfügbarkeit“ werden berücksichtigt. | L12: Keine | M12: Keine | N12: Keine | O12: ISO 27001:2022: A.5.10, A.5.12, A.5.13, A.8.10 ------ ISA/IEC 62443-2-1: 10.2.1, 10.2.2, 13.3.4 ------ NIST CSF 2.0: ID.AM-05, GV.OC-02, PR.PS-03, PR.DS-01, PR.DS-02, PR.DS-10 | P12: BSI-Standard 200-2: 8.1 BSI IT-Grundschutz-Kompendium: ISMS.1, ORP.1, CON.9 ------ NIST SP800-53r5: CP-2, PT-1, MA-2, MA-3, MA-4, MA-6, PM-7, PM-32, RA-2, RA-9, SA-23, SC-3 | V12: Einleitung: Das Ziel der Klassifizierung von Informationswerten ist eine beständige Ermittlung des Schutzbedarfs. Dies ermöglicht es der Organisation, angemessene Sicherheitsmaßnahmen zu normen und anzuwenden. Die Klassifzierung von Informationen beruht darauf, dass die möglichen Informationswerte und Informationsträger im Voraus ermittelt werden, was ausführlicher in Maßnahme 1.3.1 beschrieben wird. Begründung: Durch die eindeutige Klassifizierung von Informationswerten und die Beschreibung von genormten und festgelegten Schutzmaßnahmen für den Umgang mit Informationen verringert sich der Umfang der Handhabung von Informationswerten beträchtlich. Auf diese Weise unterstützen konkrete Leitlinien sowohl die Eigentümer, Nutzer als auch zusätzliche Abteilungen wie z. B. die IT dabei, angemessen mit den Informationswerten umzugehen. | Z12: - Welche Schutzniveaus sind im Unternehmen definiert, und welche Kriterien werden angewendet, um diese zu klassifizieren? - Welche Maßnahmen sind für jedes Schutzniveau definiert? - Wie kann die Klassifizierung der Informationen von Mitarbeitern erkannt werden? - Wie werden Informationen klassifiziert? - Welche Vorschriften werden für den Schutz von Informationen abgeleitet (Speichermedien/Dokumente)? - Inwieweit wissen Mitarbeiter, wie Informationen zu klassifizieren sind? - Welche Werkzeuge gibt es für die Einstufung in die Klassifikation? - Wie werden Informationsobjekte gekennzeichnet? - Wer ist für die Einstufung in die Klassifikation verantwortlich? - Wie werden nicht gekennzeichnete Dokumente gehandhabt? - Welche Maßnahmen müssen für jede Schutzanforderung in verschiedenen Situationen ergriffen werden (z. B. Übertragung, Vernichtung, Aufbewahrung, Transport, Speicherung)? - Welche Kontaktkanäle stehen zur Verfügung, damit Mitarbeiter Unterstützung bei der Klassifizierung erhalten können?
A13: =IF(AND($B13<>"",$C$3="1",NOT(ISBLANK($C13))),"header",IF(AND($B13<>"",$C$3<>"1",NOT(ISBLANK($C13))),"blank",IF(AND($B13<>"",#REF!="01",NOT(ISBLANK(#REF!))),"header",IF(AND($B13<>"",#REF!<>"01",NOT(ISBLANK(#REF!))),"blank",IF(AND($B13<>"",#REF!<>"01",NOT(ISBLANK(#REF!))),"blank",IF(AND($C$3="1",ISBLANK($C13),ISBLANK($B13)),"blank","")))))) -> #REF! | C13: 1.3.3 | H13: Inwieweit wird sichergestellt, dass nur evaluierte und freigegebene organisationsfremde IT-Dienste zum Verarbeiten von Informationswerten der Organisation eingesetzt werden? | I13: Die Nutzung externer IT-Dienste ohne angemessene Berücksichtigung der Informationssicherheit setzt eine Organisation dem Risiko von Cybervorfällen aus. Dies ist besonders häufig bei IT-Diensten der Fall, die online zu geringen Kosten oder kostenfrei verfügbar sind. Hierbei besteht das Risiko, dass der Nutzer bei der Beschaffung dieser IT-Dienste Freigabeprozesse umgeht. | J13: + Es werden keine organisationsfremden IT-Dienste ohne explizite Bewertung und Umsetzung der Informationssicherheitsanforderungen eingesetzt. Die folgenden Aspekte werden berücksichtigt: - Eine Risikobewertung der organisationsfremden IT-Dienste liegt vor, - Gesetzliche, regulatorische und vertragliche Anforderungen sind berücksichtigt. + Die organisationsfremden IT-Dienste wurden auf den Schutzbedarf der verarbeiteten Informationswerte abgestimmt. | K13: + Anforderungen bezüglich der Beschaffung, Inbetriebnahme und Freigabe im Zusammenhang mit der Nutzung von organisationsfremden IT-Diensten sind ermittelt und erfüllt. + Ein Verfahren zur Freigabe unter Berücksichtigung des Schutzbedarfs ist etabliert. + Organisationsfremde IT-Dienste und deren Freigabe sind dokumentiert. + Es wird regelmäßig überprüft, dass nur freigegebene organisationsfremde IT-Dienste eingesetzt werden. | L13: Keine | M13: Keine | N13: Keine | O13: ISO 27001:2022: A.5.23 ISO 27017: 14.1.1 ----- NIST CSF 2.0: ID.RA-10, ID.AM-02, ID.AM-04, GV.SC-07, GV.SC-09, GV.SC-10, PR.PS-02, PR.PS-05 | P13: BSI IT-Grundschutz-Kompendium: OPS.2.1, OPS.2.2, OPS.3.1, CON.9, CON.2, ORP.5 ------ NIST SP800-53r5: CM-5, CM-6, CM-7, MA-7, SA-22
